BEGIN:VCALENDAR
VERSION:2.0
PRODID:-//CSUN News &amp; Events - ECPv6.11.2//NONSGML v1.0//EN
CALSCALE:GREGORIAN
METHOD:PUBLISH
X-ORIGINAL-URL:https://news.csun.edu
X-WR-CALDESC:Events for CSUN News &amp; Events
REFRESH-INTERVAL;VALUE=DURATION:PT1H
X-Robots-Tag:noindex
X-PUBLISHED-TTL:PT1H
BEGIN:VTIMEZONE
TZID:America/Los_Angeles
BEGIN:DAYLIGHT
TZOFFSETFROM:-0800
TZOFFSETTO:-0700
TZNAME:PDT
DTSTART:20240310T100000
END:DAYLIGHT
BEGIN:STANDARD
TZOFFSETFROM:-0700
TZOFFSETTO:-0800
TZNAME:PST
DTSTART:20241103T090000
END:STANDARD
BEGIN:DAYLIGHT
TZOFFSETFROM:-0800
TZOFFSETTO:-0700
TZNAME:PDT
DTSTART:20250309T100000
END:DAYLIGHT
BEGIN:STANDARD
TZOFFSETFROM:-0700
TZOFFSETTO:-0800
TZNAME:PST
DTSTART:20251102T090000
END:STANDARD
BEGIN:DAYLIGHT
TZOFFSETFROM:-0800
TZOFFSETTO:-0700
TZNAME:PDT
DTSTART:20260308T100000
END:DAYLIGHT
BEGIN:STANDARD
TZOFFSETFROM:-0700
TZOFFSETTO:-0800
TZNAME:PST
DTSTART:20261101T090000
END:STANDARD
END:VTIMEZONE
BEGIN:VEVENT
DTSTART;TZID=America/Los_Angeles:20260310T100000
DTEND;TZID=America/Los_Angeles:20260310T110000
DTSTAMP:20260423T014141
CREATED:20260217T151024Z
LAST-MODIFIED:20260217T151024Z
UID:10010731-1773136800-1773140400@news.csun.edu
SUMMARY:Lockdown Browser (in person)
DESCRIPTION:Hosted by Charlie Mahoney  \nIN PERSON Workshop UL 30   \nThis in-person workshop helps faculty use LockDown Browser to secure quizzes and exams in Canvas\, while also learning how to guide students through downloading\, installing\, and testing the tool. We’ll walk through enabling LockDown in your course\, explore Respondus Monitor options\, and troubleshoot common student issues. You’ll leave with a quiz-ready setup\, student instructions\, and FTC support resources.  \n**If you require an ASL interpreter\, please contact your department.
URL:https://news.csun.edu/event/lockdown-browser-in-person-2/
LOCATION:University Library Room 30
CATEGORIES:Faculty Development,Information Technology,Lockdown Browser,Technology,Workshops
ATTACH;FMTTYPE=image/jpeg:https://news.csun.edu/wp-content/uploads/2026/01/respondus.jpeg
END:VEVENT
BEGIN:VEVENT
DTSTART;TZID=America/Los_Angeles:20260224T143000
DTEND;TZID=America/Los_Angeles:20260224T153000
DTSTAMP:20260423T014141
CREATED:20260121T192544Z
LAST-MODIFIED:20260121T192544Z
UID:10010233-1771943400-1771947000@news.csun.edu
SUMMARY:Lockdown Browser (in person)
DESCRIPTION:Hosted by Charlie Mahoney  \nIN PERSON Workshop UL 30   \nThis in-person workshop helps faculty use LockDown Browser to secure quizzes and exams in Canvas\, while also learning how to guide students through downloading\, installing\, and testing the tool. We’ll walk through enabling LockDown in your course\, explore Respondus Monitor options\, and troubleshoot common student issues. You’ll leave with a quiz-ready setup\, student instructions\, and FTC support resources.  \n**If you require an ASL interpreter\, please contact your department.
URL:https://news.csun.edu/event/lockdown-browser-in-person/
LOCATION:University Library Room 30
CATEGORIES:Faculty Development,Information Technology,Lockdown Browser,Technology,Workshops
ATTACH;FMTTYPE=image/jpeg:https://news.csun.edu/wp-content/uploads/2026/01/respondus.jpeg
END:VEVENT
BEGIN:VEVENT
DTSTART;TZID=America/Los_Angeles:20260206T143000
DTEND;TZID=America/Los_Angeles:20260206T153000
DTSTAMP:20260423T014141
CREATED:20260121T150013Z
LAST-MODIFIED:20260121T151730Z
UID:10010215-1770388200-1770391800@news.csun.edu
SUMMARY:AI Prompt Engineering
DESCRIPTION:Hosted by Charlie Mahoney \n\nLearn how to craft effective prompts that produce clearer\, more accurate\, and more useful AI responses. This session covers prompt patterns\, refinement techniques\, common pitfalls\, and discipline-specific examples to help you unlock the full potential of tools like ChatGPT in teaching\, learning\, and administrative tasks.\n \nJoin the event on Zoom\n**If you require an ASL interpreter\, please contact your department. \n***For Zoom captions – please pre-enable automated captions/transcript on the Zoom website (not the app) before the meeting begins as it cannot be turned on while the meeting is running. If you have any questions\, contact ftc@csun.edu
URL:https://news.csun.edu/event/ai-prompt-engineering/
LOCATION:University Library Room 30
CATEGORIES:Artificial Intelligence (AI),Information Technology
ATTACH;FMTTYPE=image/png:https://news.csun.edu/wp-content/uploads/2024/10/AI-Prompt-Workshop-Event-Image-600px-e1730311085948.png
END:VEVENT
BEGIN:VEVENT
DTSTART;TZID=America/Los_Angeles:20250218T130000
DTEND;TZID=America/Los_Angeles:20250218T140000
DTSTAMP:20260423T014141
CREATED:20250203T231443Z
LAST-MODIFIED:20250203T231443Z
UID:10005250-1739883600-1739887200@news.csun.edu
SUMMARY:AI Prompt Engineering Essentials
DESCRIPTION:Register for this event\n\n\nThis hands-on workshop focuses on Prompt Engineering for Generative AI\, equipping participants with the essential skills to craft effective prompts from AI models like ChatGPT. Attendees will learn the significance of prompt engineering in enhancing AI interactions and explore the CARE system (Context\, Action\, Results\, Example) as a framework for creating effective prompts. Through collaborative exercises\, faculty will gain practical experience in generating AI prompts tailored to their disciplines. \nTopics covered include: \n\nImportance of Prompt Engineering: Understanding how well-crafted prompts influence AI responses and outcomes.\nThe CARE System: Introduction to the Context\, Action\, Results\, Example framework for effective prompt creation.\nHands-On Exercises: Practical activities using ChatGPT to create lesson plans\, assignments\, and active learning activities.\n\nYour Zoom link will be in the Additional Information section of the confirmation email you receive from Eventbrite when you register\, and in the confirmation email from Eventbrite you will receive one hour prior to the workshop. If you have any questions\, contact ftc@csun.edu \n**If you require an ASL interpreter\, please contact your department. \n***For Zoom captions – please pre-enable automated captions/transcript on the Zoom website (not the app) before the meeting begins as it cannot be turned on while the meeting is running. If you have any questions\, contact ftc@csun.edu
URL:https://news.csun.edu/event/ai-prompt-engineering-essentials-4/
LOCATION:University Library Room 30
CATEGORIES:Artificial Intelligence (AI),Information Technology
ATTACH;FMTTYPE=image/png:https://news.csun.edu/wp-content/uploads/2024/10/AI-Prompt-Workshop-Event-Image-600px-e1730311085948.png
END:VEVENT
BEGIN:VEVENT
DTSTART;TZID=America/Los_Angeles:20241204T130000
DTEND;TZID=America/Los_Angeles:20241204T140000
DTSTAMP:20260423T014141
CREATED:20241119T191108Z
LAST-MODIFIED:20241119T191108Z
UID:10004649-1733317200-1733320800@news.csun.edu
SUMMARY:AI Prompt Engineering Essentials
DESCRIPTION:Register for this event\n\n\nThis in-person (UL30) and online hands-on workshop focuses on Prompt Engineering for Generative AI\, equipping participants with the essential skills to craft effective prompts from AI models like ChatGPT. Attendees will learn the significance of prompt engineering in enhancing AI interactions and explore the CARE system (Context\, Action\, Results\, Example) as a framework for creating effective prompts. Through collaborative exercises\, faculty will gain practical experience in generating AI prompts tailored to their disciplines. \nTopics covered include: \n\nImportance of Prompt Engineering: Understanding how well-crafted prompts influence AI responses and outcomes.\nThe CARE System: Introduction to the Context\, Action\, Results\, Example framework for effective prompt creation.\nHands-On Exercises: Practical activities using ChatGPT to create lesson plans\, assignments\, and active learning activities.\n\nYour Zoom link will be in the Additional Information section of the confirmation email you receive from Eventbrite when you register\, and in the confirmation email from Eventbrite you will receive one hour prior to the workshop. If you have any questions\, contact ftc@csun.edu \n**If you require an ASL interpreter\, please contact your department. \n***For Zoom captions – please pre-enable automated captions/transcript on the Zoom website (not the app) before the meeting begins as it cannot be turned on while the meeting is running. If you have any questions\, contact ftc@csun.edu
URL:https://news.csun.edu/event/ai-prompt-engineering-essentials-3/
LOCATION:University Library Room 30
CATEGORIES:Artificial Intelligence (AI),Information Technology
ATTACH;FMTTYPE=image/png:https://news.csun.edu/wp-content/uploads/2024/10/AI-Prompt-Workshop-Event-Image-600px-e1730311085948.png
END:VEVENT
BEGIN:VEVENT
DTSTART;TZID=America/Los_Angeles:20241106T130000
DTEND;TZID=America/Los_Angeles:20241106T140000
DTSTAMP:20260423T014141
CREATED:20241021T193811Z
LAST-MODIFIED:20241105T223946Z
UID:10004490-1730898000-1730901600@news.csun.edu
SUMMARY:AI Prompt Engineering Essentials
DESCRIPTION:Register for this event\n\n\nThis in-person (UL30) and online hands-on workshop focuses on Prompt Engineering for Generative AI\, equipping participants with the essential skills to craft effective prompts from AI models like ChatGPT. Attendees will learn the significance of prompt engineering in enhancing AI interactions and explore the CARE system (Context\, Action\, Results\, Example) as a framework for creating effective prompts. Through collaborative exercises\, faculty will gain practical experience in generating AI prompts tailored to their disciplines. \nTopics covered include: \n\nImportance of Prompt Engineering: Understanding how well-crafted prompts influence AI responses and outcomes.\nThe CARE System: Introduction to the Context\, Action\, Results\, Example framework for effective prompt creation.\nHands-On Exercises: Practical activities using ChatGPT to create lesson plans\, assignments\, and active learning activities.\n\nYour Zoom link will be in the Additional Information section of the confirmation email you receive from Eventbrite when you register\, and in the confirmation email from Eventbrite you will receive one hour prior to the workshop. If you have any questions\, contact ftc@csun.edu \n**If you require an ASL interpreter\, please contact your department. \n***For Zoom captions – please pre-enable automated captions/transcript on the Zoom website (not the app) before the meeting begins as it cannot be turned on while the meeting is running. If you have any questions\, contact ftc@csun.edu
URL:https://news.csun.edu/event/ai-prompt-engineering-essentials-2/
LOCATION:University Library Room 30
CATEGORIES:Artificial Intelligence (AI),Information Technology
ATTACH;FMTTYPE=image/png:https://news.csun.edu/wp-content/uploads/2024/10/AI-Prompt-Workshop-Event-Image-600px-e1730311085948.png
END:VEVENT
BEGIN:VEVENT
DTSTART;TZID=America/Los_Angeles:20241030T140000
DTEND;TZID=America/Los_Angeles:20241030T150000
DTSTAMP:20260423T014141
CREATED:20240919T170850Z
LAST-MODIFIED:20240919T170850Z
UID:10003853-1730296800-1730300400@news.csun.edu
SUMMARY:Video Editing with Ease\, An Intro to Camtasia
DESCRIPTION:Register for this event\n\n\nThis workshop\, offered in person at the Faculty Technology Lab (UL30)\, will bring guidance to faculty with little to no video editing experience up to pace with Camtasia\, a video editing software aimed at instructors\, to enhance their courses’ instructional video content. \nTopics include: \n\nDownloading and installing Camtasia\nUsing the Camtasia recorder for Screen capture\, audio\, and Video\nBasic navigation and editing tools\nImporting and exporting video content
URL:https://news.csun.edu/event/video-editing-with-ease-an-intro-to-camtasia/
LOCATION:University Library Room 30
CATEGORIES:Information Technology,Learning Technologies
END:VEVENT
BEGIN:VEVENT
DTSTART;TZID=America/Los_Angeles:20241028T100000
DTEND;TZID=America/Los_Angeles:20241028T110000
DTSTAMP:20260423T014141
CREATED:20240919T170720Z
LAST-MODIFIED:20240919T170720Z
UID:10003851-1730109600-1730113200@news.csun.edu
SUMMARY:Getting Started\, Creating Course Videos in Panopto
DESCRIPTION:Register for this event\n\n\nLearn how to start recording your own instructional video content for your Canvas courses in Panopto! Whether it’s simply recording class lectures\, lessons\, activities\, or demonstrations\, our lecture capture team can guide you to make Panopto your primary instructional video platform for your course content. \nOverview of What will be Demonstrated: \n\nSigning in to Panopto with CSUN Credentials\nStart recording right away in browser or on the desktop app\nNavigating Panopto\, the video viewer\, and the “My Folder” file system\nShowing off Panopto’s simple yet versatile video editor and its accessible functions\n\nThis workshop is offered in-person at the Faculty Technology Lab (UL30).
URL:https://news.csun.edu/event/getting-started-creating-course-videos-in-panopto-2/
LOCATION:University Library Room 30
CATEGORIES:Information Technology,Panopto
END:VEVENT
BEGIN:VEVENT
DTSTART;TZID=America/Los_Angeles:20241016T100000
DTEND;TZID=America/Los_Angeles:20241016T110000
DTSTAMP:20260423T014141
CREATED:20240919T170321Z
LAST-MODIFIED:20240919T170321Z
UID:10003847-1729072800-1729076400@news.csun.edu
SUMMARY:AI Prompt Engineering Essentials
DESCRIPTION:Register for this event\n\n\nThis hands-on workshop focuses on Prompt Engineering for Generative AI\, equipping participants with the essential skills to craft effective prompts from AI models like ChatGPT. Attendees will learn the significance of prompt engineering in enhancing AI interactions and explore the CARE system (Context\, Action\, Results\, Example) as a framework for creating effective prompts. Through collaborative exercises\, faculty will gain practical experience in generating AI prompts tailored to their disciplines. \nTopics covered include: \n\nImportance of Prompt Engineering: Understanding how well-crafted prompts influence AI responses and outcomes.\nThe CARE System: Introduction to the Context\, Action\, Results\, Example framework for effective prompt creation.\nHands-On Exercises: Practical activities using ChatGPT to create lesson plans\, assignments\, and active learning activities.
URL:https://news.csun.edu/event/ai-prompt-engineering-essentials/
LOCATION:University Library Room 30
CATEGORIES:Artificial Intelligence (AI),Information Technology
END:VEVENT
END:VCALENDAR