BEGIN:VCALENDAR
VERSION:2.0
PRODID:-//CSUN News &amp; Events - ECPv6.11.2//NONSGML v1.0//EN
CALSCALE:GREGORIAN
METHOD:PUBLISH
X-ORIGINAL-URL:https://news.csun.edu
X-WR-CALDESC:Events for CSUN News &amp; Events
REFRESH-INTERVAL;VALUE=DURATION:PT1H
X-Robots-Tag:noindex
X-PUBLISHED-TTL:PT1H
BEGIN:VTIMEZONE
TZID:America/Los_Angeles
BEGIN:DAYLIGHT
TZOFFSETFROM:-0800
TZOFFSETTO:-0700
TZNAME:PDT
DTSTART:20260308T100000
END:DAYLIGHT
BEGIN:STANDARD
TZOFFSETFROM:-0700
TZOFFSETTO:-0800
TZNAME:PST
DTSTART:20261101T090000
END:STANDARD
END:VTIMEZONE
BEGIN:VEVENT
DTSTART;TZID=America/Los_Angeles:20260505T183000
DTEND;TZID=America/Los_Angeles:20260505T213000
DTSTAMP:20260422T154153
CREATED:20260414T175633Z
LAST-MODIFIED:20260421T172010Z
UID:10011346-1778005800-1778016600@news.csun.edu
SUMMARY:DJ Battle
DESCRIPTION:Summer is dropping early at this year’s beach bash DJ Battle! Transport yourself to a vibrant boardwalk with delicious food\, giveaways and activities. Cheer on and groove to your favorite student DJs as they spin their hottest beats. Don’tmiss out on the ultimate combo of music and fun!   \n  \nAll Student Housing residents are welcome to attend. Outside guests are not permitted.  
URL:https://news.csun.edu/event/dj-battle/
LOCATION:Joshua and Hibiscus Halls (Buildings 22 and 23)\, CSUN Student Housing\, 17950 Lassen St\, Northridge\, 91330\, United States
CATEGORIES:University Student Union
ATTACH;FMTTYPE=image/png:https://news.csun.edu/wp-content/uploads/2026/04/Calendar-DJBattle_SP26.png
ORGANIZER;CN="University Student Union":MAILTO:usuevents@csun.edu
END:VEVENT
END:VCALENDAR