BEGIN:VCALENDAR
VERSION:2.0
PRODID:-//CSUN News &amp; Events - ECPv6.11.2//NONSGML v1.0//EN
CALSCALE:GREGORIAN
METHOD:PUBLISH
X-WR-CALNAME:CSUN News &amp; Events
X-ORIGINAL-URL:https://news.csun.edu
X-WR-CALDESC:Events for CSUN News &amp; Events
REFRESH-INTERVAL;VALUE=DURATION:PT1H
X-Robots-Tag:noindex
X-PUBLISHED-TTL:PT1H
BEGIN:VTIMEZONE
TZID:America/Los_Angeles
BEGIN:DAYLIGHT
TZOFFSETFROM:-0800
TZOFFSETTO:-0700
TZNAME:PDT
DTSTART:20260308T100000
END:DAYLIGHT
BEGIN:STANDARD
TZOFFSETFROM:-0700
TZOFFSETTO:-0800
TZNAME:PST
DTSTART:20261101T090000
END:STANDARD
END:VTIMEZONE
BEGIN:VEVENT
DTSTART;TZID=America/Los_Angeles:20260326T100000
DTEND;TZID=America/Los_Angeles:20260326T110000
DTSTAMP:20260425T164322
CREATED:20260316T171934Z
LAST-MODIFIED:20260316T171934Z
UID:10011074-1774519200-1774522800@news.csun.edu
SUMMARY:Native Trees of Central America
DESCRIPTION:
URL:https://news.csun.edu/event/native-trees-of-central-america/
LOCATION:EU 130
CATEGORIES:College of humanities
ATTACH;FMTTYPE=image/jpeg:https://news.csun.edu/wp-content/uploads/2026/03/CATS-CA-plants-in-LA_CATS-Spring-26.jpg
END:VEVENT
END:VCALENDAR