BEGIN:VCALENDAR
VERSION:2.0
PRODID:-//CSUN News &amp; Events - ECPv6.11.2//NONSGML v1.0//EN
CALSCALE:GREGORIAN
METHOD:PUBLISH
X-ORIGINAL-URL:https://news.csun.edu
X-WR-CALDESC:Events for CSUN News &amp; Events
REFRESH-INTERVAL;VALUE=DURATION:PT1H
X-Robots-Tag:noindex
X-PUBLISHED-TTL:PT1H
BEGIN:VTIMEZONE
TZID:America/Los_Angeles
BEGIN:DAYLIGHT
TZOFFSETFROM:-0800
TZOFFSETTO:-0700
TZNAME:PDT
DTSTART:20260308T100000
END:DAYLIGHT
BEGIN:STANDARD
TZOFFSETFROM:-0700
TZOFFSETTO:-0800
TZNAME:PST
DTSTART:20261101T090000
END:STANDARD
END:VTIMEZONE
BEGIN:VEVENT
DTSTART;TZID=America/Los_Angeles:20260429T100000
DTEND;TZID=America/Los_Angeles:20260429T130000
DTSTAMP:20260419T194553
CREATED:20250904T201829Z
LAST-MODIFIED:20260225T230403Z
UID:10008262-1777456800-1777467600@news.csun.edu
SUMMARY:Corporate Connect: City of Santa Clarita
DESCRIPTION:**This Corporate Connect is open to Master of Public Administration\, Recreation and Tourism Management\, and Urban Studies and Planning students** \nJoin us for Corporate Connect with the City of Santa Clarita. \nThis interactive experience offers students an inside look at careers in local government while connecting directly with city professionals and CSUN alumni making an impact in public service. \nEvent Highlights: \n\nNetworking lunch with City of Santa Clarita employees\nBreakout roundtable sessions with CSUN alumni working at the City\nInformation about current and upcoming hiring opportunities\nOpportunities to expand your professional network\n\n  \nDate: April 29 \nTime: 10:00 a.m. to 1:00 p.m. \nLocation: \n18410 Sierra Highway \nSanta Clarita\, CA 91351 \nCost: Free. Lunch included \nTransportation: We are providing transportation for all student participants. \nCheck in for the event will be at CSUN. \nWhether you’re exploring career paths or preparing to enter the workforce\, this event provides valuable insight\, meaningful connections\, and direct access to professionals in the field. \nImportant: Space is limited\, and seats are on a first come\, first served basis. Register today! \n*You will receive an email from Alumni Relations detailing next steps after you register. \nThe CSUN Alumni Association’s Corporate Connect Program is a unique event serving as a catalyst for students and graduates to explore new and different places to work. This program opens a range of possibilities for working closely with potential employers\, considering different industries\, hearing alumni career stories and observing real-world corporate developments. \nDuring a corporate visit\, a small group of up to 20 participants will spend a day at a Fortune 500 company. The visit will include a site tour (or walk-through)\, an overview of the organization/industry\, an alumni career story and a sponsored Q&A lunch. \nWe welcome those who require visual\, auditory or mobility assistance to attend. Please contact Alumni Events with any requests by April 17. Please include “Corporate Connect: City of Santa Clarita” in the subject line. \nREGISTER FOR THIS EVENT BY APRIL 17
URL:https://news.csun.edu/event/corporate-connect-santa-clarita/
LOCATION:City of Santa Clarita\, 18410 Sierra Highway\, Santa Clarita\, CA\, 91351\, United States
CATEGORIES:Alumni,Alumni Career & Professional,Career Center
ATTACH;FMTTYPE=image/png:https://news.csun.edu/wp-content/uploads/2024/09/Corporate-Connect-Email-Banner.png
END:VEVENT
END:VCALENDAR