BEGIN:VCALENDAR
VERSION:2.0
PRODID:-//CSUN News &amp; Events - ECPv6.11.2//NONSGML v1.0//EN
CALSCALE:GREGORIAN
METHOD:PUBLISH
X-ORIGINAL-URL:https://news.csun.edu
X-WR-CALDESC:Events for CSUN News &amp; Events
REFRESH-INTERVAL;VALUE=DURATION:PT1H
X-Robots-Tag:noindex
X-PUBLISHED-TTL:PT1H
BEGIN:VTIMEZONE
TZID:America/Los_Angeles
BEGIN:DAYLIGHT
TZOFFSETFROM:-0800
TZOFFSETTO:-0700
TZNAME:PDT
DTSTART:20260308T100000
END:DAYLIGHT
BEGIN:STANDARD
TZOFFSETFROM:-0700
TZOFFSETTO:-0800
TZNAME:PST
DTSTART:20261101T090000
END:STANDARD
END:VTIMEZONE
BEGIN:VEVENT
DTSTART;TZID=America/Los_Angeles:20260429T150000
DTEND;TZID=America/Los_Angeles:20260429T170000
DTSTAMP:20260425T035124
CREATED:20260107T224340Z
LAST-MODIFIED:20260107T224340Z
UID:10009637-1777474800-1777482000@news.csun.edu
SUMMARY:Let's Talk
DESCRIPTION:Talking can help. As an international student\, there are many new experiences that will bring excitement and others that may bring discomfort. Whether it is homesickness\, academic concerns\, relationship problems\, difficulty adjusting\, or other stress\, sharing your concerns with another person can make a positive difference. \nWhat is Let’s Talk? Let’s Talk is a safe\, casual\, and private drop-in service provided by University Counseling Services. A Let’s Talk counselor\, Dr. Sunil Obediah\, is available to listen\, offer support\, provide resources\, and explore solutions \nLet’s Talk consultations are: \n\nFREE to currently enrolled CSUN students and no appointment is needed.\nOffered on a first-come\, first-served basis.\n20 to 25 minutes in length.\nNot a substitute for counseling.
URL:https://news.csun.edu/event/lets-talk-9/2026-04-29/
LOCATION:International & Exchange Student Center\, USU
CATEGORIES:IESC,International and Exchange Student Center
ATTACH;FMTTYPE=image/jpeg:https://news.csun.edu/wp-content/uploads/2025/04/LETSTALK2.jpg
END:VEVENT
BEGIN:VEVENT
DTSTART;TZID=America/Los_Angeles:20260501T140000
DTEND;TZID=America/Los_Angeles:20260501T160000
DTSTAMP:20260425T035124
CREATED:20260416T223245Z
LAST-MODIFIED:20260416T223314Z
UID:10011353-1777644000-1777651200@news.csun.edu
SUMMARY:APIDA Coffee Hour
DESCRIPTION:Vietnamese Lantern Design: Cultural Connections through Crafts\nPlease join us for a hands on crafting activity connecting to our individual cultures through Vietnamese lantern creations. We will emphasize the cultural significance of these pieces while incorporating mindfulness\, coping strategies\, and identifying inner strengths. ** Refreshments will be provided ** \nRequests for accommodations (sign language or transcriber) must be made at least 5 working days in advance. Please email coun@csun. edu by Friday\, April 24\, 2026 to request that services be provided. \nThe IESC believes that cross-cultural understanding is an important part of being a citizen of the world. Coffee hour is a time to learn about different cultures from around the world. It is one of the opportunities where international and American students gather to highlight their cultures. Come join us for Coffee Hour!
URL:https://news.csun.edu/event/apida-coffee-hour/
LOCATION:International & Exchange Student Center\, USU
CATEGORIES:IESC,International and Exchange Student Center,University Counseling Services
ATTACH;FMTTYPE=image/jpeg:https://news.csun.edu/wp-content/uploads/2026/04/APIDA.jpg
END:VEVENT
BEGIN:VEVENT
DTSTART;TZID=America/Los_Angeles:20260506T150000
DTEND;TZID=America/Los_Angeles:20260506T170000
DTSTAMP:20260425T035124
CREATED:20260107T224340Z
LAST-MODIFIED:20260107T224340Z
UID:10009638-1778079600-1778086800@news.csun.edu
SUMMARY:Let's Talk
DESCRIPTION:Talking can help. As an international student\, there are many new experiences that will bring excitement and others that may bring discomfort. Whether it is homesickness\, academic concerns\, relationship problems\, difficulty adjusting\, or other stress\, sharing your concerns with another person can make a positive difference. \nWhat is Let’s Talk? Let’s Talk is a safe\, casual\, and private drop-in service provided by University Counseling Services. A Let’s Talk counselor\, Dr. Sunil Obediah\, is available to listen\, offer support\, provide resources\, and explore solutions \nLet’s Talk consultations are: \n\nFREE to currently enrolled CSUN students and no appointment is needed.\nOffered on a first-come\, first-served basis.\n20 to 25 minutes in length.\nNot a substitute for counseling.
URL:https://news.csun.edu/event/lets-talk-9/2026-05-06/
LOCATION:International & Exchange Student Center\, USU
CATEGORIES:IESC,International and Exchange Student Center
ATTACH;FMTTYPE=image/jpeg:https://news.csun.edu/wp-content/uploads/2025/04/LETSTALK2.jpg
END:VEVENT
BEGIN:VEVENT
DTSTART;TZID=America/Los_Angeles:20260513T150000
DTEND;TZID=America/Los_Angeles:20260513T170000
DTSTAMP:20260425T035124
CREATED:20260107T224340Z
LAST-MODIFIED:20260107T224340Z
UID:10009639-1778684400-1778691600@news.csun.edu
SUMMARY:Let's Talk
DESCRIPTION:Talking can help. As an international student\, there are many new experiences that will bring excitement and others that may bring discomfort. Whether it is homesickness\, academic concerns\, relationship problems\, difficulty adjusting\, or other stress\, sharing your concerns with another person can make a positive difference. \nWhat is Let’s Talk? Let’s Talk is a safe\, casual\, and private drop-in service provided by University Counseling Services. A Let’s Talk counselor\, Dr. Sunil Obediah\, is available to listen\, offer support\, provide resources\, and explore solutions \nLet’s Talk consultations are: \n\nFREE to currently enrolled CSUN students and no appointment is needed.\nOffered on a first-come\, first-served basis.\n20 to 25 minutes in length.\nNot a substitute for counseling.
URL:https://news.csun.edu/event/lets-talk-9/2026-05-13/
LOCATION:International & Exchange Student Center\, USU
CATEGORIES:IESC,International and Exchange Student Center
ATTACH;FMTTYPE=image/jpeg:https://news.csun.edu/wp-content/uploads/2025/04/LETSTALK2.jpg
END:VEVENT
BEGIN:VEVENT
DTSTART;TZID=America/Los_Angeles:20260520T150000
DTEND;TZID=America/Los_Angeles:20260520T170000
DTSTAMP:20260425T035124
CREATED:20260107T224340Z
LAST-MODIFIED:20260107T224340Z
UID:10009640-1779289200-1779296400@news.csun.edu
SUMMARY:Let's Talk
DESCRIPTION:Talking can help. As an international student\, there are many new experiences that will bring excitement and others that may bring discomfort. Whether it is homesickness\, academic concerns\, relationship problems\, difficulty adjusting\, or other stress\, sharing your concerns with another person can make a positive difference. \nWhat is Let’s Talk? Let’s Talk is a safe\, casual\, and private drop-in service provided by University Counseling Services. A Let’s Talk counselor\, Dr. Sunil Obediah\, is available to listen\, offer support\, provide resources\, and explore solutions \nLet’s Talk consultations are: \n\nFREE to currently enrolled CSUN students and no appointment is needed.\nOffered on a first-come\, first-served basis.\n20 to 25 minutes in length.\nNot a substitute for counseling.
URL:https://news.csun.edu/event/lets-talk-9/2026-05-20/
LOCATION:International & Exchange Student Center\, USU
CATEGORIES:IESC,International and Exchange Student Center
ATTACH;FMTTYPE=image/jpeg:https://news.csun.edu/wp-content/uploads/2025/04/LETSTALK2.jpg
END:VEVENT
END:VCALENDAR