BEGIN:VCALENDAR
VERSION:2.0
PRODID:-//CSUN News &amp; Events - ECPv6.11.2//NONSGML v1.0//EN
CALSCALE:GREGORIAN
METHOD:PUBLISH
X-ORIGINAL-URL:https://news.csun.edu
X-WR-CALDESC:Events for CSUN News &amp; Events
REFRESH-INTERVAL;VALUE=DURATION:PT1H
X-Robots-Tag:noindex
X-PUBLISHED-TTL:PT1H
BEGIN:VTIMEZONE
TZID:America/Los_Angeles
BEGIN:DAYLIGHT
TZOFFSETFROM:-0800
TZOFFSETTO:-0700
TZNAME:PDT
DTSTART:20240310T100000
END:DAYLIGHT
BEGIN:STANDARD
TZOFFSETFROM:-0700
TZOFFSETTO:-0800
TZNAME:PST
DTSTART:20241103T090000
END:STANDARD
END:VTIMEZONE
BEGIN:VEVENT
DTSTART;TZID=America/Los_Angeles:20241124T143000
DTEND;TZID=America/Los_Angeles:20241124T173000
DTSTAMP:20260420T124923
CREATED:20240725T194140Z
LAST-MODIFIED:20241115T202334Z
UID:10002538-1732458600-1732469400@news.csun.edu
SUMMARY:CSUN Opera: Poulenc Nov 21-24
DESCRIPTION:CSUN OPERA Poulenc\nNovember 24 at 2:30 pm Campus Theatre (Nordhoff Hall) \n11/21 at 7:30 PM \n11/22 at 7:30 PM \n11/23 at 7:30 PM \n11/24 at 2:30 PM \n  \nSuggested Parking via Kiosks in Lot B1 \nTICKETS: $10 to $22 \nCan’t attend in Person? View LIVESTREAM
URL:https://news.csun.edu/event/csun-opera-poulenc-nov-21-24/
LOCATION:Campus Theatre (Nordhoff Hall)\, 18111 Nordhoff St\, Los Angeles\, 91325\, United States
CATEGORIES:Arts and Culture,Music,Theatre,Ticketed Events
ATTACH;FMTTYPE=image/png:https://news.csun.edu/wp-content/uploads/2024/07/169-OPERA-POULENC-NOV-2024.png
ORGANIZER;CN="Music":MAILTO:music@csun.edu
END:VEVENT
BEGIN:VEVENT
DTSTART;TZID=America/Los_Angeles:20241123T193000
DTEND;TZID=America/Los_Angeles:20241123T213000
DTSTAMP:20260420T124923
CREATED:20240725T194207Z
LAST-MODIFIED:20241115T202323Z
UID:10002537-1732390200-1732397400@news.csun.edu
SUMMARY:CSUN Opera: Poulenc Nov 21-24
DESCRIPTION:CSUN OPERA: Poulenc\nNovember 23 at 7:30 pm Campus Theater (Nordhoff Hall) \n11/21 at 7:30 PM \n11/22 at 7:30 PM \n11/23 at 7:30 PM \n11/24 at 2:30 PM \nSuggested Parking via Kiosks in Lot B1 \nTICKETS: $10 to $22 \nCan’t attend in Person? View LIVESTREAM
URL:https://news.csun.edu/event/csun-opera-poulenc-nov-21-24-2/
LOCATION:Campus Theatre (Nordhoff Hall)\, 18111 Nordhoff St\, Los Angeles\, 91325\, United States
CATEGORIES:Arts and Culture,Music,Theatre,Ticketed Events
ATTACH;FMTTYPE=image/png:https://news.csun.edu/wp-content/uploads/2024/07/169-OPERA-POULENC-NOV-2024.png
ORGANIZER;CN="Music":MAILTO:music@csun.edu
END:VEVENT
BEGIN:VEVENT
DTSTART;TZID=America/Los_Angeles:20241122T193000
DTEND;TZID=America/Los_Angeles:20241122T213000
DTSTAMP:20260420T124923
CREATED:20240725T194554Z
LAST-MODIFIED:20241115T202250Z
UID:10002536-1732303800-1732311000@news.csun.edu
SUMMARY:CSUN Opera: Poulenc Nov 21-24
DESCRIPTION:CSUN OPERA: Poulenc\nNovember 22 at 7:30 pm Campus Theatre (Nordhoff Hall) \n11/21 at 7:30 PM \n11/22 at 7:30 PM \n11/23 at 7:30 PM \n11/24 at 2:30 PM \nSuggested Parking via Kiosks in Lot B1 \nTICKETS: $10 to $22
URL:https://news.csun.edu/event/csun-opera-poulenc-nov-21-24-3/
LOCATION:Campus Theatre (Nordhoff Hall)\, 18111 Nordhoff St\, Los Angeles\, 91325\, United States
CATEGORIES:Arts and Culture,Music,Theatre,Ticketed Events
ATTACH;FMTTYPE=image/png:https://news.csun.edu/wp-content/uploads/2024/07/169-OPERA-POULENC-NOV-2024.png
ORGANIZER;CN="Music":MAILTO:music@csun.edu
END:VEVENT
BEGIN:VEVENT
DTSTART;TZID=America/Los_Angeles:20241121T193000
DTEND;TZID=America/Los_Angeles:20241121T213000
DTSTAMP:20260420T124923
CREATED:20240725T194615Z
LAST-MODIFIED:20241115T202428Z
UID:10002535-1732217400-1732224600@news.csun.edu
SUMMARY:CSUN Opera: Poulenc Nov 21-24
DESCRIPTION:CSUN OPERA: Poulenc\nNovember 21 at 7:30 pm Campus Theatre (Nordhoff Hall) \n11/21 at 7:30 PM \n11/22 at 7:30 PM \n11/23 at 7:30 PM \n11/24 at 2:30 PM \nSuggested Parking via Kiosks in Lot B1
URL:https://news.csun.edu/event/csun-opera-poulenc-nov-2024/
LOCATION:Campus Theatre (Nordhoff Hall)\, 18111 Nordhoff St\, Los Angeles\, 91325\, United States
CATEGORIES:Arts and Culture,Music,Theatre,Ticketed Events
ATTACH;FMTTYPE=image/png:https://news.csun.edu/wp-content/uploads/2024/07/169-OPERA-POULENC-NOV-2024.png
ORGANIZER;CN="Music":MAILTO:music@csun.edu
END:VEVENT
BEGIN:VEVENT
DTSTART;TZID=America/Los_Angeles:20241113T113000
DTEND;TZID=America/Los_Angeles:20241113T154500
DTSTAMP:20260420T124923
CREATED:20241021T205126Z
LAST-MODIFIED:20241021T205126Z
UID:10004488-1731497400-1731512700@news.csun.edu
SUMMARY:Teatro Campesinos's Las Dos Caras del Patroncito (Two presentations available)
DESCRIPTION:A CSUN Theatre production of El Teatro Campesino’s Las Dos Caras del Patroncito \nFunded by the CSUN Diversity & Equity Innovation Grant \nA 75-minute program includes: \nAn introductory lecture by Dr. Jorge Huerta\, Chancellor’s Associates Professor of Theatre\, Emeritus at the University of California\, San Diego. He is a leading authority on contemporary Chicana/o and US Latina/o Theatre and a professional director. He has published widely\, including Chicano Theatre: Themes and Forms and Chicano Drama: Performance\, Society\, and Myth.- Plus a live performance of Las Dos Caras del Patroncito featuring guest artist\, Ruben Garfias\, and CSUN Theatre students. Seating is limited for this free event. Professors may sign up using the Eventbrite link to reserve space for their students. The program will begin promptly\, so classes should meet at the Nordhoff Hall Little Theatre. \nTWO PRESENTATIONS. WEDNESDAY NOV. 13. \nRESERVE HERE: \nPresentation 1\n11:30 to 12:45 \nhttps://www.eventbrite.com/e/el-teatro-campesino-las-dos-caras-del-patroncito-presentation-1-free-tickets-1047087726577 \n  \nPresentation 2\n2:30 to 3:45 pm \nhttps://www.eventbrite.com/e/el-teatro-campesino-las-dos-caras-del-patroncito-presentation-2-free-tickets-1047095188897
URL:https://news.csun.edu/event/teatro-campesinoss-las-dos-caras-del-patroncito-two-presentations-available/
LOCATION:LIttle Theatre\, Nordhoff Hall
CATEGORIES:Arts and Culture,Diversity and Inclusion,Theatre
END:VEVENT
END:VCALENDAR