BEGIN:VCALENDAR
VERSION:2.0
PRODID:-//CSUN News &amp; Events - ECPv6.11.2//NONSGML v1.0//EN
CALSCALE:GREGORIAN
METHOD:PUBLISH
X-ORIGINAL-URL:https://news.csun.edu
X-WR-CALDESC:Events for CSUN News &amp; Events
REFRESH-INTERVAL;VALUE=DURATION:PT1H
X-Robots-Tag:noindex
X-PUBLISHED-TTL:PT1H
BEGIN:VTIMEZONE
TZID:America/Los_Angeles
BEGIN:DAYLIGHT
TZOFFSETFROM:-0800
TZOFFSETTO:-0700
TZNAME:PDT
DTSTART:20240310T100000
END:DAYLIGHT
BEGIN:STANDARD
TZOFFSETFROM:-0700
TZOFFSETTO:-0800
TZNAME:PST
DTSTART:20241103T090000
END:STANDARD
END:VTIMEZONE
BEGIN:VEVENT
DTSTART;TZID=America/Los_Angeles:20241012T100000
DTEND;TZID=America/Los_Angeles:20241012T140000
DTSTAMP:20260422T153457
CREATED:20240917T212915Z
LAST-MODIFIED:20241008T173056Z
UID:10003821-1728727200-1728741600@news.csun.edu
SUMMARY:Celebrating Nuestra Gente\, Raices y Cultura: La Pachanga
DESCRIPTION:Join us for a day of festivities to Celebrate Nuestra Gente\, Raises y Cultura as one of the last programs for this year’s Heritage Month celebration. \n\nCome experience a low rider car show featuring over 20 classic cars\nThe DJ will be spinning the best in salsa\, bachata\, cumbias\, reggaeton y mas\nLive Mariachi and our own CSUN Latin Jazz Ensemble\nPerformances from Ballet Folklorico and Salsa Lessons\nFood Trucks\nCommunity Resources\nAnd activities for all ages\n\n RSVP HERE! \nIf you are a student who needs interpreting services\, please contact Michael Clemens at Michael.clemens@csun.edu at least 3 days prior to the event. \n  \nThe event is sponsored by CSUN; including Athletics\, Central American & Transborder Studies\, Chicano/a Studies\, Division of Student Affairs\, EOP\, Matador Eats\, Office of Student Success\, and the University Student Union. \nLocation: G3 Parking Lot from 10am – 2pm.
URL:https://news.csun.edu/event/celebrating-nuestra-gente-y-comunidad/
LOCATION:G3 Parking Lot
CATEGORIES:Heritage Month,Nuestra Gente
ATTACH;FMTTYPE=image/png:https://news.csun.edu/wp-content/uploads/2024/09/Header-For-Calendar.png
END:VEVENT
END:VCALENDAR