BEGIN:VCALENDAR
VERSION:2.0
PRODID:-//CSUN News &amp; Events - ECPv6.11.2//NONSGML v1.0//EN
CALSCALE:GREGORIAN
METHOD:PUBLISH
X-ORIGINAL-URL:https://news.csun.edu
X-WR-CALDESC:Events for CSUN News &amp; Events
REFRESH-INTERVAL;VALUE=DURATION:PT1H
X-Robots-Tag:noindex
X-PUBLISHED-TTL:PT1H
BEGIN:VTIMEZONE
TZID:America/Los_Angeles
BEGIN:DAYLIGHT
TZOFFSETFROM:-0800
TZOFFSETTO:-0700
TZNAME:PDT
DTSTART:20240310T100000
END:DAYLIGHT
BEGIN:STANDARD
TZOFFSETFROM:-0700
TZOFFSETTO:-0800
TZNAME:PST
DTSTART:20241103T090000
END:STANDARD
BEGIN:DAYLIGHT
TZOFFSETFROM:-0800
TZOFFSETTO:-0700
TZNAME:PDT
DTSTART:20250309T100000
END:DAYLIGHT
BEGIN:STANDARD
TZOFFSETFROM:-0700
TZOFFSETTO:-0800
TZNAME:PST
DTSTART:20251102T090000
END:STANDARD
END:VTIMEZONE
BEGIN:VEVENT
DTSTART;TZID=America/Los_Angeles:20250422T120000
DTEND;TZID=America/Los_Angeles:20250422T123000
DTSTAMP:20260423T163120
CREATED:20250108T010118Z
LAST-MODIFIED:20250108T010629Z
UID:10004977-1745323200-1745325000@news.csun.edu
SUMMARY:Fidelity Financial Webinar | Tackle Debt and Understand Your Credit Score
DESCRIPTION:Location:\nOnline \n\nDescription:\n\n\n\nIn this Building Your Financial Foundation workshop\, you’ll get strategies to help you manage your debt and understand your credit score.\n\n\n\nFacilitator:\nFidelity Financial Services Representative \n\nReserve Your Space \n\n\n\n\n\n\n\n\nCan’t make it to an event? \n\nCall 877-CSU-3699 (877-278-3699) or visit www.fidelity.com/schedule to schedule a one-on-one consultation with a registered Fidelity representative.\nVisit the Fidelity Webcast Hub for practical conversations to help you live well financially\, today and tomorrow.
URL:https://news.csun.edu/event/fidelity-financial-tackle-debt-credit-score20250422/
CATEGORIES:Benefits,Human Resources,Personal Development,Workshops
END:VEVENT
BEGIN:VEVENT
DTSTART;TZID=America/Los_Angeles:20250325T120000
DTEND;TZID=America/Los_Angeles:20250325T130000
DTSTAMP:20260423T163120
CREATED:20250108T005853Z
LAST-MODIFIED:20250108T010624Z
UID:10004976-1742904000-1742907600@news.csun.edu
SUMMARY:Fidelity Financial Webinar | Prepare for the Reality of Health Care in Retirement
DESCRIPTION:Location:\nOnline \n\nDescription:\n\n\n\nThis workshop will help you to understand the costs of health care in retirement\, and how you can prepare for them.\n\n\n\nFacilitator:\nFidelity Financial Services Representative \n\nReserve Your Space \n\n\n\n\n\n\n\n\nCan’t make it to an event? \n\nCall 877-CSU-3699 (877-278-3699) or visit www.fidelity.com/schedule to schedule a one-on-one consultation with a registered Fidelity representative.\nVisit the Fidelity Webcast Hub for practical conversations to help you live well financially\, today and tomorrow.
URL:https://news.csun.edu/event/fidelity-financial-health-care-in-retirement20250325/
CATEGORIES:Benefits,Human Resources,Personal Development,Workshops
END:VEVENT
BEGIN:VEVENT
DTSTART;TZID=America/Los_Angeles:20250227T120000
DTEND;TZID=America/Los_Angeles:20250227T123000
DTSTAMP:20260423T163120
CREATED:20250108T005245Z
LAST-MODIFIED:20250108T005245Z
UID:10004975-1740657600-1740659400@news.csun.edu
SUMMARY:Fidelity Financial Webinar | Retirement Basics (Saving for the Future You)
DESCRIPTION:Location:\nOnline \n\nDescription:\n\n\n\nIn this Building Your Financial Foundation workshop\, you’ll learn about the power of saving and the different types of accounts\, including your workplace savings plan\, you can take advantage of to save for your future.\n\n\n\nFacilitator:\nFidelity Financial Services Representative \n\nReserve Your Space \n\n\n\n\n\n\n\n\nCan’t make it to an event? \n\nCall 877-CSU-3699 (877-278-3699) or visit www.fidelity.com/schedule to schedule a one-on-one consultation with a registered Fidelity representative.\nVisit the Fidelity Webcast Hub for practical conversations to help you live well financially\, today and tomorrow.
URL:https://news.csun.edu/event/fidelity-financial-retirement-basics20250227/
CATEGORIES:Benefits,Human Resources,Personal Development,Workshops
END:VEVENT
BEGIN:VEVENT
DTSTART;TZID=America/Los_Angeles:20250128T120000
DTEND;TZID=America/Los_Angeles:20250128T130000
DTSTAMP:20260423T163120
CREATED:20250108T003805Z
LAST-MODIFIED:20250113T212105Z
UID:10004974-1738065600-1738069200@news.csun.edu
SUMMARY:Fidelity Financial Webinar | Invest Confidently for Your Future
DESCRIPTION:Location:\nOnline \n\nDescription:\n\n\n\nThis workshop will help you look at your investments and understand how to build a long-term investment plan.\n\n\n\nFacilitator:\nFidelity Financial Services Representative \n\nReserve Your Space \n\n\n\n\n\n\n\n\nCan’t make it to an event? \n\nCall 877-CSU-3699 (877-278-3699) or visit www.fidelity.com/schedule to schedule a one-on-one consultation with a registered Fidelity representative.\nVisit the Fidelity Webcast Hub for practical conversations to help you live well financially\, today and tomorrow.
URL:https://news.csun.edu/event/fidelity-financial-invest-confidently-20250128/
CATEGORIES:Benefits,Human Resources,Personal Development,Workshops
END:VEVENT
BEGIN:VEVENT
DTSTART;TZID=America/Los_Angeles:20241212T120000
DTEND;TZID=America/Los_Angeles:20241212T130000
DTSTAMP:20260423T163120
CREATED:20240901T150009Z
LAST-MODIFIED:20240920T235224Z
UID:10000228-1734004800-1734008400@news.csun.edu
SUMMARY:Fidelity Financial Webinar | Learn the Basics of When and How to Claim Social Security
DESCRIPTION:Location:\nOnline \n\nDescription:\n\n\nIf Social Security is expected to be your primary source of income in retirement\, learn when and how to claim your benefit\n\n\nFacilitator:\nFidelity Financial Services Representative \n\nReserve Your Space \n\n\n\n\n\n\n\n\nCan’t make it to an event? \n\nCall 877-CSU-3699 (877-278-3699) or visit www.fidelity.com/schedule to schedule a one-on-one consultation with a registered Fidelity representative.\nVisit the Fidelity Webcast Hub for practical conversations to help you live well financially\, today and tomorrow.
URL:https://news.csun.edu/event/fidelity-financial-when-how-claim-social-security20241212/
CATEGORIES:Benefits,Human Resources,Personal Development,Workshops
END:VEVENT
END:VCALENDAR