BEGIN:VCALENDAR
VERSION:2.0
PRODID:-//CSUN News &amp; Events - ECPv6.11.2//NONSGML v1.0//EN
CALSCALE:GREGORIAN
METHOD:PUBLISH
X-WR-CALNAME:CSUN News &amp; Events
X-ORIGINAL-URL:https://news.csun.edu
X-WR-CALDESC:Events for CSUN News &amp; Events
REFRESH-INTERVAL;VALUE=DURATION:PT1H
X-Robots-Tag:noindex
X-PUBLISHED-TTL:PT1H
BEGIN:VTIMEZONE
TZID:America/Los_Angeles
BEGIN:DAYLIGHT
TZOFFSETFROM:-0800
TZOFFSETTO:-0700
TZNAME:PDT
DTSTART:20260308T100000
END:DAYLIGHT
BEGIN:STANDARD
TZOFFSETFROM:-0700
TZOFFSETTO:-0800
TZNAME:PST
DTSTART:20261101T090000
END:STANDARD
END:VTIMEZONE
BEGIN:VEVENT
DTSTART;TZID=America/Los_Angeles:20260526T120000
DTEND;TZID=America/Los_Angeles:20260526T130000
DTSTAMP:20260423T131640
CREATED:20260112T205435Z
LAST-MODIFIED:20260316T194930Z
UID:10009694-1779796800-1779800400@news.csun.edu
SUMMARY:Fidelity Financial Webinar | Fundamentals of Retirement Income Planning
DESCRIPTION:Location:\nOnline \n\nDescription:\n\n\n\n\nThis workshop is for individuals who are starting to plan for retirement and want to learn about the key considerations for building an income plan.\n\n\n\n\nFacilitator:\nFidelity Financial Services Representative \n\nReserve Your Space \n\n\n\n\n\n\n\n\nCan’t make it to an event? \n\nCall 877-CSU-3699 (877-278-3699) or visit www.fidelity.com/schedule to schedule a one-on-one consultation with a registered Fidelity representative.\nVisit the Fidelity Webcast Hub for practical conversations to help you live well financially\, today and tomorrow.
URL:https://news.csun.edu/event/fidelity-financial-webinar-fundamentals-of-retirement-income-planning/
CATEGORIES:Benefits,Human Resources,Personal Development,Workshops
ATTACH;FMTTYPE=image/png:https://news.csun.edu/wp-content/uploads/2026/01/Fidelity-2.png
END:VEVENT
BEGIN:VEVENT
DTSTART;TZID=America/Los_Angeles:20260625T120000
DTEND;TZID=America/Los_Angeles:20260625T130000
DTSTAMP:20260423T131640
CREATED:20260112T210011Z
LAST-MODIFIED:20260112T210011Z
UID:10009695-1782388800-1782392400@news.csun.edu
SUMMARY:Fidelity Financial Webinar | Maximize Social Security in Your Retirement Strategy
DESCRIPTION:Location:\nOnline \n\nDescription:\n\n\n\n\nThis workshop will help you understand different Social Security claiming strategies and take the next step to create your retirement income plan.\n\n\n\n\nFacilitator:\nFidelity Financial Services Representative \n\nReserve Your Space \n\n\n\n\n\n\n\n\nCan’t make it to an event? \n\nCall 877-CSU-3699 (877-278-3699) or visit www.fidelity.com/schedule to schedule a one-on-one consultation with a registered Fidelity representative.\nVisit the Fidelity Webcast Hub for practical conversations to help you live well financially\, today and tomorrow.
URL:https://news.csun.edu/event/fidelity-financial-webinar-maximize-social-security-in-your-retirement-strategy/
CATEGORIES:Benefits,Human Resources,Personal Development,Workshops
END:VEVENT
BEGIN:VEVENT
DTSTART;TZID=America/Los_Angeles:20260730T120000
DTEND;TZID=America/Los_Angeles:20260730T130000
DTSTAMP:20260423T131640
CREATED:20260112T210346Z
LAST-MODIFIED:20260112T210346Z
UID:10009696-1785412800-1785416400@news.csun.edu
SUMMARY:Fidelity Financial Webinar | Five Key Factors for a Successful Retirement
DESCRIPTION:Location:\nOnline \n\nDescription:\n\n\n\n\nComing SOON\n\n\n\n\nFacilitator:\nFidelity Financial Services Representative \n\nReserve Your Space (Coming SOON) \n\n\n\n\n\n\n\n\nCan’t make it to an event? \n\nCall 877-CSU-3699 (877-278-3699) or visit www.fidelity.com/schedule to schedule a one-on-one consultation with a registered Fidelity representative.\nVisit the Fidelity Webcast Hub for practical conversations to help you live well financially\, today and tomorrow.
URL:https://news.csun.edu/event/fidelity-financial-webinar-five-key-factors-for-a-successful-retirement/
CATEGORIES:Benefits,Human Resources,Personal Development,Workshops
END:VEVENT
BEGIN:VEVENT
DTSTART;TZID=America/Los_Angeles:20260825T120000
DTEND;TZID=America/Los_Angeles:20260825T130000
DTSTAMP:20260423T131640
CREATED:20260112T211342Z
LAST-MODIFIED:20260112T211342Z
UID:10009700-1787659200-1787662800@news.csun.edu
SUMMARY:Fidelity Financial Webinar | Learn the Basics of When and How to Claim Social Security
DESCRIPTION:Location:\nOnline \n\nDescription:\n\n\n\n\n\nIf Social Security is expected to be your primary source of income in retirement\, learn when and how to claim your benefit.\n\n\n\n\n\nFacilitator:\nFidelity Financial Services Representative \n\nReserve Your Space \n\n\n\n\n\n\n\n\nCan’t make it to an event? \n\nCall 877-CSU-3699 (877-278-3699) or visit www.fidelity.com/schedule to schedule a one-on-one consultation with a registered Fidelity representative.\nVisit the Fidelity Webcast Hub for practical conversations to help you live well financially\, today and tomorrow.
URL:https://news.csun.edu/event/fidelity-financial-webinar-learn-the-basics-of-when-and-how-to-claim-social-security/
CATEGORIES:Benefits,Human Resources,Personal Development,Workshops
END:VEVENT
BEGIN:VEVENT
DTSTART;TZID=America/Los_Angeles:20260924T120000
DTEND;TZID=America/Los_Angeles:20260924T123000
DTSTAMP:20260423T131640
CREATED:20260112T210704Z
LAST-MODIFIED:20260127T181055Z
UID:10009697-1790251200-1790253000@news.csun.edu
SUMMARY:Fidelity Financial Webinar | A Path to Financial Wellness
DESCRIPTION:Location:\nOnline \n\nDescription:\n\n\n\n\nUncover the essentials of financial wellness to help strengthen your financial foundation and take steps toward a more secure future.\n\n\n\n\nFacilitator:\nFidelity Financial Services Representative \n\nReserve Your Space \n\n\n\n\n\n\n\n\nCan’t make it to an event? \n\nCall 877-CSU-3699 (877-278-3699) or visit www.fidelity.com/schedule to schedule a one-on-one consultation with a registered Fidelity representative.\nVisit the Fidelity Webcast Hub for practical conversations to help you live well financially\, today and tomorrow.
URL:https://news.csun.edu/event/fidelity-financial-webinar-a-path-to-financial-wellness/
CATEGORIES:Benefits,Human Resources,Personal Development,Workshops
END:VEVENT
BEGIN:VEVENT
DTSTART;TZID=America/Los_Angeles:20261027T120000
DTEND;TZID=America/Los_Angeles:20261027T130000
DTSTAMP:20260423T131640
CREATED:20260112T211109Z
LAST-MODIFIED:20260127T171227Z
UID:10009698-1793102400-1793106000@news.csun.edu
SUMMARY:Fidelity Financial Webinar | How to Begin Investing for Retirement
DESCRIPTION:Location:\nOnline \n\nDescription:\n\n\n\n\nLearn some key investing concepts\, common asset classes\, and different investment approaches for your workplace savings plan.\n\n\n\n\nFacilitator:\nFidelity Financial Services Representative \n\nReserve Your Space \n\n\n\n\n\n\n\n\nCan’t make it to an event? \n\nCall 877-CSU-3699 (877-278-3699) or visit www.fidelity.com/schedule to schedule a one-on-one consultation with a registered Fidelity representative.\nVisit the Fidelity Webcast Hub for practical conversations to help you live well financially\, today and tomorrow.
URL:https://news.csun.edu/event/fidelity-financial-webinar-how-to-begin-investing-for-retirement/
CATEGORIES:Benefits,Human Resources,Personal Development,Workshops
END:VEVENT
BEGIN:VEVENT
DTSTART;TZID=America/Los_Angeles:20261119T120000
DTEND;TZID=America/Los_Angeles:20261119T123000
DTSTAMP:20260423T131640
CREATED:20260112T211450Z
LAST-MODIFIED:20260127T181346Z
UID:10009701-1795089600-1795091400@news.csun.edu
SUMMARY:Fidelity Financial Webinar | Tackle Debt and Understand Your Credit Score
DESCRIPTION:Location:\nOnline \n\nDescription:\n\n\n\n\n\nIn this Building Your Financial Foundation workshop\, you’ll get strategies to help you manage your debt and understand your credit score.\n\n\n\n\n\nFacilitator:\nFidelity Financial Services Representative \n\nReserve Your Space \n\n\n\n\n\n\n\n\nCan’t make it to an event? \n\nCall 877-CSU-3699 (877-278-3699) or visit www.fidelity.com/schedule to schedule a one-on-one consultation with a registered Fidelity representative.\nVisit the Fidelity Webcast Hub for practical conversations to help you live well financially\, today and tomorrow.
URL:https://news.csun.edu/event/fidelity-financial-webinar-tackle-debt-and-understand-your-credit-score/
CATEGORIES:Benefits,Human Resources,Personal Development,Workshops
END:VEVENT
BEGIN:VEVENT
DTSTART;TZID=America/Los_Angeles:20261210T120000
DTEND;TZID=America/Los_Angeles:20261210T130000
DTSTAMP:20260423T131640
CREATED:20260112T211138Z
LAST-MODIFIED:20260112T211138Z
UID:10009699-1796904000-1796907600@news.csun.edu
SUMMARY:Fidelity Financial Webinar | Saving Strategies for Minimizing Taxes
DESCRIPTION:Location:\nOnline \n\nDescription:\n\n\n\n\nComing SOON\n\n\n\n\nFacilitator:\nFidelity Financial Services Representative \n\nReserve Your Space (Coming SOON) \n\n\n\n\n\n\n\n\nCan’t make it to an event? \n\nCall 877-CSU-3699 (877-278-3699) or visit www.fidelity.com/schedule to schedule a one-on-one consultation with a registered Fidelity representative.\nVisit the Fidelity Webcast Hub for practical conversations to help you live well financially\, today and tomorrow.
URL:https://news.csun.edu/event/fidelity-financial-webinar-saving-strategies-for-minimizing-taxes/
CATEGORIES:Benefits,Human Resources,Personal Development,Workshops
END:VEVENT
END:VCALENDAR