BEGIN:VCALENDAR
VERSION:2.0
PRODID:-//CSUN News &amp; Events - ECPv6.11.2//NONSGML v1.0//EN
CALSCALE:GREGORIAN
METHOD:PUBLISH
X-ORIGINAL-URL:https://news.csun.edu
X-WR-CALDESC:Events for CSUN News &amp; Events
REFRESH-INTERVAL;VALUE=DURATION:PT1H
X-Robots-Tag:noindex
X-PUBLISHED-TTL:PT1H
BEGIN:VTIMEZONE
TZID:America/Los_Angeles
BEGIN:DAYLIGHT
TZOFFSETFROM:-0800
TZOFFSETTO:-0700
TZNAME:PDT
DTSTART:20250309T100000
END:DAYLIGHT
BEGIN:STANDARD
TZOFFSETFROM:-0700
TZOFFSETTO:-0800
TZNAME:PST
DTSTART:20251102T090000
END:STANDARD
END:VTIMEZONE
BEGIN:VEVENT
DTSTART;TZID=America/Los_Angeles:20250204T090000
DTEND;TZID=America/Los_Angeles:20250204T130000
DTSTAMP:20260422T105125
CREATED:20250131T204138Z
LAST-MODIFIED:20250201T192849Z
UID:10005082-1738659600-1738674000@news.csun.edu
SUMMARY:Black Student Success Initiative Implementation Launch
DESCRIPTION:Please join us to hear from our Black Student Success Consultants (Dr. Damon Williams and The Center for Strategic Diversity & Leadership). This 4-hour program will allow our consultants to connect with the campus community and initiate the implementation plan of their research and recommendations. \n  \nTo register for this program\, please use the QR code below\, or click on the flyer.
URL:https://news.csun.edu/event/black-student-success-initiative-implementation-launch/
LOCATION:CSUN USU – Northridge Center\, 9346 E University Dr\,\, Northridge\, CA\, 91325\, United States
CATEGORIES:Heritage Month,Student Affairs
ATTACH;FMTTYPE=image/png:https://news.csun.edu/wp-content/uploads/2025/01/bnr-events-black-history-month-2025_1920x1080-1.png
END:VEVENT
END:VCALENDAR