BEGIN:VCALENDAR
VERSION:2.0
PRODID:-//CSUN News &amp; Events - ECPv6.11.2//NONSGML v1.0//EN
CALSCALE:GREGORIAN
METHOD:PUBLISH
X-WR-CALNAME:CSUN News &amp; Events
X-ORIGINAL-URL:https://news.csun.edu
X-WR-CALDESC:Events for CSUN News &amp; Events
REFRESH-INTERVAL;VALUE=DURATION:PT1H
X-Robots-Tag:noindex
X-PUBLISHED-TTL:PT1H
BEGIN:VTIMEZONE
TZID:America/Los_Angeles
BEGIN:DAYLIGHT
TZOFFSETFROM:-0800
TZOFFSETTO:-0700
TZNAME:PDT
DTSTART:20250309T100000
END:DAYLIGHT
BEGIN:STANDARD
TZOFFSETFROM:-0700
TZOFFSETTO:-0800
TZNAME:PST
DTSTART:20251102T090000
END:STANDARD
END:VTIMEZONE
BEGIN:VEVENT
DTSTART;TZID=America/Los_Angeles:20250425T100000
DTEND;TZID=America/Los_Angeles:20250425T130000
DTSTAMP:20260420T052041
CREATED:20250403T222810Z
LAST-MODIFIED:20250409T190344Z
UID:10006172-1745575200-1745586000@news.csun.edu
SUMMARY:Veterans Job Fair
DESCRIPTION:Matadors\, come set yourself up for success at Veterans Job Fair! On Thursday\, Career Counselor Daniel Levich will help us practice interviewing and salary negotiation to help you showcase your best self to potential employers. Then\, on Friday\, you can put that preparation to work at our job fair\, where you’ll be able to meet with a variety of employers and network with industry professionals. The Los Angeles Sheriff’s Department\, Federal Bureau of Prisons\, Los Angeles Unified School District\, Southern California Edison and more will be there. We’ll even have snacks and refreshments\, so make sure you stop by!  \nDo you need interpretation for this event? If so\, please fill out the Interpreting Services Request Form seven days prior to the event. 
URL:https://news.csun.edu/event/veterans-job-fair/
LOCATION:Grand Salon\, University Student Union\, 18111 Nordhoff St.\, Northridge\, CA\, 91330-8272\, United States
CATEGORIES:University Student Union,Veterans Resource Center
ATTACH;FMTTYPE=image/png:https://news.csun.edu/wp-content/uploads/2025/04/VRC_VeteranJobFair20250426_Calendar.png
ORGANIZER;CN="USU Veterans Resource Center":MAILTO:vrc@csun.edu
GEO:34.2393874529;-118.526753403
X-APPLE-STRUCTURED-LOCATION;VALUE=URI;X-ADDRESS=Grand Salon University Student Union 18111 Nordhoff St. Northridge CA 91330-8272 United States;X-APPLE-RADIUS=500;X-TITLE=18111 Nordhoff St.:geo:-118.526753403,34.2393874529
END:VEVENT
END:VCALENDAR