BEGIN:VCALENDAR
VERSION:2.0
PRODID:-//CSUN News &amp; Events - ECPv6.11.2//NONSGML v1.0//EN
CALSCALE:GREGORIAN
METHOD:PUBLISH
X-ORIGINAL-URL:https://news.csun.edu
X-WR-CALDESC:Events for CSUN News &amp; Events
REFRESH-INTERVAL;VALUE=DURATION:PT1H
X-Robots-Tag:noindex
X-PUBLISHED-TTL:PT1H
BEGIN:VTIMEZONE
TZID:America/Los_Angeles
BEGIN:DAYLIGHT
TZOFFSETFROM:-0800
TZOFFSETTO:-0700
TZNAME:PDT
DTSTART:20250309T100000
END:DAYLIGHT
BEGIN:STANDARD
TZOFFSETFROM:-0700
TZOFFSETTO:-0800
TZNAME:PST
DTSTART:20251102T090000
END:STANDARD
END:VTIMEZONE
BEGIN:VEVENT
DTSTART;TZID=America/Los_Angeles:20250410T110000
DTEND;TZID=America/Los_Angeles:20250410T150000
DTSTAMP:20260420T184301
CREATED:20250401T212433Z
LAST-MODIFIED:20250401T221147Z
UID:10005588-1744282800-1744297200@news.csun.edu
SUMMARY:Snaps and Caps
DESCRIPTION:Decorate your cap and get your picture snapped at Snaps and Caps! In collaboration with the Pride Center\, the DREAM Center is providing crafting materials to customize your cap for graduation throughout the event\, and on Thursday\, April 10\, you can take a photo in your cap between 11 a.m. and noon. Don’t miss out on this opportunity to commemorate your achievement!  \nRSVP for this event \nDo you need interpretation for this event? If so\, please fill out the Interpreting Services Request Form seven days prior to the event. 
URL:https://news.csun.edu/event/snaps-and-caps-3/
LOCATION:Pride Center\, University Student Union\, 18111 Nordhoff St.\, Northridge\, CA\, 91330-8272\, United States
CATEGORIES:DREAM Center,Pride Center,University Student Union,Veterans Resource Center
ATTACH;FMTTYPE=image/png:https://news.csun.edu/wp-content/uploads/2025/04/Calendar-1.png
ORGANIZER;CN="USU DREAM Center":MAILTO:dreamcenter@csun.edu
GEO:34.2400672654;-118.526959911
X-APPLE-STRUCTURED-LOCATION;VALUE=URI;X-ADDRESS=Pride Center University Student Union 18111 Nordhoff St. Northridge CA 91330-8272 United States;X-APPLE-RADIUS=500;X-TITLE=18111 Nordhoff St.:geo:-118.526959911,34.2400672654
END:VEVENT
END:VCALENDAR