BEGIN:VCALENDAR
VERSION:2.0
PRODID:-//CSUN News &amp; Events - ECPv6.11.2//NONSGML v1.0//EN
CALSCALE:GREGORIAN
METHOD:PUBLISH
X-WR-CALNAME:CSUN News &amp; Events
X-ORIGINAL-URL:https://news.csun.edu
X-WR-CALDESC:Events for CSUN News &amp; Events
REFRESH-INTERVAL;VALUE=DURATION:PT1H
X-Robots-Tag:noindex
X-PUBLISHED-TTL:PT1H
BEGIN:VTIMEZONE
TZID:America/Los_Angeles
BEGIN:DAYLIGHT
TZOFFSETFROM:-0800
TZOFFSETTO:-0700
TZNAME:PDT
DTSTART:20250309T100000
END:DAYLIGHT
BEGIN:STANDARD
TZOFFSETFROM:-0700
TZOFFSETTO:-0800
TZNAME:PST
DTSTART:20251102T090000
END:STANDARD
END:VTIMEZONE
BEGIN:VEVENT
DTSTART;TZID=America/Los_Angeles:20250510T160000
DTEND;TZID=America/Los_Angeles:20250510T190000
DTSTAMP:20260420T012157
CREATED:20250307T203302Z
LAST-MODIFIED:20250414T195528Z
UID:10005546-1746892800-1746903600@news.csun.edu
SUMMARY:Veterans Graduation
DESCRIPTION:Graduating veterans\, join us as we celebrate the hard work\, dedication\, and resilience you’ve demonstrated on your journey to academic accomplishment. Step back in time for an evening of timeless elegance and well-deserved recognition.  \nThis year’s Veterans Graduation will feature a themed dinner inspired by the Roaring Twenties\, a keynote address from Student Veterans of America’s Student Veteran of the Year\, Ralph Figueroa\, a pinning ceremony to honor your achievement\, and a toast to all branches of the military as we celebrate this remarkable milestone together. RSVP by April 18 to celebrate with your family\, friends and fellow veterans!  \nRSVP for this event \nDo you need interpretation for an event? If so\, please fill out the Interpreting Services Request Form at least seven business days prior to the event. 
URL:https://news.csun.edu/event/veterans-graduation/
LOCATION:Northridge Center\, Northridge Center Complex\, University Student Union\, 18111 Nordhoff St.\, Northridge\, CA\, 91330-8272\, United States
CATEGORIES:University Student Union,Veterans Resource Center
ATTACH;FMTTYPE=image/png:https://news.csun.edu/wp-content/uploads/2025/03/VRC_VetGrad_Calendar_SP25.png
ORGANIZER;CN="USU Veterans Resource Center":MAILTO:vrc@csun.edu
GEO:34.2401116195;-118.526225853
X-APPLE-STRUCTURED-LOCATION;VALUE=URI;X-ADDRESS=Northridge Center Northridge Center Complex University Student Union 18111 Nordhoff St. Northridge CA 91330-8272 United States;X-APPLE-RADIUS=500;X-TITLE=18111 Nordhoff St.:geo:-118.526225853,34.2401116195
END:VEVENT
BEGIN:VEVENT
DTSTART;TZID=America/Los_Angeles:20250512T160000
DTEND;TZID=America/Los_Angeles:20250512T200000
DTSTAMP:20260420T012157
CREATED:20250121T222638Z
LAST-MODIFIED:20260319T172435Z
UID:10005133-1747065600-1747080000@news.csun.edu
SUMMARY:VRC Study Jam
DESCRIPTION:Bunker down with everything you need for the perfect midterms and finals study sessions with Study Jam\, from food and energy drinks to study supplies and massage chairs. \nDo you need interpretation for an event? If so\, please fill out the Interpreting Services Request Form at least seven business days prior to the event. 
URL:https://news.csun.edu/event/vrc-study-jam-2/2025-05-12/
LOCATION:Veterans Resource Center\, University Student Union\, 18111 Nordhoff St.\, Northridge\, CA\, 91330-8272\, United States
CATEGORIES:University Student Union,Veterans Resource Center
ATTACH;FMTTYPE=image/png:https://news.csun.edu/wp-content/uploads/2024/09/VRC_StudyJam_Calendar-121224.png
ORGANIZER;CN="USU Veterans Resource Center":MAILTO:vrc@csun.edu
GEO:34.2396586826;-118.525485205
X-APPLE-STRUCTURED-LOCATION;VALUE=URI;X-ADDRESS=Veterans Resource Center University Student Union 18111 Nordhoff St. Northridge CA 91330-8272 United States;X-APPLE-RADIUS=500;X-TITLE=18111 Nordhoff St.:geo:-118.525485205,34.2396586826
END:VEVENT
BEGIN:VEVENT
DTSTART;TZID=America/Los_Angeles:20250513T160000
DTEND;TZID=America/Los_Angeles:20250513T200000
DTSTAMP:20260420T012157
CREATED:20250121T222638Z
LAST-MODIFIED:20260319T172435Z
UID:10005134-1747152000-1747166400@news.csun.edu
SUMMARY:VRC Study Jam
DESCRIPTION:Bunker down with everything you need for the perfect midterms and finals study sessions with Study Jam\, from food and energy drinks to study supplies and massage chairs. \nDo you need interpretation for an event? If so\, please fill out the Interpreting Services Request Form at least seven business days prior to the event. 
URL:https://news.csun.edu/event/vrc-study-jam-2/2025-05-13/
LOCATION:Veterans Resource Center\, University Student Union\, 18111 Nordhoff St.\, Northridge\, CA\, 91330-8272\, United States
CATEGORIES:University Student Union,Veterans Resource Center
ATTACH;FMTTYPE=image/png:https://news.csun.edu/wp-content/uploads/2024/09/VRC_StudyJam_Calendar-121224.png
ORGANIZER;CN="USU Veterans Resource Center":MAILTO:vrc@csun.edu
GEO:34.2396586826;-118.525485205
X-APPLE-STRUCTURED-LOCATION;VALUE=URI;X-ADDRESS=Veterans Resource Center University Student Union 18111 Nordhoff St. Northridge CA 91330-8272 United States;X-APPLE-RADIUS=500;X-TITLE=18111 Nordhoff St.:geo:-118.525485205,34.2396586826
END:VEVENT
BEGIN:VEVENT
DTSTART;TZID=America/Los_Angeles:20250514T160000
DTEND;TZID=America/Los_Angeles:20250514T200000
DTSTAMP:20260420T012157
CREATED:20250121T222638Z
LAST-MODIFIED:20260319T172435Z
UID:10005135-1747238400-1747252800@news.csun.edu
SUMMARY:VRC Study Jam
DESCRIPTION:Bunker down with everything you need for the perfect midterms and finals study sessions with Study Jam\, from food and energy drinks to study supplies and massage chairs. \nDo you need interpretation for an event? If so\, please fill out the Interpreting Services Request Form at least seven business days prior to the event. 
URL:https://news.csun.edu/event/vrc-study-jam-2/2025-05-14/
LOCATION:Veterans Resource Center\, University Student Union\, 18111 Nordhoff St.\, Northridge\, CA\, 91330-8272\, United States
CATEGORIES:University Student Union,Veterans Resource Center
ATTACH;FMTTYPE=image/png:https://news.csun.edu/wp-content/uploads/2024/09/VRC_StudyJam_Calendar-121224.png
ORGANIZER;CN="USU Veterans Resource Center":MAILTO:vrc@csun.edu
GEO:34.2396586826;-118.525485205
X-APPLE-STRUCTURED-LOCATION;VALUE=URI;X-ADDRESS=Veterans Resource Center University Student Union 18111 Nordhoff St. Northridge CA 91330-8272 United States;X-APPLE-RADIUS=500;X-TITLE=18111 Nordhoff St.:geo:-118.525485205,34.2396586826
END:VEVENT
BEGIN:VEVENT
DTSTART;TZID=America/Los_Angeles:20250515T160000
DTEND;TZID=America/Los_Angeles:20250515T200000
DTSTAMP:20260420T012157
CREATED:20250121T222638Z
LAST-MODIFIED:20260319T172435Z
UID:10005136-1747324800-1747339200@news.csun.edu
SUMMARY:VRC Study Jam
DESCRIPTION:Bunker down with everything you need for the perfect midterms and finals study sessions with Study Jam\, from food and energy drinks to study supplies and massage chairs. \nDo you need interpretation for an event? If so\, please fill out the Interpreting Services Request Form at least seven business days prior to the event. 
URL:https://news.csun.edu/event/vrc-study-jam-2/2025-05-15/
LOCATION:Veterans Resource Center\, University Student Union\, 18111 Nordhoff St.\, Northridge\, CA\, 91330-8272\, United States
CATEGORIES:University Student Union,Veterans Resource Center
ATTACH;FMTTYPE=image/png:https://news.csun.edu/wp-content/uploads/2024/09/VRC_StudyJam_Calendar-121224.png
ORGANIZER;CN="USU Veterans Resource Center":MAILTO:vrc@csun.edu
GEO:34.2396586826;-118.525485205
X-APPLE-STRUCTURED-LOCATION;VALUE=URI;X-ADDRESS=Veterans Resource Center University Student Union 18111 Nordhoff St. Northridge CA 91330-8272 United States;X-APPLE-RADIUS=500;X-TITLE=18111 Nordhoff St.:geo:-118.525485205,34.2396586826
END:VEVENT
END:VCALENDAR