BEGIN:VCALENDAR
VERSION:2.0
PRODID:-//CSUN News &amp; Events - ECPv6.11.2//NONSGML v1.0//EN
CALSCALE:GREGORIAN
METHOD:PUBLISH
X-ORIGINAL-URL:https://news.csun.edu
X-WR-CALDESC:Events for CSUN News &amp; Events
REFRESH-INTERVAL;VALUE=DURATION:PT1H
X-Robots-Tag:noindex
X-PUBLISHED-TTL:PT1H
BEGIN:VTIMEZONE
TZID:America/Los_Angeles
BEGIN:DAYLIGHT
TZOFFSETFROM:-0800
TZOFFSETTO:-0700
TZNAME:PDT
DTSTART:20260308T100000
END:DAYLIGHT
BEGIN:STANDARD
TZOFFSETFROM:-0700
TZOFFSETTO:-0800
TZNAME:PST
DTSTART:20261101T090000
END:STANDARD
END:VTIMEZONE
BEGIN:VEVENT
DTSTART;VALUE=DATE:20260209
DTEND;VALUE=DATE:20260313
DTSTAMP:20260423T004419
CREATED:20260128T001616Z
LAST-MODIFIED:20260210T181005Z
UID:10010319-1770595200-1773359999@news.csun.edu
SUMMARY:Level Up Your Fitness
DESCRIPTION:Level up on your fitness journey at the SRC’s group exercise (GX) classes and unlock special items throughout the month! After GX attendance reaches a total of 1\,500\, those who took one or more classes will be entered into a drawing for a Wellness Bundle and Beats Studio Pro Premium Wireless Over-Ear Headphones. Members will also be granted an additional entry each time they bring a friend who is taking a GX class for the first time.  \n  \nMilestones:  \nLevel 1 – Getting Started  \n\nAttend two to three GX Classes  \n\n\nPrize: SRC Tote Bag \n\nLevel 2 – Building Momentum  \n\nAttend three to five GX Classes \n\n\nPrize: SRC Shaker Bottle  \n\nLevel 3 – Staying Consistent   \n\nAttend: five to seven GX Classes  \n\n\nPrize: JBL Flip 5 Portable Speaker (three winners) \n\nLevel 4 – Fully Leveled Up   \n\nAttend seven or more GX Classes  \n\n\nPrize: Therabody Relief (three winners) \n\nGet rewarded for getting on the move!   \n  \nDo you need interpretation for an event? If so\, please fill out the Interpreting Services Request Form at least seven business days prior to the event. 
URL:https://news.csun.edu/event/level-up-your-fitness/
LOCATION:Student Recreation Center\, University Student Union\, 18111 Nordhoff St.\, Northridge\, CA\, 91330-8449\, United States
CATEGORIES:Student Recreation Center,University Student Union
ATTACH;FMTTYPE=image/png:https://news.csun.edu/wp-content/uploads/2026/01/Calendar-LevelUpYourFitness_SP26.png
ORGANIZER;CN="USU Student Recreation Center":MAILTO:src@csun.edu
GEO:34.2397767274;-118.525089862
X-APPLE-STRUCTURED-LOCATION;VALUE=URI;X-ADDRESS=Student Recreation Center University Student Union 18111 Nordhoff St. Northridge CA 91330-8449 United States;X-APPLE-RADIUS=500;X-TITLE=18111 Nordhoff St.:geo:-118.525089862,34.2397767274
END:VEVENT
BEGIN:VEVENT
DTSTART;TZID=America/Los_Angeles:20260210T080000
DTEND;TZID=America/Los_Angeles:20260227T180000
DTSTAMP:20260423T004419
CREATED:20260203T232150Z
LAST-MODIFIED:20260204T185050Z
UID:10010500-1770710400-1772215200@news.csun.edu
SUMMARY:AS and USU Elections: Apply
DESCRIPTION:Experience the Lasting Legacy of Leadership  \n  \nMatadors\, make your voice heard and apply to run for a seat on the USU Board of Directors! In this position\, you will help make decisions that directly impact student life. You will be the student voice for your fellow Matadors and oversee the policies and finances of the University Student Union\,including Student Recreation Center\, Oasis Wellness Center\, Pride Center\, Veterans Resource Center and DREAM Center.   \n  \nApply online between Feb. 10 – 27. Once approved\, you can start your campaign journey to elections from April 7 – 9. Leave your mark on CSUN and the University Student Union’s history!  
URL:https://news.csun.edu/event/as-and-usu-elections-apply/
LOCATION:CA
CATEGORIES:University Student Union
ATTACH;FMTTYPE=image/png:https://news.csun.edu/wp-content/uploads/2026/02/Calendar-BODElectionsApply-SP26.png
END:VEVENT
BEGIN:VEVENT
DTSTART;TZID=America/Los_Angeles:20260211T100000
DTEND;TZID=America/Los_Angeles:20260211T120000
DTSTAMP:20260423T004419
CREATED:20251223T185304Z
LAST-MODIFIED:20260129T235337Z
UID:10009512-1770804000-1770811200@news.csun.edu
SUMMARY:Bagels and Baes
DESCRIPTION:Unwind and stay connected with the veteran community on campus! Enjoy bagels\, chat and take a moment to enjoy various milestones and themes throughout the semester. Stop by and feed your body and mind with Bagel Bonding! 
URL:https://news.csun.edu/event/bagel-bonding-bagels-and-baes/
LOCATION:Veterans Resource Center\, University Student Union\, 18111 Nordhoff St.\, Northridge\, CA\, 91330-8272\, United States
CATEGORIES:University Student Union,Veterans Resource Center
ATTACH;FMTTYPE=image/png:https://news.csun.edu/wp-content/uploads/2025/12/829638287-calendar_bagelbonding_sp262.png
ORGANIZER;CN="USU Veterans Resource Center":MAILTO:vrc@csun.edu
GEO:34.2396586826;-118.525485205
X-APPLE-STRUCTURED-LOCATION;VALUE=URI;X-ADDRESS=Veterans Resource Center University Student Union 18111 Nordhoff St. Northridge CA 91330-8272 United States;X-APPLE-RADIUS=500;X-TITLE=18111 Nordhoff St.:geo:-118.525485205,34.2396586826
END:VEVENT
BEGIN:VEVENT
DTSTART;TZID=America/Los_Angeles:20260211T110000
DTEND;TZID=America/Los_Angeles:20260211T173000
DTSTAMP:20260423T004419
CREATED:20260120T221617Z
LAST-MODIFIED:20260127T182531Z
UID:10010200-1770807600-1770831000@news.csun.edu
SUMMARY:Spa Party
DESCRIPTION:When love is in the air\, your skin deserves some extra care. Treat yourself to a hands-on skincare lesson\, led by a licensed esthetician from Farmhouse Fresh. In this relaxing and informative workshop\, you’ll receive your own sampler products and become familiar with their uses and benefits.   \n  \nWhether you’re coming with a loved one\, a bestie or are enjoying some me-time\, get ready for Valentine’s Day by showing your skin a little love. Register for a session today on The USU Rec & Wellness Portal or the MINDBODY app.   \n  \nMust be a current CSUN student to enroll. Advance registration required and is limited to one per student.   \n  \nDo you need interpretation for an event? If so\, please fill out the Interpreting Services Request Form at least seven business days prior to the event.  \n 
URL:https://news.csun.edu/event/spa-party/
LOCATION:Oasis Wellness Center\, University Student Union\, 18111 Nordhoff St.\, Northridge\, CA\, 91330-8272\, United States
CATEGORIES:Oasis Wellness Center,University Student Union
ATTACH;FMTTYPE=image/png:https://news.csun.edu/wp-content/uploads/2026/01/Calendar-SpaParty_SP26.png
ORGANIZER;CN="USU Oasis Wellness Center":MAILTO:oasis@csun.edu
GEO:34.2394602802;-118.525822337
X-APPLE-STRUCTURED-LOCATION;VALUE=URI;X-ADDRESS=Oasis Wellness Center University Student Union 18111 Nordhoff St. Northridge CA 91330-8272 United States;X-APPLE-RADIUS=500;X-TITLE=18111 Nordhoff St.:geo:-118.525822337,34.2394602802
END:VEVENT
BEGIN:VEVENT
DTSTART;TZID=America/Los_Angeles:20260211T150000
DTEND;TZID=America/Los_Angeles:20260211T160000
DTSTAMP:20260423T004419
CREATED:20260204T195624Z
LAST-MODIFIED:20260204T195624Z
UID:10010508-1770822000-1770825600@news.csun.edu
SUMMARY:Safety Planning for Immigration-Related Emergency
DESCRIPTION:Join us to learn what concrete and proactive steps you can take to prepare for a future potential immigration-related emergency. \nRegister here.
URL:https://news.csun.edu/event/safety-planning-for-immigration-related-emergency/
LOCATION:CA
CATEGORIES:DREAM Center,University Student Union
ATTACH;FMTTYPE=image/png:https://news.csun.edu/wp-content/uploads/2024/09/Calendar_Placeholder_imgs7.png
ORGANIZER;CN="USU DREAM Center":MAILTO:dreamcenter@csun.edu
END:VEVENT
END:VCALENDAR