BEGIN:VCALENDAR
VERSION:2.0
PRODID:-//CSUN News &amp; Events - ECPv6.11.2//NONSGML v1.0//EN
CALSCALE:GREGORIAN
METHOD:PUBLISH
X-ORIGINAL-URL:https://news.csun.edu
X-WR-CALDESC:Events for CSUN News &amp; Events
REFRESH-INTERVAL;VALUE=DURATION:PT1H
X-Robots-Tag:noindex
X-PUBLISHED-TTL:PT1H
BEGIN:VTIMEZONE
TZID:America/Los_Angeles
BEGIN:DAYLIGHT
TZOFFSETFROM:-0800
TZOFFSETTO:-0700
TZNAME:PDT
DTSTART:20250309T100000
END:DAYLIGHT
BEGIN:STANDARD
TZOFFSETFROM:-0700
TZOFFSETTO:-0800
TZNAME:PST
DTSTART:20251102T090000
END:STANDARD
END:VTIMEZONE
BEGIN:VEVENT
DTSTART;VALUE=DATE:20250401
DTEND;VALUE=DATE:20250405
DTSTAMP:20260422T155531
CREATED:20250206T212130Z
LAST-MODIFIED:20250310T181038Z
UID:10005297-1743465600-1743811199@news.csun.edu
SUMMARY:Round 4 Round
DESCRIPTION:Get ready to rumble! Join the SRC’s Boxing Training Program in a four-category boxing challenge. Participants must first complete an orientation and obtain a red pass before competing. The top 10 fastest times for each category will rise to the top of the leaderboard. First place winners from the three individual categories will receive a JBL Flip 5 speaker. The first-place overall champion will mark their name on the new Boxing Training Program championship belt and take home the title\, as well as a pair of Beats Studio Pros!   \nYou can choose to compete in one or each category:   \n\n100 jump ropes \n150 dip line weaves \n200 punches \nOverall combined time* \n\n*To compete in the overall combined time category\, members must participate in all three categories. 
URL:https://news.csun.edu/event/round-4-round/
LOCATION:Rob Newkirk Determination Studio\, Student Recreation Center\, University Student Union\, 18111 Nordhoff St.\, Northridge\, CA\, 91330-8449\, United States
CATEGORIES:Student Recreation Center,University Student Union
ATTACH;FMTTYPE=image/png:https://news.csun.edu/wp-content/uploads/2025/02/SRC_Round4Round_20250405.png
ORGANIZER;CN="USU Student Recreation Center":MAILTO:src@csun.edu
GEO:34.240394787;-118.524963361
X-APPLE-STRUCTURED-LOCATION;VALUE=URI;X-ADDRESS=Rob Newkirk Determination Studio Student Recreation Center University Student Union 18111 Nordhoff St. Northridge CA 91330-8449 United States;X-APPLE-RADIUS=500;X-TITLE=18111 Nordhoff St.:geo:-118.524963361,34.240394787
END:VEVENT
BEGIN:VEVENT
DTSTART;TZID=America/Los_Angeles:20250404T090000
DTEND;TZID=America/Los_Angeles:20250404T160000
DTSTAMP:20260422T155531
CREATED:20250203T225100Z
LAST-MODIFIED:20250203T225248Z
UID:10005246-1743757200-1743782400@news.csun.edu
SUMMARY:CPR\, AED & First Aid Certification
DESCRIPTION:Get CPR\, AED & First Aid certified in one day with the Student Recreation Center! \nGet American Red Cross certified in only one day with our CPR/First Aid/AED classes. For $59\, you can acquire the skills it takes to provide immediate care to a suddenly injured or ill person by recognizing and responding to cardiac\, breathing and first aid emergencies. \nFor more information\, visit SRC website. Register via the SRC Portal or at the SRC Front Desk. Registration closes one day prior to the first class session. Don’t wait to learn crucial skills that can save lives!
URL:https://news.csun.edu/event/cpr-aed-first-aid-certification/2025-04-04/
LOCATION:CA
CATEGORIES:Student Recreation Center,University Student Union
ATTACH;FMTTYPE=image/png:https://news.csun.edu/wp-content/uploads/2025/02/SRC_AmericanRedCrossCPR_Calendar_SP25.png
ORGANIZER;CN="USU Student Recreation Center":MAILTO:src@csun.edu
END:VEVENT
BEGIN:VEVENT
DTSTART;TZID=America/Los_Angeles:20250404T150000
DTEND;TZID=America/Los_Angeles:20250404T160000
DTSTAMP:20260422T155531
CREATED:20250219T210116Z
LAST-MODIFIED:20250219T210116Z
UID:10005440-1743778800-1743782400@news.csun.edu
SUMMARY:USU Tech Tips: Photoshop I
DESCRIPTION:Get the skills you’ll need to shine in your next presentation\, class and personal projects with our Tech Tips Workshops. Register now and don’t miss this chance to upgrade your abilities! 
URL:https://news.csun.edu/event/usu-tech-tips-photoshop-i-2/2025-04-04/
LOCATION:Computer Lab\, University Student Union\, 18111 Nordhoff St\, Northridge\, 91330\, United States
CATEGORIES:University Student Union
ATTACH;FMTTYPE=image/png:https://news.csun.edu/wp-content/uploads/2024/09/TechTips_Calendar.png
ORGANIZER;CN="USU Computer Lab":MAILTO:usulab@csun.edu
END:VEVENT
END:VCALENDAR