BEGIN:VCALENDAR
VERSION:2.0
PRODID:-//CSUN News &amp; Events - ECPv6.11.2//NONSGML v1.0//EN
CALSCALE:GREGORIAN
METHOD:PUBLISH
X-ORIGINAL-URL:https://news.csun.edu
X-WR-CALDESC:Events for CSUN News &amp; Events
REFRESH-INTERVAL;VALUE=DURATION:PT1H
X-Robots-Tag:noindex
X-PUBLISHED-TTL:PT1H
BEGIN:VTIMEZONE
TZID:America/Los_Angeles
BEGIN:DAYLIGHT
TZOFFSETFROM:-0800
TZOFFSETTO:-0700
TZNAME:PDT
DTSTART:20250309T100000
END:DAYLIGHT
BEGIN:STANDARD
TZOFFSETFROM:-0700
TZOFFSETTO:-0800
TZNAME:PST
DTSTART:20251102T090000
END:STANDARD
END:VTIMEZONE
BEGIN:VEVENT
DTSTART;TZID=America/Los_Angeles:20250305T120000
DTEND;TZID=America/Los_Angeles:20250305T130000
DTSTAMP:20260421T114755
CREATED:20250204T012006Z
LAST-MODIFIED:20250228T005354Z
UID:10005257-1741176000-1741179600@news.csun.edu
SUMMARY:Employment-Based Immigration Options
DESCRIPTION:Join CARECEN to learn about employment-based immigration options and other related topics. \nRegister for this Event
URL:https://news.csun.edu/event/employment-based-immigration-options-2/
LOCATION:Zoom
CATEGORIES:DREAM Center,University Student Union
ATTACH;FMTTYPE=image/png:https://news.csun.edu/wp-content/uploads/2024/09/Calendar_Placeholder_imgs7.png
ORGANIZER;CN="USU DREAM Center":MAILTO:dreamcenter@csun.edu
END:VEVENT
BEGIN:VEVENT
DTSTART;TZID=America/Los_Angeles:20250305T150000
DTEND;TZID=America/Los_Angeles:20250305T160000
DTSTAMP:20260421T114755
CREATED:20250219T204932Z
LAST-MODIFIED:20250219T204932Z
UID:10005433-1741186800-1741190400@news.csun.edu
SUMMARY:USU Tech Tips: Word
DESCRIPTION:Get the skills you’ll need to shine in your next presentation\, class and personal projects with our Tech Tips Workshops. Register now and don’t miss this chance to upgrade your abilities! 
URL:https://news.csun.edu/event/usu-tech-tips-word-2/2025-03-05/
LOCATION:Computer Lab\, University Student Union\, 18111 Nordhoff St\, Northridge\, 91330\, United States
CATEGORIES:University Student Union
ATTACH;FMTTYPE=image/png:https://news.csun.edu/wp-content/uploads/2024/09/TechTips_Calendar.png
ORGANIZER;CN="USU Computer Lab":MAILTO:usulab@csun.edu
END:VEVENT
END:VCALENDAR