BEGIN:VCALENDAR
VERSION:2.0
PRODID:-//CSUN News &amp; Events - ECPv6.11.2//NONSGML v1.0//EN
CALSCALE:GREGORIAN
METHOD:PUBLISH
X-WR-CALNAME:CSUN News &amp; Events
X-ORIGINAL-URL:https://news.csun.edu
X-WR-CALDESC:Events for CSUN News &amp; Events
REFRESH-INTERVAL;VALUE=DURATION:PT1H
X-Robots-Tag:noindex
X-PUBLISHED-TTL:PT1H
BEGIN:VTIMEZONE
TZID:America/Los_Angeles
BEGIN:DAYLIGHT
TZOFFSETFROM:-0800
TZOFFSETTO:-0700
TZNAME:PDT
DTSTART:20260308T100000
END:DAYLIGHT
BEGIN:STANDARD
TZOFFSETFROM:-0700
TZOFFSETTO:-0800
TZNAME:PST
DTSTART:20261101T090000
END:STANDARD
BEGIN:DAYLIGHT
TZOFFSETFROM:-0800
TZOFFSETTO:-0700
TZNAME:PDT
DTSTART:20270314T100000
END:DAYLIGHT
BEGIN:STANDARD
TZOFFSETFROM:-0700
TZOFFSETTO:-0800
TZNAME:PST
DTSTART:20271107T090000
END:STANDARD
END:VTIMEZONE
BEGIN:VEVENT
DTSTART;VALUE=DATE:20260712
DTEND;VALUE=DATE:20260713
DTSTAMP:20260422T215754
CREATED:20260117T002842Z
LAST-MODIFIED:20260117T012841Z
UID:10010143-1783814400-1783900799@news.csun.edu
SUMMARY:Waitlist Ends\, Summer 2026\, Session 3
DESCRIPTION:Sunday\, July 12\, 2026 is the last day to wait-list for closed classes in Summer 2026\, Session 3. \nTo ADD a class in Session 3 beginning Monday\, July 13: \n\nRequest a permission number from your professor or the department offering the course.\nAdd online using the permission number you received.\nThe last day to add a Session 3 class with permission is Friday\, July 31.\n\nTo DROP a class in Session 3\, you may drop online before 11:59 p.m. on Friday\, July 17. After that\, formal approval is required to drop. See the University Catalog policy for Withdrawal. \nResources:\n\nLate Schedule Changes\nRegistration FAQ: Permission Numbers\nSummer 2026 Registration Calendar
URL:https://news.csun.edu/event/waitlist-ends-summer-2026-session-3/
CATEGORIES:Student Academic Calendar,Summer Term
ATTACH;FMTTYPE=image/png:https://news.csun.edu/wp-content/uploads/2025/01/sac-icon-summer.png
END:VEVENT
BEGIN:VEVENT
DTSTART;VALUE=DATE:20260717
DTEND;VALUE=DATE:20260718
DTSTAMP:20260422T215754
CREATED:20260117T014200Z
LAST-MODIFIED:20260117T014200Z
UID:10010154-1784246400-1784332799@news.csun.edu
SUMMARY:Last Day to Drop\, Summer 2026\, Session 3
DESCRIPTION:Friday\, July 17\, 2026 is the last day to drop a class online for Summer Session 3\, the second 6-week session\, using self-service registration. \n\nYou may continue to add a class online with a permission number from the instructor or department offering the course through Friday\, July 31.\nAfter 11:59 p.m. today\, withdrawing from classes or changing the basis of grading (undergraduate students) in Session 3 are not permitted without formal approval.\n\nResources: \n\nAcademic Advisement\nLate Schedule Change Forms\nRefund Information for Most CSUN Students (state support)\nRefund Information\, Tseng College Open University (extension self support)\nRegistration FAQ: Permission Numbers\nSummer 2026 Registration Calendar
URL:https://news.csun.edu/event/last-day-to-drop-summer-2026-session-3/
CATEGORIES:Student Academic Calendar,Summer Term
ATTACH;FMTTYPE=image/png:https://news.csun.edu/wp-content/uploads/2025/01/sac-icon-summer.png
END:VEVENT
BEGIN:VEVENT
DTSTART;TZID=America/Los_Angeles:20260724T100000
DTEND;TZID=America/Los_Angeles:20260724T160000
DTSTAMP:20260422T215754
CREATED:20241107T223336Z
LAST-MODIFIED:20260122T021813Z
UID:10004594-1784887200-1784908800@news.csun.edu
SUMMARY:Last Day to File Documents for Spring 2026 Graduation
DESCRIPTION:Friday\, July 24\, 2026\, is the last day to file documents and confirm awarding of Bachelor’s Degree for spring 2026 graduation. Be sure to submit all documents in order to verify your degree and diploma! \nIf meeting the document deadline isn’t possible\, file a Graduation Date Change for Bachelor’s Degree (PDF) form. \nFor assistance\, contact the Office of Undergraduate Degree Services. \n\nWe are located in Bayramian Hall (BH)\, Room 170.\nOur office opens at 10 a.m. and closes at 4 p.m.\, so please arrive by 3:45 p.m. if possible.
URL:https://news.csun.edu/event/last-day-to-file-documents-for-spring-2026-graduation/
CATEGORIES:Spring Term,Student Academic Calendar,Summer Term
ATTACH;FMTTYPE=image/png:https://news.csun.edu/wp-content/uploads/2024/08/sac-icon-deadline.png
END:VEVENT
BEGIN:VEVENT
DTSTART;VALUE=DATE:20260818
DTEND;VALUE=DATE:20260819
DTSTAMP:20260422T215754
CREATED:20260123T205203Z
LAST-MODIFIED:20260123T205203Z
UID:10010272-1787011200-1787097599@news.csun.edu
SUMMARY:Last Day of Summer Term 2026
DESCRIPTION:Tuesday\, Aug. 18\, 2026\, is the last day of Summer 2026 classes\, Session 1 (12 weeks) and Session 3 (second 6 weeks). \nIt’s the last day of the entire summer term. \n\nFinal exams in summer are typically scheduled for the last class meeting. Please check with your professor.\nYou may view grades for all summer session courses online starting Aug. 18.\nGrades are updated nightly hereafter. Official transcripts will be available after summer end-of-term processing is complete.\n\nLearn more at Order Official CSUN Transcripts. \nCongratulations on wrapping up Summer Term 2026!
URL:https://news.csun.edu/event/last-day-of-summer-term-2026/
CATEGORIES:Student Academic Calendar,Summer Term
ATTACH;FMTTYPE=image/png:https://news.csun.edu/wp-content/uploads/2025/01/sac-icon-summer.png
END:VEVENT
BEGIN:VEVENT
DTSTART;VALUE=DATE:20260925
DTEND;VALUE=DATE:20260926
DTSTAMP:20260422T215754
CREATED:20260122T020634Z
LAST-MODIFIED:20260122T020634Z
UID:10010264-1790294400-1790380799@news.csun.edu
SUMMARY:Last Day to Apply for Bachelor's Degree\, Spring & Summer 2027
DESCRIPTION:Friday\, Sept. 25\, 2026\, is the last day to apply “on time” to graduate with the Bachelor’s Degree in spring and summer 2027. Applying after Sept. 25 requires a $10 late fee. \nMost majors can apply online through the CSUN Portal and the SOLAR Student Center. Learn more with the Online Graduation Application Guide. \nApply for Bachelor’s Degree & Diploma\nUndergraduate students may apply to graduate for the spring\, summer or fall terms. As soon as you complete 90 units including units in progress\, you will receive an email from Undergraduate Degree Services that you are eligible to apply to graduate. Contact your academic advisor to review completed and incomplete degree requirements. \nSpring & Summer 2027 Graduation Due Dates*\nThe following two due dates are shared for both spring or summer 2026 graduation: \n\nSept. 25\, 2026 – Last day to apply for spring or summer 2027 graduation without a late fee. Applying after this date\, whether online or on paper\, will require a $10 late fee. Helpful: Online Graduation Application Guide\nMarch 5\, 2027 – Last day to apply for spring or summer graduation in order to participate in the 2027 Commencement Ceremony and have your name published in the program.\n\nDocument Deadlines\nThe deadlines to submit documents and confirm awarding of the Bachelor’s Degree differ for spring and summer: \n\nJuly 23\, 2027 – Last day to submit documents and confirm awarding of Bachelor’s Degree for SPRING 2027 graduation.\nSept. 24\, 2027 – Last day to submit documents and confirm awarding of Bachelor’s Degree for SUMMER 2027 graduation.\n\n* The Office of Undergraduate Degree Services closes at 4:00 p.m. Please arrive by 3:45 p.m. \nLearn more at When and How to Apply for the Bachelor’s Degree.
URL:https://news.csun.edu/event/last-day-to-apply-for-bachelors-degree-spring-summer-2027/
CATEGORIES:Fall Term,Spring Term,Student Academic Calendar,Summer Term
ATTACH;FMTTYPE=image/png:https://news.csun.edu/wp-content/uploads/2024/08/sac-icon-deadline.png
END:VEVENT
BEGIN:VEVENT
DTSTART;TZID=America/Los_Angeles:20261002T100000
DTEND;TZID=America/Los_Angeles:20261002T160000
DTSTAMP:20260422T215754
CREATED:20241107T223551Z
LAST-MODIFIED:20260122T022502Z
UID:10004595-1790935200-1790956800@news.csun.edu
SUMMARY:Last Day to File Documents for Summer 2026 Graduation
DESCRIPTION:Friday\, Oct. 2\, 2026\, is the last day to file documents and confirm awarding of Bachelor’s Degree for summer 2026 graduation. Be sure to submit all documents in order to verify your degree and diploma! \nIf meeting the document deadline isn’t possible\, file a Graduation Date Change for Bachelor’s Degree (PDF) form. \nFor assistance\, contact the Office of Undergraduate Degree Services. \n\nWe are located in Bayramian Hall (BH)\, Room 170.\nOur office hours are 10 a.m. to 4 p.m. Please arrive by 3:45 p.m. if possible.
URL:https://news.csun.edu/event/last-day-to-file-documents-for-summer-2026-graduation/
CATEGORIES:Fall Term,Student Academic Calendar,Summer Term
ATTACH;FMTTYPE=image/png:https://news.csun.edu/wp-content/uploads/2024/08/sac-icon-deadline.png
END:VEVENT
BEGIN:VEVENT
DTSTART;VALUE=DATE:20270305
DTEND;VALUE=DATE:20270306
DTSTAMP:20260422T215754
CREATED:20260122T021253Z
LAST-MODIFIED:20260122T021253Z
UID:10010265-1804204800-1804291199@news.csun.edu
SUMMARY:Last Day for Commencement Program 2027
DESCRIPTION:Friday\, March 5\, 2027\, is the last day to apply for spring or summer 2027 Bachelor’s Degree graduation to participate in the 2027 Commencement Ceremony and have your name published in the Commencement Program.* \nApply for Graduation on Time!\nAs soon as you have 90 units including work in progress\, meet with your academic advisor to review your completed and incomplete degree requirements. Then apply for graduation for the term in which you anticipate completing everything. You may apply to graduate for the spring\, summer or fall terms. \nSpring and Summer 2027 Graduation Due Dates\n\nSept. 25\, 2026 – On-time application deadline to apply for Spring and Summer 2026 graduation. Applying after this date\, whether online or on paper\, will require a $10 late fee. Helpful: Online Graduation Application Guide\nMarch 5\, 2027 – Last day to apply for graduation in order to participate in the 2027 Commencement Ceremony and have your name published in the program. Be sure to attend GradFest in mid-March!\n\nDocument Deadlines\n\nJuly 23\, 2027 – Last day to submit documents and confirm awarding of Bachelor’s Degree for SPRING 2027.\nSept. 24\, 2027 – Last day to submit documents and confirm awarding of Bachelor’s Degree for SUMMER 2027.\n\nLearn more: When and How to Apply for the Bachelor’s Degree \nFor assistance\, contact the Office of Undergraduate Degree Services. \n\nWe are located in Bayramian Hall (BH)\, Room 170.\nThe office closes at 4 p.m.\, so please arrive by 3:45 p.m. if possible.\n\n*Please note: Participating in Commencement does not necessarily mean you have completed all degree requirements and have been awarded the degree. Learn more at Bachelor’s Degree Graduation & Commencement.
URL:https://news.csun.edu/event/last-day-for-commencement-program-2027/
CATEGORIES:Academics,Spring Term,Student Academic Calendar,Summer Term
ATTACH;FMTTYPE=image/png:https://news.csun.edu/wp-content/uploads/2024/08/sac-icon-deadline.png
END:VEVENT
BEGIN:VEVENT
DTSTART;TZID=America/Los_Angeles:20270723T100000
DTEND;TZID=America/Los_Angeles:20270723T160000
DTSTAMP:20260422T215754
CREATED:20260122T015436Z
LAST-MODIFIED:20260122T022750Z
UID:10010262-1816336800-1816358400@news.csun.edu
SUMMARY:Last Day to File Documents for Spring 2027 Graduation
DESCRIPTION:Friday\, July 23\, 2027\, is the last day to submit documents and confirm awarding of the bachelor’s degree for spring 2027 graduation. Be sure to submit all documents in order to verify your degree and diploma! \nIf meeting the document deadline isn’t possible\, file a Graduation Date Change for Bachelor’s Degree (PDF) form. \nFor assistance\, contact the Office of Undergraduate Degree Services. \n\nWe are located in Bayramian Hall (BH)\, Room 170.\nThe office closes at 4 p.m.\, so please arrive by 3:45 p.m. if possible.
URL:https://news.csun.edu/event/last-day-to-file-documents-for-spring-2027-graduation/
CATEGORIES:Spring Term,Student Academic Calendar,Summer Term
ATTACH;FMTTYPE=image/png:https://news.csun.edu/wp-content/uploads/2024/08/sac-icon-deadline.png
END:VEVENT
BEGIN:VEVENT
DTSTART;TZID=America/Los_Angeles:20270924T100000
DTEND;TZID=America/Los_Angeles:20270924T160000
DTSTAMP:20260422T215754
CREATED:20260122T015735Z
LAST-MODIFIED:20260122T023015Z
UID:10010263-1821780000-1821801600@news.csun.edu
SUMMARY:Last Day to File Documents for Summer 2027 Graduation
DESCRIPTION:Friday\, Sept. 24\, 2027\, is the last day to file documents and confirm awarding of Bachelor’s Degree for summer 2027 graduation. Be sure to submit all documents in order to verify your degree and diploma! \nIf meeting the document deadline isn’t possible\, file a Graduation Date Change for Bachelor’s Degree (PDF) form. \nFor assistance\, contact the Office of Undergraduate Degree Services. \n\nWe are located in Bayramian Hall (BH)\, Room 170.\nOur office hours are 10 a.m. to 4 p.m. Please arrive by 3:45 p.m. if possible.
URL:https://news.csun.edu/event/last-day-to-file-documents-for-summer-2027-graduation/
CATEGORIES:Fall Term,Student Academic Calendar,Summer Term
ATTACH;FMTTYPE=image/png:https://news.csun.edu/wp-content/uploads/2024/08/sac-icon-deadline.png
END:VEVENT
END:VCALENDAR