BEGIN:VCALENDAR
VERSION:2.0
PRODID:-//CSUN News &amp; Events - ECPv6.11.2//NONSGML v1.0//EN
CALSCALE:GREGORIAN
METHOD:PUBLISH
X-WR-CALNAME:CSUN News &amp; Events
X-ORIGINAL-URL:https://news.csun.edu
X-WR-CALDESC:Events for CSUN News &amp; Events
REFRESH-INTERVAL;VALUE=DURATION:PT1H
X-Robots-Tag:noindex
X-PUBLISHED-TTL:PT1H
BEGIN:VTIMEZONE
TZID:America/Los_Angeles
BEGIN:DAYLIGHT
TZOFFSETFROM:-0800
TZOFFSETTO:-0700
TZNAME:PDT
DTSTART:20260308T100000
END:DAYLIGHT
BEGIN:STANDARD
TZOFFSETFROM:-0700
TZOFFSETTO:-0800
TZNAME:PST
DTSTART:20261101T090000
END:STANDARD
END:VTIMEZONE
BEGIN:VEVENT
DTSTART;VALUE=DATE:20260504
DTEND;VALUE=DATE:20260516
DTSTAMP:20260423T024842
CREATED:20260408T214816Z
LAST-MODIFIED:20260421T205355Z
UID:10011324-1777852800-1778889599@news.csun.edu
SUMMARY:SRC Membership and Locker Service Renewals
DESCRIPTION:Spring 2026 memberships and locker service expire Friday\, May 15 at 8 p.m.   \nStarting Monday\, May 4\, you can renew your membership and locker services for the summer at the SRC front desk\, or by logging into the SRC portal. If you choose not to renew your locker service\, please remove all of your belongings before 8 p.m. on Friday\, May 15. Items that are left behind will be retained in accordance with the University Student Union lost and found policy.   \nIf you’re a CSUN student enrolled in Summer 2026\, your SRC membership fee is already included in your campus fees.   \nPlease visit the SRC front desk if you have any questions.   \n  \nNon-student members: The Oasis is open to you this summer!   \nWhen you purchase a summer SRC membership\, you can find relaxation all summer long. If you wish to only access the Oasis this summer\, please visit the Oasis front desk to purchase your membership.   \n Access to the Oasis will expire at the end of the summer on Friday\, August 14.   \n  \nRenew your membership and make plans to stay motivated at the SRC and Oasis! 
URL:https://news.csun.edu/event/src-membership-and-locker-service-renewals/
LOCATION:Student Recreation Center\, University Student Union\, 18111 Nordhoff St.\, Northridge\, CA\, 91330-8449\, United States
CATEGORIES:Student Recreation Center,University Student Union
ATTACH;FMTTYPE=image/png:https://news.csun.edu/wp-content/uploads/2024/09/Calendar_Placeholder_imgs2.png
ORGANIZER;CN="USU Student Recreation Center":MAILTO:src@csun.edu
GEO:34.2397767274;-118.525089862
X-APPLE-STRUCTURED-LOCATION;VALUE=URI;X-ADDRESS=Student Recreation Center University Student Union 18111 Nordhoff St. Northridge CA 91330-8449 United States;X-APPLE-RADIUS=500;X-TITLE=18111 Nordhoff St.:geo:-118.525089862,34.2397767274
END:VEVENT
END:VCALENDAR