BEGIN:VCALENDAR
VERSION:2.0
PRODID:-//CSUN News &amp; Events - ECPv6.11.2//NONSGML v1.0//EN
CALSCALE:GREGORIAN
METHOD:PUBLISH
X-ORIGINAL-URL:https://news.csun.edu
X-WR-CALDESC:Events for CSUN News &amp; Events
REFRESH-INTERVAL;VALUE=DURATION:PT1H
X-Robots-Tag:noindex
X-PUBLISHED-TTL:PT1H
BEGIN:VTIMEZONE
TZID:America/Los_Angeles
BEGIN:DAYLIGHT
TZOFFSETFROM:-0800
TZOFFSETTO:-0700
TZNAME:PDT
DTSTART:20250309T100000
END:DAYLIGHT
BEGIN:STANDARD
TZOFFSETFROM:-0700
TZOFFSETTO:-0800
TZNAME:PST
DTSTART:20251102T090000
END:STANDARD
END:VTIMEZONE
BEGIN:VEVENT
DTSTART;TZID=America/Los_Angeles:20250228T090000
DTEND;TZID=America/Los_Angeles:20250228T160000
DTSTAMP:20260422T144812
CREATED:20250203T225100Z
LAST-MODIFIED:20250203T225248Z
UID:10005241-1740733200-1740758400@news.csun.edu
SUMMARY:CPR\, AED & First Aid Certification
DESCRIPTION:Get CPR\, AED & First Aid certified in one day with the Student Recreation Center! \nGet American Red Cross certified in only one day with our CPR/First Aid/AED classes. For $59\, you can acquire the skills it takes to provide immediate care to a suddenly injured or ill person by recognizing and responding to cardiac\, breathing and first aid emergencies. \nFor more information\, visit SRC website. Register via the SRC Portal or at the SRC Front Desk. Registration closes one day prior to the first class session. Don’t wait to learn crucial skills that can save lives!
URL:https://news.csun.edu/event/cpr-aed-first-aid-certification/2025-02-28/
LOCATION:CA
CATEGORIES:Student Recreation Center,University Student Union
ATTACH;FMTTYPE=image/png:https://news.csun.edu/wp-content/uploads/2025/02/SRC_AmericanRedCrossCPR_Calendar_SP25.png
ORGANIZER;CN="USU Student Recreation Center":MAILTO:src@csun.edu
END:VEVENT
END:VCALENDAR