BEGIN:VCALENDAR
VERSION:2.0
PRODID:-//CSUN News &amp; Events - ECPv6.11.2//NONSGML v1.0//EN
CALSCALE:GREGORIAN
METHOD:PUBLISH
X-ORIGINAL-URL:https://news.csun.edu
X-WR-CALDESC:Events for CSUN News &amp; Events
REFRESH-INTERVAL;VALUE=DURATION:PT1H
X-Robots-Tag:noindex
X-PUBLISHED-TTL:PT1H
BEGIN:VTIMEZONE
TZID:America/Los_Angeles
BEGIN:DAYLIGHT
TZOFFSETFROM:-0800
TZOFFSETTO:-0700
TZNAME:PDT
DTSTART:20240310T100000
END:DAYLIGHT
BEGIN:STANDARD
TZOFFSETFROM:-0700
TZOFFSETTO:-0800
TZNAME:PST
DTSTART:20241103T090000
END:STANDARD
END:VTIMEZONE
BEGIN:VEVENT
DTSTART;TZID=America/Los_Angeles:20240925T110000
DTEND;TZID=America/Los_Angeles:20240925T140000
DTSTAMP:20260423T002908
CREATED:20240529T191421Z
LAST-MODIFIED:20240930T234124Z
UID:10000269-1727262000-1727272800@news.csun.edu
SUMMARY:Welcome to Wellness — Daydream Delights
DESCRIPTION:Unwind\, connect and dream with Welcome to Wellness.  \nImmerse yourself in a day dedicated to your well-being and celebrate World Dream Day with Welcome to Wellness. Discover the array of services the Oasis Wellness Center offers\, designed to nourish your mind\, body and soul.   \nDaydream Delights  \nExplore our vibrant wellness fair\, engage with our wonderful campus partners\, enjoy uplifting music and indulge in activities that soothe and inspire. Don’t miss the chance to learn about our newest services while refreshing yourself with delicious snacks. As you explore each service and resource\, you’ll earn entries into our grand prize giveaway\, with three incredible prizes up for grabs! \nUnwind\, connect and dream with Welcome to Wellness. This rejuvenating experience will leave you refreshed and inspired all semester long.  \nDo you need interpretation for this event? If so\, please fill out the Interpreting Services Request Form at least seven business days prior to the event. 
URL:https://news.csun.edu/event/oasis-welcome-to-wellness/
LOCATION:Oasis Wellness Center\, University Student Union\, 18111 Nordhoff St.\, Northridge\, CA\, 91330-8272\, United States
CATEGORIES:Oasis Wellness Center,Student Recreation Center,University Student Union
ATTACH;FMTTYPE=image/png:https://news.csun.edu/wp-content/uploads/2024/08/Calendar_W2W_FA24-09262024.png
ORGANIZER;CN="USU Oasis Wellness Center":MAILTO:oasis@csun.edu
GEO:34.2394602802;-118.525822337
X-APPLE-STRUCTURED-LOCATION;VALUE=URI;X-ADDRESS=Oasis Wellness Center University Student Union 18111 Nordhoff St. Northridge CA 91330-8272 United States;X-APPLE-RADIUS=500;X-TITLE=18111 Nordhoff St.:geo:-118.525822337,34.2394602802
END:VEVENT
BEGIN:VEVENT
DTSTART;TZID=America/Los_Angeles:20240925T173000
DTEND;TZID=America/Los_Angeles:20240925T190000
DTSTAMP:20260423T002908
CREATED:20240821T223502Z
LAST-MODIFIED:20240930T234116Z
UID:10003057-1727285400-1727290800@news.csun.edu
SUMMARY:Welcome to Wellness — Evening Bliss
DESCRIPTION:Unwind\, connect and dream with Welcome to Wellness.  \nImmerse yourself in a day dedicated to your well-being and celebrate World Dream Day with Welcome to Wellness. Discover the array of services the Oasis Wellness Center offers\, designed to nourish your mind\, body and soul.   \nEvening Bliss \nJoin us at the SRC Rec Pool for an evening of tranquility and sensory delight. Begin with aroma blending where you can craft a personalized scent\, then surrender to the calming waves of a sound bath\, as you float peacefully in the pool or relax on yoga mats by the water. This Sound Meditation for Transcendental Dreamers will transport you to a place of tranquility and harmony with soothing sounds tuned to your chakras. The meditation begins promptly at 6 p.m.\, so arrive early to secure your spot.  \nRegister in advance on the USU Rec & Wellness Portal or the MINDBODY app. \nUnwind\, connect and dream with Welcome to Wellness. This rejuvenating experience will leave you refreshed and inspired all semester long.  \nDo you need interpretation for this event? If so\, please fill out the Interpreting Services Request Form at least seven business days prior to the event. 
URL:https://news.csun.edu/event/welcome-to-wellness-evening-bliss/
LOCATION:Rec Pool\, Student Recreation Center\, University Student Union\, 18111 Nordhoff St.\, Northridge\, CA\, 91330-8449\, United States
CATEGORIES:Oasis Wellness Center,Student Recreation Center,University Student Union
ATTACH;FMTTYPE=image/png:https://news.csun.edu/wp-content/uploads/2024/08/Calendar_W2W_FA24-09262024.png
ORGANIZER;CN="USU Oasis Wellness Center":MAILTO:oasis@csun.edu
GEO:34.240676354;-118.525553212
X-APPLE-STRUCTURED-LOCATION;VALUE=URI;X-ADDRESS=Rec Pool Student Recreation Center University Student Union 18111 Nordhoff St. Northridge CA 91330-8449 United States;X-APPLE-RADIUS=500;X-TITLE=18111 Nordhoff St.:geo:-118.525553212,34.240676354
END:VEVENT
END:VCALENDAR