BEGIN:VCALENDAR
VERSION:2.0
PRODID:-//CSUN News &amp; Events - ECPv6.11.2//NONSGML v1.0//EN
CALSCALE:GREGORIAN
METHOD:PUBLISH
X-WR-CALNAME:CSUN News &amp; Events
X-ORIGINAL-URL:https://news.csun.edu
X-WR-CALDESC:Events for CSUN News &amp; Events
REFRESH-INTERVAL;VALUE=DURATION:PT1H
X-Robots-Tag:noindex
X-PUBLISHED-TTL:PT1H
BEGIN:VTIMEZONE
TZID:America/Los_Angeles
BEGIN:DAYLIGHT
TZOFFSETFROM:-0800
TZOFFSETTO:-0700
TZNAME:PDT
DTSTART:20240310T100000
END:DAYLIGHT
BEGIN:STANDARD
TZOFFSETFROM:-0700
TZOFFSETTO:-0800
TZNAME:PST
DTSTART:20241103T090000
END:STANDARD
END:VTIMEZONE
BEGIN:VEVENT
DTSTART;TZID=America/Los_Angeles:20241014T160000
DTEND;TZID=America/Los_Angeles:20241014T183000
DTSTAMP:20260419T074003
CREATED:20240912T190559Z
LAST-MODIFIED:20241011T180248Z
UID:10003793-1728921600-1728930600@news.csun.edu
SUMMARY:Orgullo y Cultura: Honoring Queer Voices
DESCRIPTION:Take part in the joy as the Pride Center celebrates Latino/a/e/x art\, advocacy\, culture and music! Savor everything from pupusas to pan dulce as you make crafts\, connect with community members and watch performances from drag queens and Ballet Folklórico Aztlán de CSUN. You can also make memories with our photo booth and win prizes\, so come embrace your identity as we honor queer Latino/a/e/x voices.  \n¡Vivamos con orgullo!  \nThe Pride Center’s Latin Heritage Committee presents: Performances from Nomi B. Low\, Ballet Folklórico Aztlán de CSUN and Mariachi Aztlán. \nDo you need interpretation for this event? If so\, please fill out the Interpreting Services Request Form at least seven business days prior to the event.
URL:https://news.csun.edu/event/orgullo-y-cultura-honoring-queer-voices/
LOCATION:Plaza del Sol\, University Student Union\, 18111 Nordhoff St.\, Northridge\, CA\, 91330-8272\, United States
CATEGORIES:Heritage Month,LGBTQIA2S+,Pride Center,University Student Union
ATTACH;FMTTYPE=image/png:https://news.csun.edu/wp-content/uploads/2024/09/Calendar_OrgulloYCultura_FA24-101524.png
ORGANIZER;CN="USU Pride Center":MAILTO:pride@csun.edu
GEO:34.2399035651;-118.526777824
X-APPLE-STRUCTURED-LOCATION;VALUE=URI;X-ADDRESS=Plaza del Sol University Student Union 18111 Nordhoff St. Northridge CA 91330-8272 United States;X-APPLE-RADIUS=500;X-TITLE=18111 Nordhoff St.:geo:-118.526777824,34.2399035651
END:VEVENT
END:VCALENDAR