BEGIN:VCALENDAR
VERSION:2.0
PRODID:-//CSUN News &amp; Events - ECPv6.11.2//NONSGML v1.0//EN
CALSCALE:GREGORIAN
METHOD:PUBLISH
X-WR-CALNAME:CSUN News &amp; Events
X-ORIGINAL-URL:https://news.csun.edu
X-WR-CALDESC:Events for CSUN News &amp; Events
REFRESH-INTERVAL;VALUE=DURATION:PT1H
X-Robots-Tag:noindex
X-PUBLISHED-TTL:PT1H
BEGIN:VTIMEZONE
TZID:America/Los_Angeles
BEGIN:DAYLIGHT
TZOFFSETFROM:-0800
TZOFFSETTO:-0700
TZNAME:PDT
DTSTART:20260308T100000
END:DAYLIGHT
BEGIN:STANDARD
TZOFFSETFROM:-0700
TZOFFSETTO:-0800
TZNAME:PST
DTSTART:20261101T090000
END:STANDARD
END:VTIMEZONE
BEGIN:VEVENT
DTSTART;TZID=America/Los_Angeles:20260424T100000
DTEND;TZID=America/Los_Angeles:20260424T110000
DTSTAMP:20260421T102931
CREATED:20260306T210820Z
LAST-MODIFIED:20260306T210820Z
UID:10010901-1777024800-1777028400@news.csun.edu
SUMMARY:Lockdown Browser (In-Person)
DESCRIPTION:Hosted by Charlie Mahoney  \nDescription: This in-person workshop helps faculty use LockDown Browser to secure quizzes and exams in Canvas\, while also learning how to guide students through downloading\, installing\, and testing the tool.  \nWe’ll walk through enabling LockDown in your course\, explore Respondus Monitor options\, and troubleshoot common student issues.  \nYou’ll leave with a quiz-ready setup\, student instructions\, and FTC support resources. \n**If you require an ASL interpreter\, please contact your department. \n***For Zoom captions – please pre-enable automated captions/transcript on the Zoom website (not the app) before the meeting begins as it cannot be turned on while the meeting is running. If you have any questions\, contact ftc@csun.edu
URL:https://news.csun.edu/event/lockdown-browser-in-person-3/
CATEGORIES:Information Technology
ATTACH;FMTTYPE=image/png:https://news.csun.edu/wp-content/uploads/2026/03/Lockdown-Browser-e1772831208168.png
END:VEVENT
END:VCALENDAR