BEGIN:VCALENDAR
VERSION:2.0
PRODID:-//CSUN News &amp; Events - ECPv6.11.2//NONSGML v1.0//EN
CALSCALE:GREGORIAN
METHOD:PUBLISH
X-ORIGINAL-URL:https://news.csun.edu
X-WR-CALDESC:Events for CSUN News &amp; Events
REFRESH-INTERVAL;VALUE=DURATION:PT1H
X-Robots-Tag:noindex
X-PUBLISHED-TTL:PT1H
BEGIN:VTIMEZONE
TZID:America/Los_Angeles
BEGIN:DAYLIGHT
TZOFFSETFROM:-0800
TZOFFSETTO:-0700
TZNAME:PDT
DTSTART:20260308T100000
END:DAYLIGHT
BEGIN:STANDARD
TZOFFSETFROM:-0700
TZOFFSETTO:-0800
TZNAME:PST
DTSTART:20261101T090000
END:STANDARD
END:VTIMEZONE
BEGIN:VEVENT
DTSTART;TZID=America/Los_Angeles:20260417T140000
DTEND;TZID=America/Los_Angeles:20260417T160000
DTSTAMP:20260422T182338
CREATED:20260410T232301Z
LAST-MODIFIED:20260410T232301Z
UID:10011333-1776434400-1776441600@news.csun.edu
SUMMARY:IESC Fun Day Coffee Hour
DESCRIPTION:We will be hosting several different games along with prizes to win. Come and have a fun filled afternoon with us! \nThe IESC believes that cross-cultural understanding is an important part of being a citizen of the world. Coffee hour is a time to learn about different cultures from around the world. It is one of the opportunities where international and American students gather to highlight their cultures. Come join us for Coffee Hour!
URL:https://news.csun.edu/event/iesc-fun-day-coffee-hour/
LOCATION:International & Exchange Student Center\, USU
CATEGORIES:IESC,International and Exchange Student Center
ATTACH;FMTTYPE=image/jpeg:https://news.csun.edu/wp-content/uploads/2026/04/Green-and-Yellow-Colorful-Playful-Illustrative-Riso-Game-Night-Party-Invitation-2.jpg
END:VEVENT
END:VCALENDAR