BEGIN:VCALENDAR
VERSION:2.0
PRODID:-//CSUN News &amp; Events - ECPv6.11.2//NONSGML v1.0//EN
CALSCALE:GREGORIAN
METHOD:PUBLISH
X-ORIGINAL-URL:https://news.csun.edu
X-WR-CALDESC:Events for CSUN News &amp; Events
REFRESH-INTERVAL;VALUE=DURATION:PT1H
X-Robots-Tag:noindex
X-PUBLISHED-TTL:PT1H
BEGIN:VTIMEZONE
TZID:America/Los_Angeles
BEGIN:DAYLIGHT
TZOFFSETFROM:-0800
TZOFFSETTO:-0700
TZNAME:PDT
DTSTART:20260308T100000
END:DAYLIGHT
BEGIN:STANDARD
TZOFFSETFROM:-0700
TZOFFSETTO:-0800
TZNAME:PST
DTSTART:20261101T090000
END:STANDARD
END:VTIMEZONE
BEGIN:VEVENT
DTSTART;TZID=America/Los_Angeles:20260408T140000
DTEND;TZID=America/Los_Angeles:20260408T150000
DTSTAMP:20260420T180745
CREATED:20251218T221201Z
LAST-MODIFIED:20251218T221201Z
UID:10009480-1775656800-1775660400@news.csun.edu
SUMMARY:Extension of Stay (EOS) Webinar
DESCRIPTION:If you are unable to complete your program of study by the expiration date noted in section #5 on your I-20 form\, you must submit an Extension of Stay to the IESC at least 60 days prior to that expiration date. J-1 students must check section #3 on the DS2019 for the expiration date. This webinar is designed to answer any questions related to Extension of Stay requests.
URL:https://news.csun.edu/event/extension-of-stay-eos-webinar-4/
LOCATION:Zoom
CATEGORIES:IESC,International and Exchange Student Center
ATTACH;FMTTYPE=image/jpeg:https://news.csun.edu/wp-content/uploads/2025/04/EOS6.jpg
END:VEVENT
BEGIN:VEVENT
DTSTART;TZID=America/Los_Angeles:20260408T150000
DTEND;TZID=America/Los_Angeles:20260408T170000
DTSTAMP:20260420T180745
CREATED:20260107T224340Z
LAST-MODIFIED:20260107T224340Z
UID:10009634-1775660400-1775667600@news.csun.edu
SUMMARY:Let's Talk
DESCRIPTION:Talking can help. As an international student\, there are many new experiences that will bring excitement and others that may bring discomfort. Whether it is homesickness\, academic concerns\, relationship problems\, difficulty adjusting\, or other stress\, sharing your concerns with another person can make a positive difference. \nWhat is Let’s Talk? Let’s Talk is a safe\, casual\, and private drop-in service provided by University Counseling Services. A Let’s Talk counselor\, Dr. Sunil Obediah\, is available to listen\, offer support\, provide resources\, and explore solutions \nLet’s Talk consultations are: \n\nFREE to currently enrolled CSUN students and no appointment is needed.\nOffered on a first-come\, first-served basis.\n20 to 25 minutes in length.\nNot a substitute for counseling.
URL:https://news.csun.edu/event/lets-talk-9/2026-04-08/
LOCATION:International & Exchange Student Center\, USU
CATEGORIES:IESC,International and Exchange Student Center
ATTACH;FMTTYPE=image/jpeg:https://news.csun.edu/wp-content/uploads/2025/04/LETSTALK2.jpg
END:VEVENT
END:VCALENDAR