BEGIN:VCALENDAR
VERSION:2.0
PRODID:-//CSUN News &amp; Events - ECPv6.11.2//NONSGML v1.0//EN
CALSCALE:GREGORIAN
METHOD:PUBLISH
X-ORIGINAL-URL:https://news.csun.edu
X-WR-CALDESC:Events for CSUN News &amp; Events
REFRESH-INTERVAL;VALUE=DURATION:PT1H
X-Robots-Tag:noindex
X-PUBLISHED-TTL:PT1H
BEGIN:VTIMEZONE
TZID:America/Los_Angeles
BEGIN:DAYLIGHT
TZOFFSETFROM:-0800
TZOFFSETTO:-0700
TZNAME:PDT
DTSTART:20250309T100000
END:DAYLIGHT
BEGIN:STANDARD
TZOFFSETFROM:-0700
TZOFFSETTO:-0800
TZNAME:PST
DTSTART:20251102T090000
END:STANDARD
END:VTIMEZONE
BEGIN:VEVENT
DTSTART;TZID=America/Los_Angeles:20251021T140000
DTEND;TZID=America/Los_Angeles:20251021T153000
DTSTAMP:20260422T030722
CREATED:20250805T172745Z
LAST-MODIFIED:20250806T152214Z
UID:10007320-1761055200-1761060600@news.csun.edu
SUMMARY:Beyond Graduation Webinar - Fall 2025
DESCRIPTION:Are you graduating this Fall 2025? The International Student Advisors (ISAs) at the IESC can help you plan ahead and prepare for what occurs Beyond Graduation. In this session\, you will learn about your immigration options after you complete your studies at CSUN\, learn about ways to stay connected with CSUN Alumni professionals in the U.S. and around the world\, and much more. Approximately: 1.5 hours
URL:https://news.csun.edu/event/beyond-graduation-webinar-fall-2025/
LOCATION:Zoom
CATEGORIES:IESC,International and Exchange Student Center,International Students
ATTACH;FMTTYPE=image/jpeg:https://news.csun.edu/wp-content/uploads/2025/08/Fall-2025-Beyond-Graduation.jpg
END:VEVENT
END:VCALENDAR