BEGIN:VCALENDAR
VERSION:2.0
PRODID:-//CSUN News &amp; Events - ECPv6.11.2//NONSGML v1.0//EN
CALSCALE:GREGORIAN
METHOD:PUBLISH
X-ORIGINAL-URL:https://news.csun.edu
X-WR-CALDESC:Events for CSUN News &amp; Events
REFRESH-INTERVAL;VALUE=DURATION:PT1H
X-Robots-Tag:noindex
X-PUBLISHED-TTL:PT1H
BEGIN:VTIMEZONE
TZID:America/Los_Angeles
BEGIN:DAYLIGHT
TZOFFSETFROM:-0800
TZOFFSETTO:-0700
TZNAME:PDT
DTSTART:20250309T100000
END:DAYLIGHT
BEGIN:STANDARD
TZOFFSETFROM:-0700
TZOFFSETTO:-0800
TZNAME:PST
DTSTART:20251102T090000
END:STANDARD
END:VTIMEZONE
BEGIN:VEVENT
DTSTART;TZID=America/Los_Angeles:20250925T100000
DTEND;TZID=America/Los_Angeles:20250925T110000
DTSTAMP:20260425T035747
CREATED:20250709T171751Z
LAST-MODIFIED:20250717T233946Z
UID:10006822-1758794400-1758798000@news.csun.edu
SUMMARY:Gilman Scholarship Workshop
DESCRIPTION:The U.S. Department of State’s Benjamin A. Gilman International Scholarship Program is an opportunity for Pell Grant eligible students to receive funding toward their study abroad program. Join the CSUN Study Abroad Advisors for this workshop as they walk students through general information\, application requirements and tips and questions. Requests for accommodation services (e.g.\, sign language interpreters or transcribers) must be made at least five (5) business days in advance. Please contact the Study Abroad Advisors (study.abroad@csun.edu) no less than five (5) business days prior to your desired session to request that accommodation services be provided.
URL:https://news.csun.edu/event/gilman-scholarship-workshop-2/
LOCATION:Zoom
CATEGORIES:IESC,International and Exchange Student Center
ATTACH;FMTTYPE=image/jpeg:https://news.csun.edu/wp-content/uploads/2025/07/Gilman-Scholarship-Workshop.jpg
END:VEVENT
END:VCALENDAR