BEGIN:VCALENDAR
VERSION:2.0
PRODID:-//CSUN News &amp; Events - ECPv6.11.2//NONSGML v1.0//EN
CALSCALE:GREGORIAN
METHOD:PUBLISH
X-WR-CALNAME:CSUN News &amp; Events
X-ORIGINAL-URL:https://news.csun.edu
X-WR-CALDESC:Events for CSUN News &amp; Events
REFRESH-INTERVAL;VALUE=DURATION:PT1H
X-Robots-Tag:noindex
X-PUBLISHED-TTL:PT1H
BEGIN:VTIMEZONE
TZID:America/Los_Angeles
BEGIN:DAYLIGHT
TZOFFSETFROM:-0800
TZOFFSETTO:-0700
TZNAME:PDT
DTSTART:20250309T100000
END:DAYLIGHT
BEGIN:STANDARD
TZOFFSETFROM:-0700
TZOFFSETTO:-0800
TZNAME:PST
DTSTART:20251102T090000
END:STANDARD
END:VTIMEZONE
BEGIN:VEVENT
DTSTART;TZID=America/Los_Angeles:20251104T150000
DTEND;TZID=America/Los_Angeles:20251104T160000
DTSTAMP:20260422T184751
CREATED:20250708T223138Z
LAST-MODIFIED:20250708T223138Z
UID:10006815-1762268400-1762272000@news.csun.edu
SUMMARY:Study Abroad & Exchange Information Session
DESCRIPTION:The International and Exchange Student Center offers regular information sessions during the year to encourage students to learn more about the study abroad and exchange opportunities available at CSUN. Requests for accommodation services (e.g.\, sign language interpreters or transcribers) must be made at least five (5) business days in advance. Please contact the Study Abroad Advisors no less than five (5) business days prior to your desired session to request that accommodation services be provided. \n  \nhttps://www.csun.edu/international/study-abroad/information-sessions
URL:https://news.csun.edu/event/study-abroad-exchange-information-session-27/
LOCATION:Zoom
CATEGORIES:IESC,International and Exchange Student Center
ATTACH;FMTTYPE=image/jpeg:https://news.csun.edu/wp-content/uploads/2025/04/Study-Abroad-Exchange-Information-Session-3.jpg
END:VEVENT
BEGIN:VEVENT
DTSTART;TZID=America/Los_Angeles:20251105T133000
DTEND;TZID=America/Los_Angeles:20251105T143000
DTSTAMP:20260422T184751
CREATED:20250805T172427Z
LAST-MODIFIED:20250806T152140Z
UID:10007319-1762349400-1762353000@news.csun.edu
SUMMARY:Travel and Visa Advisory Webinar
DESCRIPTION:The webinar will provide students with updates on travel restrictions and F-1 visa advisory. Approximately: 1 hour via Zoom
URL:https://news.csun.edu/event/travel-and-visa-advisory-webinar/
LOCATION:Zoom
CATEGORIES:IESC,International and Exchange Student Center,International Students
ATTACH;FMTTYPE=image/jpeg:https://news.csun.edu/wp-content/uploads/2025/08/Travel-and-Visa-Advisory.jpg
END:VEVENT
BEGIN:VEVENT
DTSTART;TZID=America/Los_Angeles:20251107T140000
DTEND;TZID=America/Los_Angeles:20251107T160000
DTSTAMP:20260422T184751
CREATED:20251031T190449Z
LAST-MODIFIED:20251103T205332Z
UID:10008934-1762524000-1762531200@news.csun.edu
SUMMARY:Board Games Coffee Hour
DESCRIPTION:Come play board games with us\, win prizes\, and enjoy snacks with friends and coffee!! \nThe IESC believes that cross-cultural understanding is an important part of being a citizen of the world. Coffee hour is a time to learn about different cultures from around the world. It is one of the opportunities where international and American students gather to highlight their cultures. Come join us for Coffee Hour!
URL:https://news.csun.edu/event/board-games-coffee-hour/
LOCATION:International & Exchange Student Center\, USU
CATEGORIES:IESC,International and Exchange Student Center
ATTACH;FMTTYPE=image/jpeg:https://news.csun.edu/wp-content/uploads/2025/10/Bingo.jpg
END:VEVENT
BEGIN:VEVENT
DTSTART;TZID=America/Los_Angeles:20251107T150000
DTEND;TZID=America/Los_Angeles:20251107T160000
DTSTAMP:20260422T184751
CREATED:20250708T223209Z
LAST-MODIFIED:20251009T235518Z
UID:10006816-1762527600-1762531200@news.csun.edu
SUMMARY:Study Abroad & Exchange Information Session
DESCRIPTION:The International and Exchange Student Center offers regular information sessions during the year to encourage students to learn more about the study abroad and exchange opportunities available at CSUN. Requests for accommodation services (e.g.\, sign language interpreters or transcribers) must be made at least five (5) business days in advance. Please contact the Study Abroad Advisors no less than five (5) business days prior to your desired session to request that accommodation services be provided. \n  \nhttps://www.csun.edu/international/study-abroad/information-sessions
URL:https://news.csun.edu/event/study-abroad-exchange-information-session-28/
LOCATION:Zoom
CATEGORIES:IESC,International and Exchange Student Center
ATTACH;FMTTYPE=image/jpeg:https://news.csun.edu/wp-content/uploads/2025/04/Study-Abroad-Exchange-Information-Session-3.jpg
END:VEVENT
BEGIN:VEVENT
DTSTART;TZID=America/Los_Angeles:20251110T100000
DTEND;TZID=America/Los_Angeles:20251110T110000
DTSTAMP:20260422T184751
CREATED:20250805T173303Z
LAST-MODIFIED:20250805T173303Z
UID:10007323-1762768800-1762772400@news.csun.edu
SUMMARY:Extension of Stay (EOS) Webinar
DESCRIPTION:If you are unable to complete your program of study by the expiration date noted in section #5 on your I-20 form\, you must submit an Extension of Stay to the IESC at least 60 days prior to that expiration date. J-1 students must check section #3 on the DS2019 for the expiration date. This webinar is designed to answer any questions related to Extension of Stay requests.
URL:https://news.csun.edu/event/extension-of-stay-eos-webinar-2/
LOCATION:Zoom
CATEGORIES:IESC,International and Exchange Student Center
ATTACH;FMTTYPE=image/jpeg:https://news.csun.edu/wp-content/uploads/2025/04/EOS6.jpg
END:VEVENT
BEGIN:VEVENT
DTSTART;TZID=America/Los_Angeles:20251112T110000
DTEND;TZID=America/Los_Angeles:20251112T120000
DTSTAMP:20260422T184751
CREATED:20250708T223240Z
LAST-MODIFIED:20250708T223240Z
UID:10006817-1762945200-1762948800@news.csun.edu
SUMMARY:Study Abroad & Exchange Information Session
DESCRIPTION:The International and Exchange Student Center offers regular information sessions during the year to encourage students to learn more about the study abroad and exchange opportunities available at CSUN. Requests for accommodation services (e.g.\, sign language interpreters or transcribers) must be made at least five (5) business days in advance. Please contact the Study Abroad Advisors no less than five (5) business days prior to your desired session to request that accommodation services be provided. \n  \nhttps://www.csun.edu/international/study-abroad/information-sessions
URL:https://news.csun.edu/event/study-abroad-exchange-information-session-29/
LOCATION:Zoom
CATEGORIES:IESC,International and Exchange Student Center
ATTACH;FMTTYPE=image/jpeg:https://news.csun.edu/wp-content/uploads/2025/04/Study-Abroad-Exchange-Information-Session-3.jpg
END:VEVENT
BEGIN:VEVENT
DTSTART;TZID=America/Los_Angeles:20251112T140000
DTEND;TZID=America/Los_Angeles:20251112T150000
DTSTAMP:20260422T184751
CREATED:20250805T164052Z
LAST-MODIFIED:20250805T164052Z
UID:10007307-1762956000-1762959600@news.csun.edu
SUMMARY:Q&A Post-Completion Optional Practical Training (POST-OPT) Webinar
DESCRIPTION:In your last semester of your academic program\, F-1 students may apply for POST-OPT. It provides an opportunity for you to apply theoretical knowledge gained from your academic program to a practical employment experience after graduation. The webinar is designed to give students an overview of the POST-OPT application process and to answer any questions regarding POST-OPT. Approximately: 1 hour via Zoom
URL:https://news.csun.edu/event/qa-post-completion-optional-practical-training-post-opt-webinar-12/
LOCATION:Zoom
CATEGORIES:IESC,International and Exchange Student Center
ATTACH;FMTTYPE=image/jpeg:https://news.csun.edu/wp-content/uploads/2025/04/QA-Post-Completion-Optional-Practical-Training-POST-OPT-Webinar-4.jpg
END:VEVENT
BEGIN:VEVENT
DTSTART;TZID=America/Los_Angeles:20251114T110000
DTEND;TZID=America/Los_Angeles:20251114T120000
DTSTAMP:20260422T184751
CREATED:20250805T171735Z
LAST-MODIFIED:20250805T171735Z
UID:10007317-1763118000-1763121600@news.csun.edu
SUMMARY:Curricular Practical Training (CPT) Webinar
DESCRIPTION:The CPT is an authorization to engage in required paid internship\, cooperative education\, or practicum related to your F-1 student’s field of study. The CPT webinar is designed to give you an overview of the CPT application process and to answer any questions regarding CPT. Approximately: 1 hour via Zoom
URL:https://news.csun.edu/event/curricular-practical-training-cpt-webinar-6/
LOCATION:Zoom
CATEGORIES:IESC,International and Exchange Student Center
ATTACH;FMTTYPE=image/jpeg:https://news.csun.edu/wp-content/uploads/2025/04/QA-Post-Completion-Optional-Practical-Training-POST-OPT-Webinar-5.jpg
END:VEVENT
BEGIN:VEVENT
DTSTART;TZID=America/Los_Angeles:20251114T140000
DTEND;TZID=America/Los_Angeles:20251114T160000
DTSTAMP:20260422T184751
CREATED:20251110T164633Z
LAST-MODIFIED:20251110T164633Z
UID:10009232-1763128800-1763136000@news.csun.edu
SUMMARY:Clay Time Coffee Hour
DESCRIPTION:This Friday we will be creating with clay!! \nThe IESC believes that cross-cultural understanding is an important part of being a citizen of the world. Coffee hour is a time to learn about different cultures from around the world. It is one of the opportunities where international and American students gather to highlight their cultures. Come join us for Coffee Hour!
URL:https://news.csun.edu/event/clay-time-coffee-hour/
LOCATION:International & Exchange Student Center\, USU
CATEGORIES:IESC,International and Exchange Student Center
ATTACH;FMTTYPE=image/jpeg:https://news.csun.edu/wp-content/uploads/2025/11/image-_9_.jpg
END:VEVENT
BEGIN:VEVENT
DTSTART;TZID=America/Los_Angeles:20251124T150000
DTEND;TZID=America/Los_Angeles:20251124T160000
DTSTAMP:20260422T184751
CREATED:20250708T223300Z
LAST-MODIFIED:20250708T223327Z
UID:10006818-1763996400-1764000000@news.csun.edu
SUMMARY:Study Abroad & Exchange Information Session
DESCRIPTION:The International and Exchange Student Center offers regular information sessions during the year to encourage students to learn more about the study abroad and exchange opportunities available at CSUN. Requests for accommodation services (e.g.\, sign language interpreters or transcribers) must be made at least five (5) business days in advance. Please contact the Study Abroad Advisors no less than five (5) business days prior to your desired session to request that accommodation services be provided. \n  \nhttps://www.csun.edu/international/study-abroad/information-sessions
URL:https://news.csun.edu/event/study-abroad-exchange-information-session-30/
LOCATION:Zoom
CATEGORIES:IESC,International and Exchange Student Center
ATTACH;FMTTYPE=image/jpeg:https://news.csun.edu/wp-content/uploads/2025/04/Study-Abroad-Exchange-Information-Session-3.jpg
END:VEVENT
BEGIN:VEVENT
DTSTART;TZID=America/Los_Angeles:20251125T143000
DTEND;TZID=America/Los_Angeles:20251125T153000
DTSTAMP:20260422T184751
CREATED:20250805T164134Z
LAST-MODIFIED:20250805T164134Z
UID:10007308-1764081000-1764084600@news.csun.edu
SUMMARY:Q&A Post-Completion Optional Practical Training (POST-OPT) Webinar
DESCRIPTION:In your last semester of your academic program\, F-1 students may apply for POST-OPT. It provides an opportunity for you to apply theoretical knowledge gained from your academic program to a practical employment experience after graduation. The webinar is designed to give students an overview of the POST-OPT application process and to answer any questions regarding POST-OPT. Approximately: 1 hour via Zoom
URL:https://news.csun.edu/event/qa-post-completion-optional-practical-training-post-opt-webinar-13/
LOCATION:Zoom
CATEGORIES:IESC,International and Exchange Student Center
ATTACH;FMTTYPE=image/jpeg:https://news.csun.edu/wp-content/uploads/2025/04/QA-Post-Completion-Optional-Practical-Training-POST-OPT-Webinar-4.jpg
END:VEVENT
END:VCALENDAR