BEGIN:VCALENDAR
VERSION:2.0
PRODID:-//CSUN News &amp; Events - ECPv6.11.2//NONSGML v1.0//EN
CALSCALE:GREGORIAN
METHOD:PUBLISH
X-WR-CALNAME:CSUN News &amp; Events
X-ORIGINAL-URL:https://news.csun.edu
X-WR-CALDESC:Events for CSUN News &amp; Events
REFRESH-INTERVAL;VALUE=DURATION:PT1H
X-Robots-Tag:noindex
X-PUBLISHED-TTL:PT1H
BEGIN:VTIMEZONE
TZID:America/Los_Angeles
BEGIN:DAYLIGHT
TZOFFSETFROM:-0800
TZOFFSETTO:-0700
TZNAME:PDT
DTSTART:20250309T100000
END:DAYLIGHT
BEGIN:STANDARD
TZOFFSETFROM:-0700
TZOFFSETTO:-0800
TZNAME:PST
DTSTART:20251102T090000
END:STANDARD
END:VTIMEZONE
BEGIN:VEVENT
DTSTART;TZID=America/Los_Angeles:20251001T120000
DTEND;TZID=America/Los_Angeles:20251001T130000
DTSTAMP:20260423T132447
CREATED:20250114T222628Z
LAST-MODIFIED:20250117T181136Z
UID:10005070-1759320000-1759323600@news.csun.edu
SUMMARY:CalPERS Medicare Seminar
DESCRIPTION:
URL:https://news.csun.edu/event/calpers-medicare-seminar20241001/
CATEGORIES:Benefits,Human Resources,Personal Development,Workshops
END:VEVENT
BEGIN:VEVENT
DTSTART;TZID=America/Los_Angeles:20251001T120000
DTEND;TZID=America/Los_Angeles:20251001T130000
DTSTAMP:20260423T132447
CREATED:20250916T174414Z
LAST-MODIFIED:20250916T190112Z
UID:10008459-1759320000-1759323600@news.csun.edu
SUMMARY:CSU Ask Fidelity: Making Your Money Work as Hard as You Do | October 1\, 2025
DESCRIPTION:Location: Online \nJoin us for an upcoming virtual Ask Fidelity Session where your local Fidelity planner will share important updates related to your workplace savings plan and provide you with resources to stay on track to meet your financial goals. \nSee what options are available and what you need to know to get started with investing \nRegister Here \n 
URL:https://news.csun.edu/event/csu-ask-fidelity-making-your-money-work-as-hard-as-you-do-october-1-2025/
CATEGORIES:Benefits,Human Resources,Personal Development,Workshops
END:VEVENT
END:VCALENDAR