BEGIN:VCALENDAR
VERSION:2.0
PRODID:-//CSUN News &amp; Events - ECPv6.11.2//NONSGML v1.0//EN
CALSCALE:GREGORIAN
METHOD:PUBLISH
X-ORIGINAL-URL:https://news.csun.edu
X-WR-CALDESC:Events for CSUN News &amp; Events
REFRESH-INTERVAL;VALUE=DURATION:PT1H
X-Robots-Tag:noindex
X-PUBLISHED-TTL:PT1H
BEGIN:VTIMEZONE
TZID:America/Los_Angeles
BEGIN:DAYLIGHT
TZOFFSETFROM:-0800
TZOFFSETTO:-0700
TZNAME:PDT
DTSTART:20250309T100000
END:DAYLIGHT
BEGIN:STANDARD
TZOFFSETFROM:-0700
TZOFFSETTO:-0800
TZNAME:PST
DTSTART:20251102T090000
END:STANDARD
END:VTIMEZONE
BEGIN:VEVENT
DTSTART;TZID=America/Los_Angeles:20250821T120000
DTEND;TZID=America/Los_Angeles:20250821T123000
DTSTAMP:20260422T030236
CREATED:20250626T215056Z
LAST-MODIFIED:20250626T215056Z
UID:10006452-1755777600-1755779400@news.csun.edu
SUMMARY:CalPERS Webinar: Your myCalPERS Account for Active and Inactive Members
DESCRIPTION:Location: Online\n\nFacilitated by:\nCalPERS Staff \nDescription:\nNot using your myCalPERS account yet? You could be missing out! We’ll show you why having a myCalPERS account is a must for managing your benefits with ease. Learn how to register\, navigate key features\, and use powerful tools like retirement estimates\, service credit purchases\, class enrollment\, and even online retirement applications. Your myCalPERS account puts valuable information and services at your fingertips. Don’t wait-see how simple and beneficial it is to get started! \nRegister Here \nNote: Registration closes at midnight the evening before the webcast airs.
URL:https://news.csun.edu/event/calpers-webinar-your-mycalpers-account-for-active-and-inactive-members/
CATEGORIES:Benefits,Health and Wellness,Human Resources,Personal Development,Workshops
END:VEVENT
END:VCALENDAR