BEGIN:VCALENDAR
VERSION:2.0
PRODID:-//CSUN News &amp; Events - ECPv6.11.2//NONSGML v1.0//EN
CALSCALE:GREGORIAN
METHOD:PUBLISH
X-ORIGINAL-URL:https://news.csun.edu
X-WR-CALDESC:Events for CSUN News &amp; Events
REFRESH-INTERVAL;VALUE=DURATION:PT1H
X-Robots-Tag:noindex
X-PUBLISHED-TTL:PT1H
BEGIN:VTIMEZONE
TZID:America/Los_Angeles
BEGIN:DAYLIGHT
TZOFFSETFROM:-0800
TZOFFSETTO:-0700
TZNAME:PDT
DTSTART:20250309T100000
END:DAYLIGHT
BEGIN:STANDARD
TZOFFSETFROM:-0700
TZOFFSETTO:-0800
TZNAME:PST
DTSTART:20251102T090000
END:STANDARD
END:VTIMEZONE
BEGIN:VEVENT
DTSTART;TZID=America/Los_Angeles:20250723T120000
DTEND;TZID=America/Los_Angeles:20250723T130000
DTSTAMP:20260420T120059
CREATED:20250626T003715Z
LAST-MODIFIED:20250709T174944Z
UID:10006449-1753272000-1753275600@news.csun.edu
SUMMARY:CSU Ask Fidelity: Get to Know Your Retirement Plan (Get Started and Save for the Future You)
DESCRIPTION:Location: Online \nJoin us for an upcoming virtual Ask Fidelity Session where your local Fidelity planner will share important updates related to your workplace savings plan and provide you with resources to stay on track to meet your financial goals. \nEveryone needs a path to financial wellness\, and it can start with your workplace savings plan. Learn about the investment options and how to contribute so you start saving for your future. \nRegister Here \n 
URL:https://news.csun.edu/event/ask-fidelity-get-to-know-your-retirement-plan/
CATEGORIES:Benefits,Human Resources,Personal Development,Workshops
END:VEVENT
END:VCALENDAR