BEGIN:VCALENDAR
VERSION:2.0
PRODID:-//CSUN News &amp; Events - ECPv6.11.2//NONSGML v1.0//EN
CALSCALE:GREGORIAN
METHOD:PUBLISH
X-ORIGINAL-URL:https://news.csun.edu
X-WR-CALDESC:Events for CSUN News &amp; Events
REFRESH-INTERVAL;VALUE=DURATION:PT1H
X-Robots-Tag:noindex
X-PUBLISHED-TTL:PT1H
BEGIN:VTIMEZONE
TZID:America/Los_Angeles
BEGIN:DAYLIGHT
TZOFFSETFROM:-0800
TZOFFSETTO:-0700
TZNAME:PDT
DTSTART:20250309T100000
END:DAYLIGHT
BEGIN:STANDARD
TZOFFSETFROM:-0700
TZOFFSETTO:-0800
TZNAME:PST
DTSTART:20251102T090000
END:STANDARD
END:VTIMEZONE
BEGIN:VEVENT
DTSTART;TZID=America/Los_Angeles:20250717T120000
DTEND;TZID=America/Los_Angeles:20250717T123000
DTSTAMP:20260421T073255
CREATED:20250626T214014Z
LAST-MODIFIED:20250709T180726Z
UID:10006451-1752753600-1752755400@news.csun.edu
SUMMARY:CalPERS Webinar: CalPERS Members - Early Career Basics
DESCRIPTION:Location: Online\n\nFacilitated by:\nCalPERS Staff \nDescription:\nReady to take charge of your financial future? The sooner you understand your CalPERS benefits\, the better prepared you’ll be to make smart\, confident decisions throughout your career. In this video\, we’ll break down what you need to know – your benefits\, the different sources of retirement income\, and the helpful tools and resources available to support you every step of the way. Watch now and start building a solid foundation for your future! \nRegister Here \nNote: Registration closes at midnight the evening before the webcast airs.
URL:https://news.csun.edu/event/calpers-webinar-calpers-members-early-career-basics/
CATEGORIES:Benefits,Health and Wellness,Human Resources,Personal Development,Workshops
END:VEVENT
END:VCALENDAR