BEGIN:VCALENDAR
VERSION:2.0
PRODID:-//CSUN News &amp; Events - ECPv6.11.2//NONSGML v1.0//EN
CALSCALE:GREGORIAN
METHOD:PUBLISH
X-WR-CALNAME:CSUN News &amp; Events
X-ORIGINAL-URL:https://news.csun.edu
X-WR-CALDESC:Events for CSUN News &amp; Events
REFRESH-INTERVAL;VALUE=DURATION:PT1H
X-Robots-Tag:noindex
X-PUBLISHED-TTL:PT1H
BEGIN:VTIMEZONE
TZID:America/Los_Angeles
BEGIN:DAYLIGHT
TZOFFSETFROM:-0800
TZOFFSETTO:-0700
TZNAME:PDT
DTSTART:20260308T100000
END:DAYLIGHT
BEGIN:STANDARD
TZOFFSETFROM:-0700
TZOFFSETTO:-0800
TZNAME:PST
DTSTART:20261101T090000
END:STANDARD
END:VTIMEZONE
BEGIN:VEVENT
DTSTART;TZID=America/Los_Angeles:20260107T120000
DTEND;TZID=America/Los_Angeles:20260107T130000
DTSTAMP:20260423T021541
CREATED:20251223T003010Z
LAST-MODIFIED:20251223T003010Z
UID:10009502-1767787200-1767790800@news.csun.edu
SUMMARY:CSU Ask Fidelity: Create a Budget and Build Emergency Savings
DESCRIPTION:Location: Online \nJoin us for an upcoming virtual Ask Fidelity Session where your local Fidelity planner will share important updates related to your workplace savings plan and provide you with resources to stay on track to meet your financial goals. \nIn this Building Your Financial Foundation workshop\, we’ll help you set up two of the most important building blocks of financial life—your budget and your emergency savings \nRegister Here \n 
URL:https://news.csun.edu/event/csu-ask-fidelity-create-a-budget-and-build-emergency-savings/
CATEGORIES:Benefits,Human Resources,Personal Development,Workshops
END:VEVENT
BEGIN:VEVENT
DTSTART;TZID=America/Los_Angeles:20260114T120000
DTEND;TZID=America/Los_Angeles:20260114T130000
DTSTAMP:20260423T021541
CREATED:20251223T003110Z
LAST-MODIFIED:20251223T003110Z
UID:10009503-1768392000-1768395600@news.csun.edu
SUMMARY:CSU Ask Fidelity: Understanding Roth Contributions in Your Workplace Savings Plan including Roth Catch-Up Provision
DESCRIPTION:Location: Online \nJoin us for an upcoming virtual Ask Fidelity Session where your local Fidelity planner will share important updates related to your workplace savings plan and provide you with resources to stay on track to meet your financial goals. \nIn this workshop\, you’ll learn about the Roth contribution option\, which may be available in your workplace savings plan \nRegister Here \n 
URL:https://news.csun.edu/event/csu-ask-fidelity-understanding-roth-contributions-in-your-workplace-savings-plan-including-roth-catch-up-provision/
CATEGORIES:Benefits,Human Resources,Personal Development,Workshops
END:VEVENT
BEGIN:VEVENT
DTSTART;TZID=America/Los_Angeles:20260115T120000
DTEND;TZID=America/Los_Angeles:20260115T122000
DTSTAMP:20260423T021541
CREATED:20251209T225652Z
LAST-MODIFIED:20251209T225652Z
UID:10009391-1768478400-1768479600@news.csun.edu
SUMMARY:CalPERS Webinar: Pension Reform & Your CalPERS Benefits
DESCRIPTION:Location: Online\n\nFacilitated by:\nCalPERS Staff \nDescription:\nThe California Public Employees’ Pension Reform Act (PEPRA) from 2013 changed the way retirement and health benefits are applied to many CalPERS members. This video explains the benefit differences between a “PEPRA” and a “classic” member\, such as your retirement formula\, health vesting\, and final compensation. \nRegister Here \nNote: Registration closes at midnight the evening before the webcast airs.
URL:https://news.csun.edu/event/calpers-webinar-pension-reform-your-calpers-benefits/
CATEGORIES:Benefits,Health and Wellness,Human Resources,Personal Development,Workshops
END:VEVENT
BEGIN:VEVENT
DTSTART;TZID=America/Los_Angeles:20260121T120000
DTEND;TZID=America/Los_Angeles:20260121T130000
DTSTAMP:20260423T021541
CREATED:20251223T003148Z
LAST-MODIFIED:20251223T003148Z
UID:10009504-1768996800-1769000400@news.csun.edu
SUMMARY:CSU Ask Fidelity: Get to Know Your Retirement Plan (Get Started and Save for the Future You)
DESCRIPTION:Location: Online \nJoin us for an upcoming virtual Ask Fidelity Session where your local Fidelity planner will share important updates related to your workplace savings plan and provide you with resources to stay on track to meet your financial goals. \nEveryone needs a path to financial wellness\, and it can start with your workplace savings plan. Learn about the investment options and how to contribute so you start saving for your future. \nRegister Here \n 
URL:https://news.csun.edu/event/csu-ask-fidelity-get-to-know-your-retirement-plan-get-started-and-save-for-the-future-you-3/
CATEGORIES:Benefits,Human Resources,Personal Development,Workshops
END:VEVENT
BEGIN:VEVENT
DTSTART;TZID=America/Los_Angeles:20260127T120000
DTEND;TZID=America/Los_Angeles:20260127T123000
DTSTAMP:20260423T021541
CREATED:20260112T204846Z
LAST-MODIFIED:20260127T175446Z
UID:10009690-1769515200-1769517000@news.csun.edu
SUMMARY:Fidelity Financial Webinar | Investing for Beginners
DESCRIPTION:Location:\nOnline \n\nDescription:\n\n\n\nIn this Building Your Financial Foundation workshop\, we’ll introduce you to the world of investing—the basic terms and concepts used as well as different investing styles.\n\n\n\nFacilitator:\nFidelity Financial Services Representative \n\nReserve Your Space \n\n\n\n\n\n\n\n\nCan’t make it to an event? \n\nCall 877-CSU-3699 (877-278-3699) or visit www.fidelity.com/schedule to schedule a one-on-one consultation with a registered Fidelity representative.\nVisit the Fidelity Webcast Hub for practical conversations to help you live well financially\, today and tomorrow.
URL:https://news.csun.edu/event/fidelity-financial-webinar-investing-for-beginners/
CATEGORIES:Benefits,Human Resources,Personal Development,Workshops
END:VEVENT
END:VCALENDAR