BEGIN:VCALENDAR
VERSION:2.0
PRODID:-//CSUN News &amp; Events - ECPv6.11.2//NONSGML v1.0//EN
CALSCALE:GREGORIAN
METHOD:PUBLISH
X-ORIGINAL-URL:https://news.csun.edu
X-WR-CALDESC:Events for CSUN News &amp; Events
REFRESH-INTERVAL;VALUE=DURATION:PT1H
X-Robots-Tag:noindex
X-PUBLISHED-TTL:PT1H
BEGIN:VTIMEZONE
TZID:America/Los_Angeles
BEGIN:DAYLIGHT
TZOFFSETFROM:-0800
TZOFFSETTO:-0700
TZNAME:PDT
DTSTART:20250309T100000
END:DAYLIGHT
BEGIN:STANDARD
TZOFFSETFROM:-0700
TZOFFSETTO:-0800
TZNAME:PST
DTSTART:20251102T090000
END:STANDARD
END:VTIMEZONE
BEGIN:VEVENT
DTSTART;TZID=America/Los_Angeles:20250806T120000
DTEND;TZID=America/Los_Angeles:20250806T130000
DTSTAMP:20260419T150858
CREATED:20250716T231838Z
LAST-MODIFIED:20250716T231838Z
UID:10007138-1754481600-1754485200@news.csun.edu
SUMMARY:CSU Ask Fidelity: Retirement Basics
DESCRIPTION:Location: Online \nJoin us for an upcoming virtual Ask Fidelity Session where your local Fidelity planner will share important updates related to your workplace savings plan and provide you with resources to stay on track to meet your financial goals. \nIn this workshop\, you’ll learn about the power of saving and the different types of accounts\, including your workplace savings plan\, you can take advantage of to save for your future. \nRegister Here \n 
URL:https://news.csun.edu/event/csu-ask-fidelity-retirement-basics/
CATEGORIES:Benefits,Human Resources,Personal Development,Workshops
END:VEVENT
BEGIN:VEVENT
DTSTART;TZID=America/Los_Angeles:20250813T110000
DTEND;TZID=America/Los_Angeles:20250813T120000
DTSTAMP:20260419T150858
CREATED:20250114T223853Z
LAST-MODIFIED:20250709T175431Z
UID:10005036-1755082800-1755086400@news.csun.edu
SUMMARY:Kaiser Permanente Medicare Seminar
DESCRIPTION:Join Kaiser Permanente for a webinar for employees and retirees to learn more about Medicare.
URL:https://news.csun.edu/event/calpers-medicare-seminar20250813/
CATEGORIES:Benefits,Human Resources,Personal Development,Workshops
ATTACH;FMTTYPE=image/png:https://news.csun.edu/wp-content/uploads/2025/01/Kaiser-Permanente.png
END:VEVENT
BEGIN:VEVENT
DTSTART;TZID=America/Los_Angeles:20250813T120000
DTEND;TZID=America/Los_Angeles:20250813T130000
DTSTAMP:20260419T150858
CREATED:20250716T232318Z
LAST-MODIFIED:20250716T232318Z
UID:10007140-1755086400-1755090000@news.csun.edu
SUMMARY:CSU Ask Fidelity: Tackle Debt and Understand Your Credit Score
DESCRIPTION:Location: Online \nJoin us for an upcoming virtual Ask Fidelity Session where your local Fidelity planner will share important updates related to your workplace savings plan and provide you with resources to stay on track to meet your financial goals. \nIn this workshop\, you’ll learn strategies to help you manage your debt and understand your credit score. \nRegister Here \n 
URL:https://news.csun.edu/event/csu-ask-fidelity-tackle-debt-and-understand-your-credit-score/
CATEGORIES:Benefits,Human Resources,Personal Development,Workshops
END:VEVENT
BEGIN:VEVENT
DTSTART;TZID=America/Los_Angeles:20250814T120000
DTEND;TZID=America/Los_Angeles:20250814T130000
DTSTAMP:20260419T150858
CREATED:20250318T235533Z
LAST-MODIFIED:20250709T175039Z
UID:10005981-1755172800-1755176400@news.csun.edu
SUMMARY:Blue Shield Healthy Living Webinar | Immunity Unlocked: Boosting Your Body’s Natural Defenses
DESCRIPTION:Strengthen your body’s first line of defense with cutting-edge insights on immune health. This webinar reveals how diet\, exercise\, sleep\, and stress management work together to lower inflammation and build a resilient immune system. Learn expert-backed tips and daily habits that can help you stay energized\, fight off illness\, and optimize your long-term health. \nFacilitated by:\n\nNicole Stepanian- NBC-HWC\, CIHC\n\nLocation:\nOnline\, Pre-Registration Required \nParticipation is open to all CSUN employees; however\, only CalPERS members (regardless of health plan enrollment) can earn rewards by attending webinars. \nJoin us:\nRegister Here \n\n \n \nBlue Shield of California is excited to announce the return of wellness webinars for 2024 with a brand-new lineup of topics\, including a few interactive cooking demonstrations. \nThey have also brought back their popular incentive programs! Last year\, attendees received rewards such as gift cards\, jump ropes\, and charcuterie sets. \nWe look forward to seeing you at an upcoming wellness webinar! Webinars are available live or on-demand afterward. \n 
URL:https://news.csun.edu/event/blue-shield-healthy-living-webinar-immunity-unlocked-boosting-your-bodys-natural-defenses/
CATEGORIES:Benefits,Human Resources,Personal Development,Workshops
END:VEVENT
BEGIN:VEVENT
DTSTART;TZID=America/Los_Angeles:20250820T120000
DTEND;TZID=America/Los_Angeles:20250820T130000
DTSTAMP:20260419T150858
CREATED:20250716T232202Z
LAST-MODIFIED:20250716T232202Z
UID:10007139-1755691200-1755694800@news.csun.edu
SUMMARY:CSU Ask Fidelity: Get to Know Your Retirement Plan (Get Started and Save for the Future You)
DESCRIPTION:Location: Online \nJoin us for an upcoming virtual Ask Fidelity Session where your local Fidelity planner will share important updates related to your workplace savings plan and provide you with resources to stay on track to meet your financial goals. \nEveryone needs a path to financial wellness\, and it can start with your workplace savings plan. Learn about the investment options and how to contribute so you start saving for your future. \nRegister Here \n 
URL:https://news.csun.edu/event/csu-ask-fidelity-get-to-know-your-retirement-plan-get-started-and-save-for-the-future-you/
CATEGORIES:Benefits,Human Resources,Personal Development,Workshops
END:VEVENT
BEGIN:VEVENT
DTSTART;TZID=America/Los_Angeles:20250821T120000
DTEND;TZID=America/Los_Angeles:20250821T123000
DTSTAMP:20260419T150858
CREATED:20250626T215056Z
LAST-MODIFIED:20250626T215056Z
UID:10006452-1755777600-1755779400@news.csun.edu
SUMMARY:CalPERS Webinar: Your myCalPERS Account for Active and Inactive Members
DESCRIPTION:Location: Online\n\nFacilitated by:\nCalPERS Staff \nDescription:\nNot using your myCalPERS account yet? You could be missing out! We’ll show you why having a myCalPERS account is a must for managing your benefits with ease. Learn how to register\, navigate key features\, and use powerful tools like retirement estimates\, service credit purchases\, class enrollment\, and even online retirement applications. Your myCalPERS account puts valuable information and services at your fingertips. Don’t wait-see how simple and beneficial it is to get started! \nRegister Here \nNote: Registration closes at midnight the evening before the webcast airs.
URL:https://news.csun.edu/event/calpers-webinar-your-mycalpers-account-for-active-and-inactive-members/
CATEGORIES:Benefits,Health and Wellness,Human Resources,Personal Development,Workshops
END:VEVENT
BEGIN:VEVENT
DTSTART;TZID=America/Los_Angeles:20250826T120000
DTEND;TZID=America/Los_Angeles:20250826T130000
DTSTAMP:20260419T150858
CREATED:20250110T232431Z
LAST-MODIFIED:20250113T221239Z
UID:10004994-1756209600-1756213200@news.csun.edu
SUMMARY:Fidelity Financial Webinar | Fundamentals of Retirement Income Planning
DESCRIPTION:Location:\nOnline \n\nDescription:\n\n\n\nThis workshop is for individuals who are starting to plan for retirement and want to learn about the key considerations for building an income plan.\n\n\n\nFacilitator:\nFidelity Financial Services Representative \n\nReserve Your Space \n\n\n\n\n\n\n\n\nCan’t make it to an event? \n\nCall 877-CSU-3699 (877-278-3699) or visit www.fidelity.com/schedule to schedule a one-on-one consultation with a registered Fidelity representative.\nVisit the Fidelity Webcast Hub for practical conversations to help you live well financially\, today and tomorrow.
URL:https://news.csun.edu/event/fidelity-financial-retirement-income-planning-20250826/
CATEGORIES:Benefits,Human Resources,Personal Development,Workshops
END:VEVENT
BEGIN:VEVENT
DTSTART;TZID=America/Los_Angeles:20250828T120000
DTEND;TZID=America/Los_Angeles:20250828T130000
DTSTAMP:20260419T150858
CREATED:20250318T235653Z
LAST-MODIFIED:20250318T235821Z
UID:10005982-1756382400-1756386000@news.csun.edu
SUMMARY:Blue Shield Healthy Living Webinar | Winning the Fight Against Obesity: Tackling the Obesity Epidemic with Science-Backed Strategies
DESCRIPTION:Take control of your health with expert insights into combating the obesity epidemic. This webinar explores the latest science behind weight management\, from metabolism and nutrition to fitness and behavioral change. Learn sustainable strategies to break unhealthy cycles\, achieve long-term health goals\, and build a healthier future through informed lifestyle choices. \nFacilitated by:\n\nNicole Stepanian- NBC-HWC\, CIHC\n\nLocation:\nOnline\, Pre-Registration Required \nParticipation is open to all CSUN employees; however\, only CalPERS members (regardless of health plan enrollment) can earn rewards by attending webinars. \nJoin us:\nRegister Here \n\n \n \nBlue Shield of California is excited to announce the return of wellness webinars for 2024 with a brand-new lineup of topics\, including a few interactive cooking demonstrations. \nThey have also brought back their popular incentive programs! Last year\, attendees received rewards such as gift cards\, jump ropes\, and charcuterie sets. \nWe look forward to seeing you at an upcoming wellness webinar! Webinars are available live or on-demand afterward. \n 
URL:https://news.csun.edu/event/blue-shield-healthy-living-webinar-winning-the-fight-against-obesity-tackling-the-obesity-epidemic-with-science-backed-strategies/
CATEGORIES:Benefits,Human Resources,Personal Development,Workshops
END:VEVENT
END:VCALENDAR