BEGIN:VCALENDAR
VERSION:2.0
PRODID:-//CSUN News &amp; Events - ECPv6.11.2//NONSGML v1.0//EN
CALSCALE:GREGORIAN
METHOD:PUBLISH
X-WR-CALNAME:CSUN News &amp; Events
X-ORIGINAL-URL:https://news.csun.edu
X-WR-CALDESC:Events for CSUN News &amp; Events
REFRESH-INTERVAL;VALUE=DURATION:PT1H
X-Robots-Tag:noindex
X-PUBLISHED-TTL:PT1H
BEGIN:VTIMEZONE
TZID:America/Los_Angeles
BEGIN:DAYLIGHT
TZOFFSETFROM:-0800
TZOFFSETTO:-0700
TZNAME:PDT
DTSTART:20250309T100000
END:DAYLIGHT
BEGIN:STANDARD
TZOFFSETFROM:-0700
TZOFFSETTO:-0800
TZNAME:PST
DTSTART:20251102T090000
END:STANDARD
END:VTIMEZONE
BEGIN:VEVENT
DTSTART;TZID=America/Los_Angeles:20250906T193000
DTEND;TZID=America/Los_Angeles:20250906T213000
DTSTAMP:20260422T202522
CREATED:20240726T180317Z
LAST-MODIFIED:20250822T174606Z
UID:10002846-1757187000-1757194200@news.csun.edu
SUMMARY:Faculty Artist Recital: Dmitry Rachmanov\, Piano
DESCRIPTION:CSUN Music – Faculty Artist\nDr. Dmitry Rachmanov\, piano\n\n\n\n\nThis eclectic program brings together a rich tapestry of musical voices\, beginning with Six Bagatelles\, Op. 126\, Beethoven’s final published work for solo piano. Though modestly titled “bagatelles” — a term suggesting triviality — these miniatures are anything but. They mark a profound turning point\, anticipating the expressive intimacy of the Romantic character piece later perfected by composers like Chopin\, Schubert\, and Schumann. \nThe program continues with a selection of Chopin Etudes — masterpieces that seamlessly blend virtuosic brilliance with poetic depth\, elevating technical studies into concert hall staples. \nWe then turn to early 20th-century Russia\, exploring the contrasting worlds of Alexander Scriabin and Sergei Rachmaninoff — classmates\, rivals\, and two of the most influential voices of their time. Their works reveal diverging paths: Scriabin’s mysticism and harmonic daring set against Rachmaninoff’s sweeping lyricism and structural clarity. \nFinally\, the program highlights two extraordinary yet underrecognized women composers from Russia and Ukraine: Varvara Gaigerova and Bogdana Filz. Their distinctive voices offer a compelling glimpse into the evolving musical traditions of the Soviet and post-Soviet eras. \n\n \n\n\n\nParking via Kiosks in Lot B1 \nTICKETS: $10 to $22
URL:https://news.csun.edu/event/faculty-artist-recital-dmitry-rachmanov-piano-sep-2025/
LOCATION:Shigemi Matsumoto Recital Hall (via Cypress Hall Courtyard)\, 18236 Nordhoff St\, Northridge\, CA\, 91325\, United States
CATEGORIES:Arts and Culture,Music,Ticketed Events
ATTACH;FMTTYPE=image/png:https://news.csun.edu/wp-content/uploads/2024/07/169-Faculty-Artist-Dmitry-Rachmanov-rev-1.png
ORGANIZER;CN="Music":MAILTO:music@csun.edu
GEO:34.2363889;-118.529444444
X-APPLE-STRUCTURED-LOCATION;VALUE=URI;X-ADDRESS=Shigemi Matsumoto Recital Hall (via Cypress Hall Courtyard) 18236 Nordhoff St Northridge CA 91325 United States;X-APPLE-RADIUS=500;X-TITLE=18236 Nordhoff St:geo:-118.529444444,34.2363889
END:VEVENT
END:VCALENDAR