BEGIN:VCALENDAR
VERSION:2.0
PRODID:-//CSUN News &amp; Events - ECPv6.11.2//NONSGML v1.0//EN
CALSCALE:GREGORIAN
METHOD:PUBLISH
X-WR-CALNAME:CSUN News &amp; Events
X-ORIGINAL-URL:https://news.csun.edu
X-WR-CALDESC:Events for CSUN News &amp; Events
REFRESH-INTERVAL;VALUE=DURATION:PT1H
X-Robots-Tag:noindex
X-PUBLISHED-TTL:PT1H
BEGIN:VTIMEZONE
TZID:America/Los_Angeles
BEGIN:DAYLIGHT
TZOFFSETFROM:-0800
TZOFFSETTO:-0700
TZNAME:PDT
DTSTART:20250309T100000
END:DAYLIGHT
BEGIN:STANDARD
TZOFFSETFROM:-0700
TZOFFSETTO:-0800
TZNAME:PST
DTSTART:20251102T090000
END:STANDARD
END:VTIMEZONE
BEGIN:VEVENT
DTSTART;TZID=America/Los_Angeles:20250424T163000
DTEND;TZID=America/Los_Angeles:20250424T183000
DTSTAMP:20260422T171113
CREATED:20240729T234516Z
LAST-MODIFIED:20240815T171444Z
UID:10002881-1745512200-1745519400@news.csun.edu
SUMMARY:Commercial Music Ensemble I (4:30 PM)
DESCRIPTION:Commercial Music Ensembles \nTwo different performances Thursday APRIL 24th\, 2025\, at 4:30 and 7:30 PM \nFREE Events\, open to the public. \n  \nParking via Kiosks in Lot B1
URL:https://news.csun.edu/event/commercial-music-ensemble-1-apr-2025/
LOCATION:Shigemi Matsumoto Recital Hall (via Cypress Hall Courtyard)\, 18236 Nordhoff St\, Northridge\, CA\, 91325\, United States
CATEGORIES:Arts and Culture,Music,Special Events and Masterclasses
ATTACH;FMTTYPE=image/png:https://news.csun.edu/wp-content/uploads/2024/07/MUSIC-16_9-INDUSTRY.png
ORGANIZER;CN="Music":MAILTO:music@csun.edu
GEO:34.2363889;-118.529444444
X-APPLE-STRUCTURED-LOCATION;VALUE=URI;X-ADDRESS=Shigemi Matsumoto Recital Hall (via Cypress Hall Courtyard) 18236 Nordhoff St Northridge CA 91325 United States;X-APPLE-RADIUS=500;X-TITLE=18236 Nordhoff St:geo:-118.529444444,34.2363889
END:VEVENT
BEGIN:VEVENT
DTSTART;TZID=America/Los_Angeles:20250424T193000
DTEND;TZID=America/Los_Angeles:20250424T213000
DTSTAMP:20260422T171113
CREATED:20240729T234614Z
LAST-MODIFIED:20240815T171417Z
UID:10002882-1745523000-1745530200@news.csun.edu
SUMMARY:Commercial Music Ensemble II (7:30 PM)
DESCRIPTION:Commercial Music Ensembles \nTwo different performances Thursday APRIL 24th\, 2025\, at 4:30 and 7:30 PM \nFREE Event\, open to the public. \n  \nParking via Kiosks in Lot B1
URL:https://news.csun.edu/event/commercial-music-ensemble-2-apr-2025/
LOCATION:Shigemi Matsumoto Recital Hall (via Cypress Hall Courtyard)\, 18236 Nordhoff St\, Northridge\, CA\, 91325\, United States
CATEGORIES:Arts and Culture,Music,Special Events and Masterclasses
ATTACH;FMTTYPE=image/png:https://news.csun.edu/wp-content/uploads/2024/07/MUSIC-16_9-INDUSTRY.png
ORGANIZER;CN="Music":MAILTO:music@csun.edu
GEO:34.2363889;-118.529444444
X-APPLE-STRUCTURED-LOCATION;VALUE=URI;X-ADDRESS=Shigemi Matsumoto Recital Hall (via Cypress Hall Courtyard) 18236 Nordhoff St Northridge CA 91325 United States;X-APPLE-RADIUS=500;X-TITLE=18236 Nordhoff St:geo:-118.529444444,34.2363889
END:VEVENT
END:VCALENDAR