BEGIN:VCALENDAR
VERSION:2.0
PRODID:-//CSUN News &amp; Events - ECPv6.11.2//NONSGML v1.0//EN
CALSCALE:GREGORIAN
METHOD:PUBLISH
X-ORIGINAL-URL:https://news.csun.edu
X-WR-CALDESC:Events for CSUN News &amp; Events
REFRESH-INTERVAL;VALUE=DURATION:PT1H
X-Robots-Tag:noindex
X-PUBLISHED-TTL:PT1H
BEGIN:VTIMEZONE
TZID:America/Los_Angeles
BEGIN:DAYLIGHT
TZOFFSETFROM:-0800
TZOFFSETTO:-0700
TZNAME:PDT
DTSTART:20240310T100000
END:DAYLIGHT
BEGIN:STANDARD
TZOFFSETFROM:-0700
TZOFFSETTO:-0800
TZNAME:PST
DTSTART:20241103T090000
END:STANDARD
END:VTIMEZONE
BEGIN:VEVENT
DTSTART;TZID=America/Los_Angeles:20241109T150000
DTEND;TZID=America/Los_Angeles:20241109T170000
DTSTAMP:20260423T130502
CREATED:20240718T221603Z
LAST-MODIFIED:20240718T221603Z
UID:10000779-1731164400-1731171600@news.csun.edu
SUMMARY:Leyendas del Mariachi (reuniendo a los mejores talentos del mariachi)
DESCRIPTION:Leyendas del Mariachi is back by popular demand\, following its sold-out U.S. debut at The Soraya in January 2024. Featuring Pepe Martinez\, Jr.\, Steve Carrillo\, and Rafael Palomar among others\, this group unites musical icons from the most distinguished mariachi ensembles in an evening that includes beloved mariachi songs that will captivate all generations.
URL:https://news.csun.edu/event/leyendas-del-mariachi-reuniendo-a-los-mejores-talentos-del-mariachi/2024-11-09/1/
LOCATION:Younes and Soraya Nazarian Center for the Performing Arts Courtyard\, 18111 Nordhoff Street\, Northridge\, 91330\, United States
CATEGORIES:The Soraya
ATTACH;FMTTYPE=image/jpeg:https://news.csun.edu/wp-content/uploads/2024/07/1920x1080-6.jpg
ORGANIZER;CN="The Soraya":MAILTO:thesoraya@csun.edu
END:VEVENT
BEGIN:VEVENT
DTSTART;TZID=America/Los_Angeles:20241109T200000
DTEND;TZID=America/Los_Angeles:20241109T220000
DTSTAMP:20260423T130502
CREATED:20240718T221603Z
LAST-MODIFIED:20240718T221603Z
UID:10000780-1731182400-1731189600@news.csun.edu
SUMMARY:Leyendas del Mariachi (reuniendo a los mejores talentos del mariachi)
DESCRIPTION:Leyendas del Mariachi is back by popular demand\, following its sold-out U.S. debut at The Soraya in January 2024. Featuring Pepe Martinez\, Jr.\, Steve Carrillo\, and Rafael Palomar among others\, this group unites musical icons from the most distinguished mariachi ensembles in an evening that includes beloved mariachi songs that will captivate all generations.
URL:https://news.csun.edu/event/leyendas-del-mariachi-reuniendo-a-los-mejores-talentos-del-mariachi/2024-11-09/2/
LOCATION:Younes and Soraya Nazarian Center for the Performing Arts Courtyard\, 18111 Nordhoff Street\, Northridge\, 91330\, United States
CATEGORIES:The Soraya
ATTACH;FMTTYPE=image/jpeg:https://news.csun.edu/wp-content/uploads/2024/07/1920x1080-6.jpg
ORGANIZER;CN="The Soraya":MAILTO:thesoraya@csun.edu
END:VEVENT
END:VCALENDAR