BEGIN:VCALENDAR
VERSION:2.0
PRODID:-//CSUN News &amp; Events - ECPv6.11.2//NONSGML v1.0//EN
CALSCALE:GREGORIAN
METHOD:PUBLISH
X-ORIGINAL-URL:https://news.csun.edu
X-WR-CALDESC:Events for CSUN News &amp; Events
REFRESH-INTERVAL;VALUE=DURATION:PT1H
X-Robots-Tag:noindex
X-PUBLISHED-TTL:PT1H
BEGIN:VTIMEZONE
TZID:America/Los_Angeles
BEGIN:DAYLIGHT
TZOFFSETFROM:-0800
TZOFFSETTO:-0700
TZNAME:PDT
DTSTART:20260308T100000
END:DAYLIGHT
BEGIN:STANDARD
TZOFFSETFROM:-0700
TZOFFSETTO:-0800
TZNAME:PST
DTSTART:20261101T090000
END:STANDARD
END:VTIMEZONE
BEGIN:VEVENT
DTSTART;TZID=America/Los_Angeles:20260215T160000
DTEND;TZID=America/Los_Angeles:20260215T183000
DTSTAMP:20260422T215312
CREATED:20250703T225944Z
LAST-MODIFIED:20260203T223907Z
UID:10006790-1771171200-1771180200@news.csun.edu
SUMMARY:ChamberMusic@CSUN: Aurelio de la Vega - A Retrospective
DESCRIPTION:Chamber Music @ CSUN: Aurelio de la Vega – A Retrospective\nThe Chamber Music of Aurelio de la Vega\nSunday February 15th\, 2026 \n4:00 PM\, Shigemi Matsumoto Recital Hall\, $10-22 \n  \nThis special chamber music concert is a retrospective of Cuban-American composer Aurelio de la Vega’s substantial and varied chamber music. A recipient of the Outstanding Professor Award of the entire CSU system in 1971\, he served on the CSUN composition faculty from 1959 to 1992. \n \n  \nAurelio de la Vega program PDF of compositions \nLearn more about Aurelio de la Vega composer\, and former CSUN Distinguished Professor of Music and Director of the Electronic Music Studio \nChamberMusic@CSUN is proudly sponsored by The Colburn Foundation. \nSuggested Parking via Kiosks in Lot B1 \nTICKETS: $10 to $22 \nCan’t attend in Person? View LIVESTREAM
URL:https://news.csun.edu/event/chambermusiccsun-aurelio-de-la-vega/
LOCATION:Shigemi Matsumoto Recital Hall (via Cypress Hall Courtyard)\, 18236 Nordhoff St\, Northridge\, CA\, 91325\, United States
CATEGORIES:Arts and Culture,Music,Ticketed Events
ATTACH;FMTTYPE=image/png:https://news.csun.edu/wp-content/uploads/2025/07/2026-02-15-AURELIO-DE-LA-VEGA-169-2.png
ORGANIZER;CN="Music":MAILTO:music@csun.edu
GEO:34.2363889;-118.529444444
X-APPLE-STRUCTURED-LOCATION;VALUE=URI;X-ADDRESS=Shigemi Matsumoto Recital Hall (via Cypress Hall Courtyard) 18236 Nordhoff St Northridge CA 91325 United States;X-APPLE-RADIUS=500;X-TITLE=18236 Nordhoff St:geo:-118.529444444,34.2363889
END:VEVENT
END:VCALENDAR