BEGIN:VCALENDAR
VERSION:2.0
PRODID:-//CSUN News &amp; Events - ECPv6.11.2//NONSGML v1.0//EN
CALSCALE:GREGORIAN
METHOD:PUBLISH
X-ORIGINAL-URL:https://news.csun.edu
X-WR-CALDESC:Events for CSUN News &amp; Events
REFRESH-INTERVAL;VALUE=DURATION:PT1H
X-Robots-Tag:noindex
X-PUBLISHED-TTL:PT1H
BEGIN:VTIMEZONE
TZID:America/Los_Angeles
BEGIN:DAYLIGHT
TZOFFSETFROM:-0800
TZOFFSETTO:-0700
TZNAME:PDT
DTSTART:20260308T100000
END:DAYLIGHT
BEGIN:STANDARD
TZOFFSETFROM:-0700
TZOFFSETTO:-0800
TZNAME:PST
DTSTART:20261101T090000
END:STANDARD
END:VTIMEZONE
BEGIN:VEVENT
DTSTART;TZID=America/Los_Angeles:20260429T100000
DTEND;TZID=America/Los_Angeles:20260429T133000
DTSTAMP:20260421T155206
CREATED:20260413T184631Z
LAST-MODIFIED:20260415T175155Z
UID:10011314-1777456800-1777469400@news.csun.edu
SUMMARY:Digital Equity Day
DESCRIPTION:In-person in the HSI Innovation Hub and live on Zoom\nAs artificial intelligence and emerging technologies reshape higher education\, access and inclusion must remain at the center of innovation. Digital Equity Day brings together faculty\, staff\, students\, and technology leaders to explore how we can build a digital future that is ethical\, accessible\, and student-centered. \nDigital equity is not just about access\, it is about opportunity\, empowerment\, and student success. \nJoin the event on Zoom\n*If you require an ASL interpreter\, please contact your department. \n**For Zoom captions – please pre-enable automated captions/transcript on the Zoom website (not the app) before the meeting begins as it cannot be turned on while the meeting is running. If you have any questions\, contact ftc@csun.edu
URL:https://news.csun.edu/event/digital-equity-day/
LOCATION:ATEC
CATEGORIES:Artificial Intelligence (AI),Artificial Intelligence: Faculty,Artificial Intelligence: Staff,Artificial Intelligence: Students,Information Technology
ATTACH;FMTTYPE=image/png:https://news.csun.edu/wp-content/uploads/2026/04/DED-2026-Logo-FINAL-copy.png
END:VEVENT
END:VCALENDAR