BEGIN:VCALENDAR
VERSION:2.0
PRODID:-//CSUN News &amp; Events - ECPv6.11.2//NONSGML v1.0//EN
CALSCALE:GREGORIAN
METHOD:PUBLISH
X-ORIGINAL-URL:https://news.csun.edu
X-WR-CALDESC:Events for CSUN News &amp; Events
REFRESH-INTERVAL;VALUE=DURATION:PT1H
X-Robots-Tag:noindex
X-PUBLISHED-TTL:PT1H
BEGIN:VTIMEZONE
TZID:America/Los_Angeles
BEGIN:DAYLIGHT
TZOFFSETFROM:-0800
TZOFFSETTO:-0700
TZNAME:PDT
DTSTART:20260308T100000
END:DAYLIGHT
BEGIN:STANDARD
TZOFFSETFROM:-0700
TZOFFSETTO:-0800
TZNAME:PST
DTSTART:20261101T090000
END:STANDARD
END:VTIMEZONE
BEGIN:VEVENT
DTSTART;TZID=America/Los_Angeles:20260226T120000
DTEND;TZID=America/Los_Angeles:20260226T123000
DTSTAMP:20260422T133113
CREATED:20260112T204942Z
LAST-MODIFIED:20260210T190948Z
UID:10009691-1772107200-1772109000@news.csun.edu
SUMMARY:Fidelity Financial Webinar | Retirement Basics
DESCRIPTION:Location:\nOnline \n\nDescription:\n\n\n\n\n\nIn this Building Your Financial Foundation workshop\, you’ll learn about the power of saving and the different types of accounts\, including your workplace savings plan\, you can take advantage of to save for your future.\n\n\n\n\nFacilitator:\nFidelity Financial Services Representative \n\nReserve Your Space \n\n\n\n\n\n\n\n\nCan’t make it to an event? \n\nCall 877-CSU-3699 (877-278-3699) or visit www.fidelity.com/schedule to schedule a one-on-one consultation with a registered Fidelity representative.\nVisit the Fidelity Webcast Hub for practical conversations to help you live well financially\, today and tomorrow.
URL:https://news.csun.edu/event/fidelity-financial-webinar-retirement-basics/
CATEGORIES:Benefits,Human Resources,Personal Development,Workshops
ATTACH;FMTTYPE=image/png:https://news.csun.edu/wp-content/uploads/2026/01/Fidelity-2.png
END:VEVENT
END:VCALENDAR