BEGIN:VCALENDAR
VERSION:2.0
PRODID:-//CSUN News &amp; Events - ECPv6.11.2//NONSGML v1.0//EN
CALSCALE:GREGORIAN
METHOD:PUBLISH
X-WR-CALNAME:CSUN News &amp; Events
X-ORIGINAL-URL:https://news.csun.edu
X-WR-CALDESC:Events for CSUN News &amp; Events
REFRESH-INTERVAL;VALUE=DURATION:PT1H
X-Robots-Tag:noindex
X-PUBLISHED-TTL:PT1H
BEGIN:VTIMEZONE
TZID:America/Los_Angeles
BEGIN:DAYLIGHT
TZOFFSETFROM:-0800
TZOFFSETTO:-0700
TZNAME:PDT
DTSTART:20260308T100000
END:DAYLIGHT
BEGIN:STANDARD
TZOFFSETFROM:-0700
TZOFFSETTO:-0800
TZNAME:PST
DTSTART:20261101T090000
END:STANDARD
END:VTIMEZONE
BEGIN:VEVENT
DTSTART;TZID=America/Los_Angeles:20260416T100000
DTEND;TZID=America/Los_Angeles:20260416T110000
DTSTAMP:20260423T071653
CREATED:20260306T204533Z
LAST-MODIFIED:20260410T214153Z
UID:10010898-1776333600-1776337200@news.csun.edu
SUMMARY:AI Basics
DESCRIPTION:Hosted by Charlie Mahoney  \nDescription: Learn the basics of what AI is and how it works in everyday tasks. This workshop introduces simple AI concepts\, shows what AI can and cannot do\, and offers easy strategies for using AI safely and responsibly. No prior experience needed—perfect for anyone who wants to understand AI and how it can support teaching and learning. Audience: Students and Faculty.  \nJoin the event on Zoom\n*You will need to be signed into Zoom with your csun.edu or my.csun.edu email address to join. \n**If you are signed into the Zoom app with a different account\, log out of Zoom\, and select the Single Sign-On (SSO) button near the bottom. If Zoom asks for a domain enter csun\, and you will be guided to CSUN’s SSO page. \n 
URL:https://news.csun.edu/event/ai-basics-2/
LOCATION:Online via Zoom; Connection details provided upon registration
CATEGORIES:Artificial Intelligence (AI),Artificial Intelligence: Faculty,Artificial Intelligence: Staff,Information Technology
ATTACH;FMTTYPE=image/png:https://news.csun.edu/wp-content/uploads/2025/08/AI-Train-the-Trainer-600x400px.png
END:VEVENT
END:VCALENDAR