BEGIN:VCALENDAR
VERSION:2.0
PRODID:-//CSUN News &amp; Events - ECPv6.11.2//NONSGML v1.0//EN
CALSCALE:GREGORIAN
METHOD:PUBLISH
X-ORIGINAL-URL:https://news.csun.edu
X-WR-CALDESC:Events for CSUN News &amp; Events
REFRESH-INTERVAL;VALUE=DURATION:PT1H
X-Robots-Tag:noindex
X-PUBLISHED-TTL:PT1H
BEGIN:VTIMEZONE
TZID:America/Los_Angeles
BEGIN:DAYLIGHT
TZOFFSETFROM:-0800
TZOFFSETTO:-0700
TZNAME:PDT
DTSTART:20260308T100000
END:DAYLIGHT
BEGIN:STANDARD
TZOFFSETFROM:-0700
TZOFFSETTO:-0800
TZNAME:PST
DTSTART:20261101T090000
END:STANDARD
END:VTIMEZONE
BEGIN:VEVENT
DTSTART;TZID=America/Los_Angeles:20260304T120000
DTEND;TZID=America/Los_Angeles:20260304T130000
DTSTAMP:20260421T072633
CREATED:20260223T184036Z
LAST-MODIFIED:20260310T185640Z
UID:10010796-1772625600-1772629200@news.csun.edu
SUMMARY:AI Jam 2026 Kickoff (In-person)
DESCRIPTION:AI Jam 2026 is a campus-wide innovation competition inviting students from all majors to explore how artificial intelligence and emerging technologies are shaping our lives\, our communities\, and our future. \nWorking individually or in teams of two\, students will submit a short video outlining the project that presents a clear idea\, question\, or perspective on AI. \nProjects may: \n\nPropose a concept or solution\nExamine ethical or social impacts\nReimagine existing systems\nRaise important concerns about how technology affects people\n\nNo fully built or coded solution is required. This competition is about ideas\, insight\, and impact\, not just technical skill. \nWin cash prizes and a chance to work with CSUN Information Technology. \nLocation: \n\nLocation: Extended University\, Room 101\n\nRSVP for the Kickoff Event\nTo request sign language interpreters or transcribers for the AI Jam 2026 event\, contact the National Center on Deafness (NCOD) at ncod@csun.edu.  Requests should ideally be submitted at least five business days in advance to ensure availability. Provide event details including name\, date\, time\, and location to NCOD for proper scheduling. 
URL:https://news.csun.edu/event/ai-jam-kickoff-in-person/
LOCATION:Extended University 101
CATEGORIES:Events,Information Technology,Student Competition
ATTACH;FMTTYPE=image/png:https://news.csun.edu/wp-content/uploads/2026/02/AI-Jam-FUTURE-Final-Logo-2026-Med-scaled.png
END:VEVENT
BEGIN:VEVENT
DTSTART;TZID=America/Los_Angeles:20260304T130000
DTEND;TZID=America/Los_Angeles:20260304T140000
DTSTAMP:20260421T072633
CREATED:20260217T144456Z
LAST-MODIFIED:20260217T144456Z
UID:10010725-1772629200-1772632800@news.csun.edu
SUMMARY:Canvas HTML with ChatGPT
DESCRIPTION:Hosted by Dr. Joyce Marie Brusasco  \n\nLearn how to push the layout and design of your Canvas pages to the next level by using ChatGPT to create the HTML code for you. No previous experience with HTML necessary; consider this an introduction to “vibe-coding”.    \n \nJoin this event on Zoom\n**If you require an ASL interpreter\, please contact your department. \n***For Zoom captions – please pre-enable automated captions/transcript on the Zoom website (not the app) before the meeting begins as it cannot be turned on while the meeting is running. If you have any questions\, contact ftc@csun.edu
URL:https://news.csun.edu/event/canvas-html-with-chatgpt/
LOCATION:Online via Zoom; Connection details provided upon registration
CATEGORIES:Canvas,Information Technology
ATTACH;FMTTYPE=image/png:https://news.csun.edu/wp-content/uploads/2024/12/Canvas-Logo-900x600px-e1736813339905.png
END:VEVENT
END:VCALENDAR