BEGIN:VCALENDAR
VERSION:2.0
PRODID:-//CSUN News &amp; Events - ECPv6.11.2//NONSGML v1.0//EN
CALSCALE:GREGORIAN
METHOD:PUBLISH
X-ORIGINAL-URL:https://news.csun.edu
X-WR-CALDESC:Events for CSUN News &amp; Events
REFRESH-INTERVAL;VALUE=DURATION:PT1H
X-Robots-Tag:noindex
X-PUBLISHED-TTL:PT1H
BEGIN:VTIMEZONE
TZID:America/Los_Angeles
BEGIN:DAYLIGHT
TZOFFSETFROM:-0800
TZOFFSETTO:-0700
TZNAME:PDT
DTSTART:20250309T100000
END:DAYLIGHT
BEGIN:STANDARD
TZOFFSETFROM:-0700
TZOFFSETTO:-0800
TZNAME:PST
DTSTART:20251102T090000
END:STANDARD
END:VTIMEZONE
BEGIN:VEVENT
DTSTART;TZID=America/Los_Angeles:20250301T080000
DTEND;TZID=America/Los_Angeles:20250301T130000
DTSTAMP:20260423T142637
CREATED:20241202T220003Z
LAST-MODIFIED:20250228T222435Z
UID:10004683-1740816000-1740834000@news.csun.edu
SUMMARY:Radiologic Science Continuing Education (CEU) Event: Mammography
DESCRIPTION:Join us at our upcoming continuing education event\, where we will have various presentations related to mammography. Earn up to five (5) hours of CE credit. \nDate: March 1\, 2025 \nTime: 8:00 a.m. – 1:00 p.m. \nLocation: Zoom*\n*Zoom link will be forwarded after registration \nCost:\nAlumni & General: $60\nStudents: $20 \nSponsorship: $300 \n*This option DOES NOT INCLUDE EVENT PARTICIPATION. Proceeds benefit RSAC program fund to assist with alumni professional development and student mentorship initiatives. Contact Hannah Labra & Doris Abrishami  for more information. \nPlease email Hannah Labra before 4:00 p.m. on February 28 for late registration link.\nFor group sales\, please contact Hannah Labra \nPRESENTATIONS \nBrittany Dashevsky\, MD\, DPhil\nBreast Imaging Essentials: From Screening to Surgical\nPlanning (Category A 1 CE credit) \nJennifer Little\, Ed.D.\, R.T.(R)(MR)(CT)\, MRSO\nEmerging Imaging Technologies in Breast Pathology:\nInsights\, Challenges\, and Opportunities\n(Category A 1 CE credit) \nTom Oshiro\, Ph.D.\, DABR \nDigital Mammography and Breast Tomosynthesis Artifacts:\nIdentifying the Causes Category A 1 CE credit) \nElizabeth Najera\, R.T.(R)(CT)(MR)(M)(ARRT)\nBreast Density and Breast Cancer Risks\n(Category A 1 CE credit) \nSheryl Guadron\, R.T.(R)(M)(ARRT) and Lauryn Leong\, R.T.(R)(M)(ARRT) \nNew FDA MQSA Requirements for Mammography Reports\n(Category A 1 CE credit) \nWe encourage those who require visual\, auditory or mobility assistance to attend. Please contact Cristina Bernstein with any requests by February 21\, 2025.
URL:https://news.csun.edu/event/radiologic-science-continuing-education-ceu-event-mammography/
CATEGORIES:Alumni,Alumni Career & Professional,Alumni Chapters,Career Development
ATTACH;FMTTYPE=image/jpeg:https://news.csun.edu/wp-content/uploads/2024/07/750x562_email_banner_radiological_sciences_alumni_chapter_04_31_24_v3.jpg
END:VEVENT
BEGIN:VEVENT
DTSTART;TZID=America/Los_Angeles:20250305T170000
DTEND;TZID=America/Los_Angeles:20250305T183000
DTSTAMP:20260423T142637
CREATED:20250213T185747Z
LAST-MODIFIED:20250213T185747Z
UID:10005350-1741194000-1741199400@news.csun.edu
SUMMARY:CSUN Alumni Attorney Networking Group - March Meeting
DESCRIPTION:Join the CSUN Alumni Attorney Networking Group’s March meeting via Zoom and connect with fellow Matador attorneys. This webinar will focus on how California’s new civility rules impact the way litigation is conducted and how it spills over in the context of alternative dispute resolution (ADR). \nDate: March 5\nTime: 5:00 p.m.\nCost: Free\nVIA ZOOM\n*Zoom link will be forwarded after registration. \nREGISTER for this event \nMEET THE SPEAKERS \n \nHon. Yvette M. Palazuelos (Ret) \nMediator\, Arbitrator\, Private Judge Judicate West \nJudge Palazuelos joins Judicate West after 24 years of distinguished service on the Los Angeles County Superior Court. Appointed to the bench in 2000\, she presided over an individual civil calendar encompassing a wide range of civil matters. Since 2019\, she was exclusively assigned to complex civil cases\, including mass torts\, class actions\, and business disputes. \nBefore her judicial appointment\, Judge Palazuelos spent a decade as an Assistant U.S. Attorney for the U.S. Attorney’s Office in the Central District of California\, where she prosecuted various federal criminal cases. She began her legal career as a litigation associate\, defending insurance companies. \n \nAlan S. Petlak \nMediator and Arbitrator Judicate West \nPrior to joining Judicate West as a neutral in 2022\, Alan spent over twenty years as a big firm litigator handling a variety of disputes from intake to trial. He has expertise in real estate\, personal injury\, consumer finance\, employment\, and securities and has litigated a wide variety of complicated business disputes. Since 2018\, Alan has been a full-time mediator.
URL:https://news.csun.edu/event/csun-alumni-attorney-networking-group-march-meeting/
LOCATION:Zoom
CATEGORIES:Alumni,Alumni Career & Professional,Alumni Chapters,Career Development
ATTACH;FMTTYPE=image/png:https://news.csun.edu/wp-content/uploads/2024/08/ANG-Standar-Email-Banner-031124.png
END:VEVENT
BEGIN:VEVENT
DTSTART;TZID=America/Los_Angeles:20250328T173000
DTEND;TZID=America/Los_Angeles:20250328T210000
DTSTAMP:20260423T142637
CREATED:20250311T180557Z
LAST-MODIFIED:20250327T232754Z
UID:10005569-1743183000-1743195600@news.csun.edu
SUMMARY:Nazarian Alumni Social
DESCRIPTION:The Nazarian Alumni Chapter invites you to Malibu Wines & Beer Garden to reconnect with David Nazarian College of Business Alumni over wine\, beer & pizza! \nDate: Friday\, March 28\nTime: 5:30 –  9:00 p.m.\nLocation: Malibu Wines & Beer Garden\n23130 Sherman Way\, West Hills\, CA 91307 \nCost: $35\nIncludes 1 drink ticket and pizza. Additional beverages available to purchase. \n*MUST BE 21 YEARS OR OVER \nREGISTER FOR THIS EVENT \nMeet professionals in your field\, catch up with old classmates\, and learn about recent developments at CSUN! \nWe encourage those who require visual\, auditory or mobility assistance to attend. Please email Hannah Labra with any requests by March 21\, 2025.
URL:https://news.csun.edu/event/nazarian-alumni-social/
LOCATION:Malibu Wines and Beer Garden\, 23130 Sherman Way\, West Hills\, 91307\, United States
CATEGORIES:Alumni,Alumni Chapters
ATTACH;FMTTYPE=image/png:https://news.csun.edu/wp-content/uploads/2024/10/email_banner_david_nazarian_college_of_business_and_economics_chapter_05_2_24_750x562_v6_750x562.png
END:VEVENT
END:VCALENDAR