BEGIN:VCALENDAR
VERSION:2.0
PRODID:-//CSUN News &amp; Events - ECPv6.11.2//NONSGML v1.0//EN
CALSCALE:GREGORIAN
METHOD:PUBLISH
X-WR-CALNAME:CSUN News &amp; Events
X-ORIGINAL-URL:https://news.csun.edu
X-WR-CALDESC:Events for CSUN News &amp; Events
REFRESH-INTERVAL;VALUE=DURATION:PT1H
X-Robots-Tag:noindex
X-PUBLISHED-TTL:PT1H
BEGIN:VTIMEZONE
TZID:America/Los_Angeles
BEGIN:DAYLIGHT
TZOFFSETFROM:-0800
TZOFFSETTO:-0700
TZNAME:PDT
DTSTART:20250309T100000
END:DAYLIGHT
BEGIN:STANDARD
TZOFFSETFROM:-0700
TZOFFSETTO:-0800
TZNAME:PST
DTSTART:20251102T090000
END:STANDARD
END:VTIMEZONE
BEGIN:VEVENT
DTSTART;TZID=America/Los_Angeles:20250115T180000
DTEND;TZID=America/Los_Angeles:20250115T190000
DTSTAMP:20260423T042340
CREATED:20241203T193514Z
LAST-MODIFIED:20241217T002441Z
UID:10004684-1736964000-1736967600@news.csun.edu
SUMMARY:Recreation & Tourism Management Alumni Chapter Zoom Happy Hour
DESCRIPTION:Connect with Recreation & Tourism (RTM) Alums for Happy Hour via Zoom! \nDate: January 15\, 2025\nTime: 6:00 to 7:00 p.m.\nCost: Free! \n*Zoom link provided upon regisratation \nBring your own drinks & snacks. Be prepared to share a fun fact about yourself! \nWe are looking forward to casually re-connecting with you as we kickstart the New Year and begin to re-develop the RTM Alumni Chapter. \nREGISTER FOR THIS EVENT \nWe encourage those who require visual\, auditory or mobility assistance to attend. Please contact Hannah Labra with any requests by January 7.
URL:https://news.csun.edu/event/recreation-tourism-alumni-chapter-zoom-happy-hour/
CATEGORIES:Alumni,Alumni Chapters
ATTACH;FMTTYPE=image/png:https://news.csun.edu/wp-content/uploads/2024/12/750x562_RTM_08_08_24_v2.png
END:VEVENT
END:VCALENDAR