BEGIN:VCALENDAR
VERSION:2.0
PRODID:-//CSUN News &amp; Events - ECPv6.11.2//NONSGML v1.0//EN
CALSCALE:GREGORIAN
METHOD:PUBLISH
X-WR-CALNAME:CSUN News &amp; Events
X-ORIGINAL-URL:https://news.csun.edu
X-WR-CALDESC:Events for CSUN News &amp; Events
REFRESH-INTERVAL;VALUE=DURATION:PT1H
X-Robots-Tag:noindex
X-PUBLISHED-TTL:PT1H
BEGIN:VTIMEZONE
TZID:America/Los_Angeles
BEGIN:DAYLIGHT
TZOFFSETFROM:-0800
TZOFFSETTO:-0700
TZNAME:PDT
DTSTART:20260308T100000
END:DAYLIGHT
BEGIN:STANDARD
TZOFFSETFROM:-0700
TZOFFSETTO:-0800
TZNAME:PST
DTSTART:20261101T090000
END:STANDARD
END:VTIMEZONE
BEGIN:VEVENT
DTSTART;TZID=America/Los_Angeles:20260323T100000
DTEND;TZID=America/Los_Angeles:20260323T110000
DTSTAMP:20260421T122038
CREATED:20260217T153124Z
LAST-MODIFIED:20260219T214511Z
UID:10010735-1774260000-1774263600@news.csun.edu
SUMMARY:Video Assignments with GoReact
DESCRIPTION:Hosted by Megan Duncan  \nGoReact is an interactive platform for providing extensive feedback\, critique\, and grading of student video submissions. This workshop will help you get started using GoReact and will cover topics such as creating a GoReact assignment\, reviewing submissions\, and providing time-stamped feedback.  \nJoin the event on Zoom\nYou will need to be signed into Zoom with your csun.edu or my.csun.edu email address to join. \nIf you are signed into the Zoom app with a different account\, log out of Zoom\, and select the Single Sign-On (SSO) button near the bottom. If Zoom asks for a domain enter csun\, and you will be guided to CSUN’s SSO page.
URL:https://news.csun.edu/event/video-assignments-with-goreact-2/
LOCATION:Online via Zoom; Connection details provided upon registration
CATEGORIES:GoReact,Information Technology
ATTACH;FMTTYPE=image/jpeg:https://news.csun.edu/wp-content/uploads/2026/01/goreact-logo.jpg
END:VEVENT
END:VCALENDAR