BEGIN:VCALENDAR
VERSION:2.0
PRODID:-//CSUN News &amp; Events - ECPv6.11.2//NONSGML v1.0//EN
CALSCALE:GREGORIAN
METHOD:PUBLISH
X-ORIGINAL-URL:https://news.csun.edu
X-WR-CALDESC:Events for CSUN News &amp; Events
REFRESH-INTERVAL;VALUE=DURATION:PT1H
X-Robots-Tag:noindex
X-PUBLISHED-TTL:PT1H
BEGIN:VTIMEZONE
TZID:America/Los_Angeles
BEGIN:DAYLIGHT
TZOFFSETFROM:-0800
TZOFFSETTO:-0700
TZNAME:PDT
DTSTART:20250309T100000
END:DAYLIGHT
BEGIN:STANDARD
TZOFFSETFROM:-0700
TZOFFSETTO:-0800
TZNAME:PST
DTSTART:20251102T090000
END:STANDARD
END:VTIMEZONE
BEGIN:VEVENT
DTSTART;TZID=America/Los_Angeles:20250430T100000
DTEND;TZID=America/Los_Angeles:20250430T110000
DTSTAMP:20260421T140751
CREATED:20250307T230415Z
LAST-MODIFIED:20250307T230415Z
UID:10005555-1746007200-1746010800@news.csun.edu
SUMMARY:Turnitin AI Detection
DESCRIPTION:Register for this event\nToday there are several technologies used by students to assist them in the creation of essays. In this workshop faculty will learn how TurnItIn’s AI Detection score assesses student submissions as well as how to interpret the results. \nYour Zoom link will be in the Additional Information section of the confirmation email you receive from Eventbrite when you register\, and in the confirmation email from Eventbrite you will receive one hour prior to the workshop. If you have any questions\, contact ftc@csun.edu \n**If you require an ASL interpreter\, please contact your department. \n***For Zoom captions – please pre-enable automated captions/transcript on the Zoom website (not the app) before the meeting begins as it cannot be turned on while the meeting is running. If you have any questions\, contact ftc@csun.edu
URL:https://news.csun.edu/event/turnitin-ai-detection-3/
LOCATION:Online via Zoom; Connection details provided upon registration
CATEGORIES:Artificial Intelligence (AI),Information Technology,Learning Technologies
ATTACH;FMTTYPE=image/png:https://news.csun.edu/wp-content/uploads/2024/10/turnitin-ai-detection-workshop-900x600-1-e1730412454512.png
END:VEVENT
BEGIN:VEVENT
DTSTART;TZID=America/Los_Angeles:20250430T120000
DTEND;TZID=America/Los_Angeles:20250430T123000
DTSTAMP:20260421T140751
CREATED:20250327T202132Z
LAST-MODIFIED:20250327T202132Z
UID:10006160-1746014400-1746016200@news.csun.edu
SUMMARY:AI Micro-Credential Learning Lab
DESCRIPTION:Register for this event\nDuring the month of April 2025\, Academic Technology is hosting a series of online learning labs for those at CSUN who are completing the Academic Applications of AI (AAAI) Faculty Micro-Credential. These online synchronous sessions are an opportunity to connect with fellow CSUN faculty to share progress and discuss how the course concepts can be applied in your teaching. \nYour Zoom link will be in the Additional Information section of the confirmation email you receive from Eventbrite when you register\, and in the confirmation email from Eventbrite you will receive one hour prior to the workshop. If you have any questions\, contact ftc@csun.edu \n**If you require an ASL interpreter\, please contact your department. \n***For Zoom captions – please pre-enable automated captions/transcript on the Zoom website (not the app) before the meeting begins as it cannot be turned on while the meeting is running. If you have any questions\, contact ftc@csun.edu
URL:https://news.csun.edu/event/ai-micro-credential-learning-lab-4/
LOCATION:Online via Zoom; Connection details provided upon registration
CATEGORIES:Artificial Intelligence (AI),Information Technology
ATTACH;FMTTYPE=image/png:https://news.csun.edu/wp-content/uploads/2025/03/AI-Microcredential-Learning-Lab-2-600x400px.png
END:VEVENT
BEGIN:VEVENT
DTSTART;TZID=America/Los_Angeles:20250430T133000
DTEND;TZID=America/Los_Angeles:20250430T143000
DTSTAMP:20260421T140751
CREATED:20250327T225059Z
LAST-MODIFIED:20250327T225059Z
UID:10006167-1746019800-1746023400@news.csun.edu
SUMMARY:Build a Custom GPT in ChatGPT
DESCRIPTION:Register for this event\nDiscover how to create a personalized AI assistant using the Custom GPT tool in ChatGPT that can be shared with students and colleagues. \nYour Zoom link will be in the Additional Information section of the confirmation email you receive from Eventbrite when you register\, and in the confirmation email from Eventbrite you will receive one hour prior to the workshop. If you have any questions\, contact ftc@csun.edu \n**If you require an ASL interpreter\, please contact your department. \n***For Zoom captions – please pre-enable automated captions/transcript on the Zoom website (not the app) before the meeting begins as it cannot be turned on while the meeting is running. If you have any questions\, contact ftc@csun.edu
URL:https://news.csun.edu/event/build-a-custom-gpt-in-chatgpt/
LOCATION:Online via Zoom; Connection details provided upon registration
CATEGORIES:Artificial Intelligence (AI),Information Technology
ATTACH;FMTTYPE=image/png:https://news.csun.edu/wp-content/uploads/2025/03/Build-a-Custom-GPT-in-ChatGPT-600x400-1.png
END:VEVENT
END:VCALENDAR