BEGIN:VCALENDAR
VERSION:2.0
PRODID:-//CSUN News &amp; Events - ECPv6.11.2//NONSGML v1.0//EN
CALSCALE:GREGORIAN
METHOD:PUBLISH
X-WR-CALNAME:CSUN News &amp; Events
X-ORIGINAL-URL:https://news.csun.edu
X-WR-CALDESC:Events for CSUN News &amp; Events
REFRESH-INTERVAL;VALUE=DURATION:PT1H
X-Robots-Tag:noindex
X-PUBLISHED-TTL:PT1H
BEGIN:VTIMEZONE
TZID:America/Los_Angeles
BEGIN:DAYLIGHT
TZOFFSETFROM:-0800
TZOFFSETTO:-0700
TZNAME:PDT
DTSTART:20250309T100000
END:DAYLIGHT
BEGIN:STANDARD
TZOFFSETFROM:-0700
TZOFFSETTO:-0800
TZNAME:PST
DTSTART:20251102T090000
END:STANDARD
END:VTIMEZONE
BEGIN:VEVENT
DTSTART;TZID=America/Los_Angeles:20250428T130000
DTEND;TZID=America/Los_Angeles:20250428T140000
DTSTAMP:20260420T154900
CREATED:20250326T023648Z
LAST-MODIFIED:20250326T023648Z
UID:10006145-1745845200-1745848800@news.csun.edu
SUMMARY:Qualitative Data Analysis with AI
DESCRIPTION:Register for this event\nStreamline your qualitative research process with the help of AI. This workshop introduces tools that can assist in coding\, theme identification\, summarizing interviews\, and synthesizing large volumes of qualitative data. We’ll explore the benefits\, limitations\, and ethical considerations of using AI to support human insight in qualitative analysis. \nYour Zoom link will be in the Additional Information section of the confirmation email you receive from Eventbrite when you register\, and in the confirmation email from Eventbrite you will receive one hour prior to the workshop. If you have any questions\, contact ftc@csun.edu \n**If you require an ASL interpreter\, please contact your department. \n***For Zoom captions – please pre-enable automated captions/transcript on the Zoom website (not the app) before the meeting begins as it cannot be turned on while the meeting is running. If you have any questions\, contact ftc@csun.edu
URL:https://news.csun.edu/event/qualitative-data-analysis-with-ai-2/
LOCATION:Online via Zoom; Connection details provided upon registration
CATEGORIES:Artificial Intelligence (AI),Information Technology
ATTACH;FMTTYPE=image/png:https://news.csun.edu/wp-content/uploads/2025/03/Qualitative-Data-Analysis-with-AI-600x400px.png
END:VEVENT
BEGIN:VEVENT
DTSTART;TZID=America/Los_Angeles:20250428T143000
DTEND;TZID=America/Los_Angeles:20250428T153000
DTSTAMP:20260420T154900
CREATED:20250307T225616Z
LAST-MODIFIED:20250307T225616Z
UID:10005553-1745850600-1745854200@news.csun.edu
SUMMARY:HEERF Tools Transition Clinic
DESCRIPTION:Register for this event\nThis drop-in support session\, hosted via Zoom by the Faculty Technology Center (FTC)\, provides faculty with direct assistance in transitioning from Canvas Studio\, Pronto\, Hypothesis\, and H5P to alternative tools. Whether you have specific questions\, need hands-on guidance\, or want to explore new solutions\, our team is here to help. \nFor more information on the HEERF transition\, visit 2025 HEERF Transition webpage and the dedicated Canvas Studio Transition webpage. \nYour Zoom link will be in the Additional Information section of the confirmation email you receive from Eventbrite when you register\, and in the confirmation email from Eventbrite you will receive one hour prior to the workshop. If you have any questions\, contact ftc@csun.edu \n**If you require an ASL interpreter\, please contact your department. \n***For Zoom captions – please pre-enable automated captions/transcript on the Zoom website (not the app) before the meeting begins as it cannot be turned on while the meeting is running. If you have any questions\, contact ftc@csun.edu
URL:https://news.csun.edu/event/heerf-tools-transition-clinic-5/
LOCATION:Online via Zoom; Connection details provided upon registration
CATEGORIES:Canvas,Information Technology,Learning Technologies,Panopto
ATTACH;FMTTYPE=image/png:https://news.csun.edu/wp-content/uploads/2024/11/HEERF-Workshop-Image-900x600-1-e1737159213485.png
END:VEVENT
END:VCALENDAR