BEGIN:VCALENDAR
VERSION:2.0
PRODID:-//CSUN News &amp; Events - ECPv6.11.2//NONSGML v1.0//EN
CALSCALE:GREGORIAN
METHOD:PUBLISH
X-ORIGINAL-URL:https://news.csun.edu
X-WR-CALDESC:Events for CSUN News &amp; Events
REFRESH-INTERVAL;VALUE=DURATION:PT1H
X-Robots-Tag:noindex
X-PUBLISHED-TTL:PT1H
BEGIN:VTIMEZONE
TZID:America/Los_Angeles
BEGIN:DAYLIGHT
TZOFFSETFROM:-0800
TZOFFSETTO:-0700
TZNAME:PDT
DTSTART:20250309T100000
END:DAYLIGHT
BEGIN:STANDARD
TZOFFSETFROM:-0700
TZOFFSETTO:-0800
TZNAME:PST
DTSTART:20251102T090000
END:STANDARD
END:VTIMEZONE
BEGIN:VEVENT
DTSTART;TZID=America/Los_Angeles:20250418T100000
DTEND;TZID=America/Los_Angeles:20250418T110000
DTSTAMP:20260420T192136
CREATED:20250307T225147Z
LAST-MODIFIED:20250307T225147Z
UID:10005551-1744970400-1744974000@news.csun.edu
SUMMARY:HEERF Tools Transition Clinic
DESCRIPTION:Register for this event\nThis drop-in support session\, hosted via Zoom by the Faculty Technology Center (FTC)\, provides faculty with direct assistance in transitioning from Canvas Studio\, Pronto\, Hypothesis\, and H5P to alternative tools. Whether you have specific questions\, need hands-on guidance\, or want to explore new solutions\, our team is here to help. \nFor more information on the HEERF transition\, visit 2025 HEERF Transition webpage and the dedicated Canvas Studio Transition webpage. \nYour Zoom link will be in the Additional Information section of the confirmation email you receive from Eventbrite when you register\, and in the confirmation email from Eventbrite you will receive one hour prior to the workshop. If you have any questions\, contact ftc@csun.edu \n**If you require an ASL interpreter\, please contact your department. \n***For Zoom captions – please pre-enable automated captions/transcript on the Zoom website (not the app) before the meeting begins as it cannot be turned on while the meeting is running. If you have any questions\, contact ftc@csun.edu
URL:https://news.csun.edu/event/heerf-tools-transition-clinic-3/
LOCATION:Online via Zoom; Connection details provided upon registration
CATEGORIES:Canvas,Information Technology,Learning Technologies,Panopto
ATTACH;FMTTYPE=image/png:https://news.csun.edu/wp-content/uploads/2024/11/HEERF-Workshop-Image-900x600-1-e1737159213485.png
END:VEVENT
BEGIN:VEVENT
DTSTART;TZID=America/Los_Angeles:20250418T120000
DTEND;TZID=America/Los_Angeles:20250418T123000
DTSTAMP:20260420T192136
CREATED:20250327T201802Z
LAST-MODIFIED:20250327T201802Z
UID:10006158-1744977600-1744979400@news.csun.edu
SUMMARY:AI Micro-Credential Learning Lab
DESCRIPTION:Register for this event\nDuring the month of April 2025\, Academic Technology is hosting a series of online learning labs for those at CSUN who are completing the Academic Applications of AI (AAAI) Faculty Micro-Credential. These online synchronous sessions are an opportunity to connect with fellow CSUN faculty to share progress and discuss how the course concepts can be applied in your teaching. \nYour Zoom link will be in the Additional Information section of the confirmation email you receive from Eventbrite when you register\, and in the confirmation email from Eventbrite you will receive one hour prior to the workshop. If you have any questions\, contact ftc@csun.edu \n**If you require an ASL interpreter\, please contact your department. \n***For Zoom captions – please pre-enable automated captions/transcript on the Zoom website (not the app) before the meeting begins as it cannot be turned on while the meeting is running. If you have any questions\, contact ftc@csun.edu
URL:https://news.csun.edu/event/ai-micro-credential-learning-lab-2/
LOCATION:Online via Zoom; Connection details provided upon registration
CATEGORIES:Artificial Intelligence (AI),Information Technology
ATTACH;FMTTYPE=image/png:https://news.csun.edu/wp-content/uploads/2025/03/AI-Microcredential-Learning-Lab-2-600x400px.png
END:VEVENT
END:VCALENDAR