BEGIN:VCALENDAR
VERSION:2.0
PRODID:-//CSUN News &amp; Events - ECPv6.11.2//NONSGML v1.0//EN
CALSCALE:GREGORIAN
METHOD:PUBLISH
X-WR-CALNAME:CSUN News &amp; Events
X-ORIGINAL-URL:https://news.csun.edu
X-WR-CALDESC:Events for CSUN News &amp; Events
REFRESH-INTERVAL;VALUE=DURATION:PT1H
X-Robots-Tag:noindex
X-PUBLISHED-TTL:PT1H
BEGIN:VTIMEZONE
TZID:America/Los_Angeles
BEGIN:DAYLIGHT
TZOFFSETFROM:-0800
TZOFFSETTO:-0700
TZNAME:PDT
DTSTART:20250309T100000
END:DAYLIGHT
BEGIN:STANDARD
TZOFFSETFROM:-0700
TZOFFSETTO:-0800
TZNAME:PST
DTSTART:20251102T090000
END:STANDARD
END:VTIMEZONE
BEGIN:VEVENT
DTSTART;TZID=America/Los_Angeles:20250307T100000
DTEND;TZID=America/Los_Angeles:20250307T110000
DTSTAMP:20260425T122130
CREATED:20250211T011629Z
LAST-MODIFIED:20250211T011629Z
UID:10005311-1741341600-1741345200@news.csun.edu
SUMMARY:Canvas Content Creation in Adobe Express
DESCRIPTION:Register for this event\nLearn how to create visually intriguing content\, whether it be flyers\, graphics\, presentations\, videos\, or visuals for your Canvas Pages. This workshop will cover an array of design capabilities available within the tool\, that may be a suitable alternative to H5P content used in Canvas in the past\, so come explore this potential HEERF tool transition. Adobe Express is available to staff\, students and faculty at CSUN\, and contains AI integrations for your design exploration. Learn the basics\, flex your creativity\, and start designing today! \nYour Zoom link will be in the Additional Information section of the confirmation email you receive from Eventbrite when you register\, and in the confirmation email from Eventbrite you will receive one hour prior to the workshop. If you have any questions\, contact ftc@csun.edu \n**If you require an ASL interpreter\, please contact your department. \n***For Zoom captions – please pre-enable automated captions/transcript on the Zoom website (not the app) before the meeting begins as it cannot be turned on while the meeting is running. If you have any questions\, contact ftc@csun.edu
URL:https://news.csun.edu/event/canvas-content-creation-in-adobe-express/
LOCATION:Online via Zoom; Connection details provided upon registration
CATEGORIES:Information Technology,Learning Technologies
ATTACH;FMTTYPE=image/png:https://news.csun.edu/wp-content/uploads/2025/01/Adobe-Express-600-x-400px.png
END:VEVENT
END:VCALENDAR