BEGIN:VCALENDAR
VERSION:2.0
PRODID:-//CSUN News &amp; Events - ECPv6.11.2//NONSGML v1.0//EN
CALSCALE:GREGORIAN
METHOD:PUBLISH
X-WR-CALNAME:CSUN News &amp; Events
X-ORIGINAL-URL:https://news.csun.edu
X-WR-CALDESC:Events for CSUN News &amp; Events
REFRESH-INTERVAL;VALUE=DURATION:PT1H
X-Robots-Tag:noindex
X-PUBLISHED-TTL:PT1H
BEGIN:VTIMEZONE
TZID:America/Los_Angeles
BEGIN:DAYLIGHT
TZOFFSETFROM:-0800
TZOFFSETTO:-0700
TZNAME:PDT
DTSTART:20250309T100000
END:DAYLIGHT
BEGIN:STANDARD
TZOFFSETFROM:-0700
TZOFFSETTO:-0800
TZNAME:PST
DTSTART:20251102T090000
END:STANDARD
END:VTIMEZONE
BEGIN:VEVENT
DTSTART;TZID=America/Los_Angeles:20250213T100000
DTEND;TZID=America/Los_Angeles:20250213T110000
DTSTAMP:20260419T063257
CREATED:20250114T003222Z
LAST-MODIFIED:20250114T003222Z
UID:10005010-1739440800-1739444400@news.csun.edu
SUMMARY:Zoom Beyond the Basics
DESCRIPTION:Register for this event\nGet engaged with Zoom! Learn how to effectively communicate and collaborate in your synchronous online lectures through the various tools offered.   \n\nHold a topical survey or voting session with Polls.  \n\n\nPresent and collaborate with the digital Whiteboard.  \n\n\nEncourage and engage with communicating through Reactions.  \n\n\nAnd more! \n\nYour Zoom link will be in the Additional Information section of the confirmation email you receive from Eventbrite when you register\, and in the confirmation email from Eventbrite you will receive one hour prior to the workshop. If you have any questions\, contact ftc@csun.edu \n**If you require an ASL interpreter\, please contact your department. \n***For Zoom captions – please pre-enable automated captions/transcript on the Zoom website (not the app) before the meeting begins as it cannot be turned on while the meeting is running. If you have any questions\, contact ftc@csun.edu
URL:https://news.csun.edu/event/zoom-beyond-the-basics-2/
LOCATION:Online via Zoom; Connection details provided upon registration
CATEGORIES:Information Technology,Zoom
ATTACH;FMTTYPE=image/png:https://news.csun.edu/wp-content/uploads/2024/12/Zoom-Workshops-e1736814710145.png
END:VEVENT
END:VCALENDAR