BEGIN:VCALENDAR
VERSION:2.0
PRODID:-//CSUN News &amp; Events - ECPv6.11.2//NONSGML v1.0//EN
CALSCALE:GREGORIAN
METHOD:PUBLISH
X-ORIGINAL-URL:https://news.csun.edu
X-WR-CALDESC:Events for CSUN News &amp; Events
REFRESH-INTERVAL;VALUE=DURATION:PT1H
X-Robots-Tag:noindex
X-PUBLISHED-TTL:PT1H
BEGIN:VTIMEZONE
TZID:America/Los_Angeles
BEGIN:DAYLIGHT
TZOFFSETFROM:-0800
TZOFFSETTO:-0700
TZNAME:PDT
DTSTART:20240310T100000
END:DAYLIGHT
BEGIN:STANDARD
TZOFFSETFROM:-0700
TZOFFSETTO:-0800
TZNAME:PST
DTSTART:20241103T090000
END:STANDARD
END:VTIMEZONE
BEGIN:VEVENT
DTSTART;TZID=America/Los_Angeles:20241205T140000
DTEND;TZID=America/Los_Angeles:20241205T150000
DTSTAMP:20260421T220516
CREATED:20241121T200924Z
LAST-MODIFIED:20241121T200924Z
UID:10004665-1733407200-1733410800@news.csun.edu
SUMMARY:Transitioning to Panopto from Canvas Studio
DESCRIPTION:Register for this event\nAs part of the broader HEERF Software Tools Transition\, this workshop is designed for instructors moving from Canvas Studio to Panopto. Learn how to efficiently transfer your video content and explore Panopto’s robust features\, including its accessible and versatile tools for presenting videos within Canvas.  \nFor more information on the HEERF transition\, visit 2025 HEERF Transition webpage and the dedicated Canvas Studio Transition webpage. \nYour Zoom link will be in the Additional Information section of the confirmation email you receive from Eventbrite when you register\, and in the confirmation email from Eventbrite you will receive one hour prior to the workshop. If you have any questions\, contact ftc@csun.edu \n**If you require an ASL interpreter\, please contact your department. \n***For Zoom captions – please pre-enable automated captions/transcript on the Zoom website (not the app) before the meeting begins as it cannot be turned on while the meeting is running. If you have any questions\, contact ftc@csun.edu
URL:https://news.csun.edu/event/transitioning-to-panopto-from-canvas-studio/
LOCATION:Online via Zoom; Connection details provided upon registration
CATEGORIES:Canvas,Information Technology,Learning Technologies,Panopto
ATTACH;FMTTYPE=image/png:https://news.csun.edu/wp-content/uploads/2024/11/HEERF-Workshop-Image-900x600-1-e1737159213485.png
END:VEVENT
END:VCALENDAR